BEGIN:VCALENDAR
VERSION:2.0
PRODID:-//AFLabs urnik izvoz - agrft//aflabs.si//SI
DTSTAMP:20260420T045731Z
NAME:Urnik-AGRFT
REFRESH-INTERVAL:PT1H
SOURCE:https://urnik.agrft.uni-lj.si/teacher/92?day=2025-04-14&export=1
URL:https://urnik.agrft.uni-lj.si/teacher/92?day=2025-04-14&export=1
X-PUBLISHED-TTL:PT1H
X-WR-CALNAME:Urnik-AGRFT
X-WR-TIMEZONE:Europe/Ljubljana
BEGIN:VTIMEZONE
TZID:Europe/Ljubljana
BEGIN:DAYLIGHT
DTSTART:20260329T020000
RDATE:20260329T020000
RDATE:20270328T020000
TZNAME:CEST
TZOFFSETFROM:+0100
TZOFFSETTO:+0200
END:DAYLIGHT
BEGIN:STANDARD
DTSTART:20261025T030000
RDATE:20261025T030000
RDATE:20271031T030000
TZNAME:CET
TZOFFSETFROM:+0200
TZOFFSETTO:+0100
END:STANDARD
END:VTIMEZONE
BEGIN:VEVENT
SUMMARY:Vaje za improvizirane prizore (rež. Tinkara Stonič)
DTSTART;TZID=Europe/Ljubljana:20250424T180000
DTEND;TZID=Europe/Ljubljana:20250424T204500
DTSTAMP:20260420T045731Z
UID:agrft-AFLABS-URNIK:rezervacija:2503
CATEGORIES:Reservation
COLOR:royalblue
DESCRIPTION:Predmeti: Igra pred kamero I - DI\, FTV (IPK-I [DI\, FTV])\, F
 ilmski praktikum I - FTV (FPR-I [FTV])\nLetniki: \nIzvajalci: Sebastijan C
 avazza\, Martin Srebotnjak\nProstori: FTV vadnica
LOCATION:Aškerčeva 5\, FTV vadnica
ORGANIZER:Sebastijan Cavazza, Martin Srebotnjak
X-WR-TIMEZONE:Europe/Ljubljana
END:VEVENT
BEGIN:VEVENT
SUMMARY:Vaje za improvizirane prizore
DTSTART;TZID=Europe/Ljubljana:20250417T170000
DTEND;TZID=Europe/Ljubljana:20250417T180000
DTSTAMP:20260420T045731Z
UID:agrft-AFLABS-URNIK:rezervacija:2446
CATEGORIES:Reservation
COLOR:royalblue
DESCRIPTION:Predmeti: Igra pred kamero I - DI\, FTV (IPK-I [DI\, FTV])\, F
 ilmski praktikum I - FTV (FPR-I [FTV])\nLetniki: \nIzvajalci: Sebastijan C
 avazza\, Martin Srebotnjak\nProstori: FTV vadnica
LOCATION:Aškerčeva 5\, FTV vadnica
ORGANIZER:Sebastijan Cavazza, Martin Srebotnjak
X-WR-TIMEZONE:Europe/Ljubljana
END:VEVENT
BEGIN:VEVENT
SUMMARY:Vaje za improvizirane prizore
DTSTART;TZID=Europe/Ljubljana:20250403T170000
DTEND;TZID=Europe/Ljubljana:20250403T190000
DTSTAMP:20260420T045731Z
UID:agrft-AFLABS-URNIK:rezervacija:2276
CATEGORIES:Reservation
COLOR:royalblue
DESCRIPTION:Predmeti: Igra pred kamero I - DI\, FTV (IPK-I [DI\, FTV])\, F
 ilmski praktikum I - FTV (FPR-I [FTV])\nLetniki: \nIzvajalci: Sebastijan C
 avazza\, Martin Srebotnjak\nProstori: FTV vadnica
LOCATION:Aškerčeva 5\, FTV vadnica
ORGANIZER:Sebastijan Cavazza, Martin Srebotnjak
X-WR-TIMEZONE:Europe/Ljubljana
END:VEVENT
BEGIN:VEVENT
SUMMARY:Vaje za Miniaturo (rež. Aneja Lango)
DTSTART;TZID=Europe/Ljubljana:20250516T140000
DTEND;TZID=Europe/Ljubljana:20250516T160000
DTSTAMP:20260420T045731Z
UID:agrft-AFLABS-URNIK:rezervacija:2736
ATTENDEE:DI 1 (DI 1)
ATTENDEE:FTV-R1 (FTV-R)
CATEGORIES:Reservation
COLOR:royalblue
DESCRIPTION:Predmeti: Uvod v igro pred kamero (UIPK)\nLetniki: DI 1 (DI 1)
 \, FTV-R1 (FTV-R)\nIzvajalci: Sebastijan Cavazza\, Martin Srebotnjak\nPros
 tori: Študijski oder 3
LOCATION:Aškerčeva 5\, Študijski oder 3
ORGANIZER:Sebastijan Cavazza, Martin Srebotnjak
X-WR-TIMEZONE:Europe/Ljubljana
END:VEVENT
BEGIN:VEVENT
SUMMARY:Vaje za improvizirane prizore
DTSTART;TZID=Europe/Ljubljana:20250327T170000
DTEND;TZID=Europe/Ljubljana:20250327T183000
DTSTAMP:20260420T045731Z
UID:agrft-AFLABS-URNIK:rezervacija:2209
CATEGORIES:Reservation
COLOR:royalblue
DESCRIPTION:Predmeti: Igra pred kamero I - DI\, FTV (IPK-I [DI\, FTV])\nLe
 tniki: \nIzvajalci: Sebastijan Cavazza\, Martin Srebotnjak\nProstori: AV p
 redavalnica 3
LOCATION:Aškerčeva 5\, AV predavalnica 3
ORGANIZER:Sebastijan Cavazza, Martin Srebotnjak
X-WR-TIMEZONE:Europe/Ljubljana
END:VEVENT
BEGIN:VEVENT
SUMMARY:Blok
DTSTART;TZID=Europe/Ljubljana:20250510T100000
DTEND;TZID=Europe/Ljubljana:20250510T180000
DTSTAMP:20260420T045731Z
UID:agrft-AFLABS-URNIK:rezervacija:2658
ATTENDEE:DI 1 (DI 1)
ATTENDEE:FTV-R1 (FTV-R)
CATEGORIES:Reservation
COLOR:royalblue
DESCRIPTION:Predmeti: Filmska režija I - FTV (FR-I [FTV])\, Uvod v igro p
 red kamero (UIPK)\nLetniki: DI 1 (DI 1)\, FTV-R1 (FTV-R)\nIzvajalci: Sebas
 tijan Cavazza\, Martin Srebotnjak\nProstori: Mali studio\, Študijski oder
  3\, Veliki studio
LOCATION:Aškerčeva 5\, Mali studio\, Aškerčeva 5\, Študijski oder 3\,
  Aškerčeva 5\, Veliki studio
ORGANIZER:Sebastijan Cavazza, Martin Srebotnjak
X-WR-TIMEZONE:Europe/Ljubljana
END:VEVENT
BEGIN:VEVENT
SUMMARY:Blok ure
DTSTART;TZID=Europe/Ljubljana:20250418T160000
DTEND;TZID=Europe/Ljubljana:20250418T200000
DTSTAMP:20260420T045731Z
UID:agrft-AFLABS-URNIK:rezervacija:2460
ATTENDEE:DI 1 (DI 1)
ATTENDEE:FTV-R1 (FTV-R)
CATEGORIES:Reservation
COLOR:royalblue
DESCRIPTION:Predmeti: Uvod v igro pred kamero (UIPK)\nLetniki: DI 1 (DI 1)
 \, FTV-R1 (FTV-R)\nIzvajalci: Sebastijan Cavazza\, Martin Srebotnjak\nPros
 tori: Študijski oder 4
LOCATION:Aškerčeva 5\, Študijski oder 4
ORGANIZER:Sebastijan Cavazza, Martin Srebotnjak
X-WR-TIMEZONE:Europe/Ljubljana
END:VEVENT
BEGIN:VEVENT
SUMMARY:Blok ure
DTSTART;TZID=Europe/Ljubljana:20250418T160000
DTEND;TZID=Europe/Ljubljana:20250418T200000
DTSTAMP:20260420T045731Z
UID:agrft-AFLABS-URNIK:rezervacija:2459
ATTENDEE:DI 1 (DI 1)
ATTENDEE:FTV-R1 (FTV-R)
CATEGORIES:Reservation
COLOR:royalblue
DESCRIPTION:Predmeti: Uvod v igro pred kamero (UIPK)\nLetniki: DI 1 (DI 1)
 \, FTV-R1 (FTV-R)\nIzvajalci: Sebastijan Cavazza\, Martin Srebotnjak\nPros
 tori: AV predavalnica 2\, AV predavalnica 3
LOCATION:Aškerčeva 5\, AV predavalnica 2\, Aškerčeva 5\, AV predavalni
 ca 3
ORGANIZER:Sebastijan Cavazza, Martin Srebotnjak
X-WR-TIMEZONE:Europe/Ljubljana
END:VEVENT
END:VCALENDAR
