BEGIN:VCALENDAR
VERSION:2.0
PRODID:-//AFLabs urnik izvoz - agrft//aflabs.si//SI
DTSTAMP:20260424T154851Z
NAME:Urnik-AGRFT
REFRESH-INTERVAL:PT1H
SOURCE:https://urnik.agrft.uni-lj.si/teacher/8?day=2025-12-08&export=1
URL:https://urnik.agrft.uni-lj.si/teacher/8?day=2025-12-08&export=1
X-PUBLISHED-TTL:PT1H
X-WR-CALNAME:Urnik-AGRFT
X-WR-TIMEZONE:Europe/Ljubljana
BEGIN:VTIMEZONE
TZID:Europe/Ljubljana
BEGIN:DAYLIGHT
DTSTART:20260329T020000
RDATE:20260329T020000
RDATE:20270328T020000
TZNAME:CEST
TZOFFSETFROM:+0100
TZOFFSETTO:+0200
END:DAYLIGHT
BEGIN:STANDARD
DTSTART:20261025T030000
RDATE:20261025T030000
RDATE:20271031T030000
TZNAME:CET
TZOFFSETFROM:+0200
TZOFFSETTO:+0100
END:STANDARD
END:VTIMEZONE
BEGIN:VEVENT
SUMMARY:SPT1\, 2
DTSTART;TZID=Europe/Ljubljana:20260108T103000
DTEND;TZID=Europe/Ljubljana:20260108T143000
DTSTAMP:20260424T154851Z
UID:agrft-AFLABS-URNIK:rezervacija:4636
CATEGORIES:Reservation
COLOR:royalblue
DESCRIPTION:Predmeti: \nLetniki: \nIzvajalci: Uršula Teržan\nProstori: P
 lesna dvorana
LOCATION:Aškerčeva 5\, Plesna dvorana
ORGANIZER:Uršula Teržan
X-WR-TIMEZONE:Europe/Ljubljana
END:VEVENT
BEGIN:VEVENT
SUMMARY:SPT1\, 2
DTSTART;TZID=Europe/Ljubljana:20260106T093000
DTEND;TZID=Europe/Ljubljana:20260106T124500
DTSTAMP:20260424T154851Z
UID:agrft-AFLABS-URNIK:rezervacija:4635
CATEGORIES:Reservation
COLOR:royalblue
DESCRIPTION:Predmeti: \nLetniki: \nIzvajalci: Uršula Teržan\nProstori: P
 lesna dvorana
LOCATION:Aškerčeva 5\, Plesna dvorana
ORGANIZER:Uršula Teržan
X-WR-TIMEZONE:Europe/Ljubljana
END:VEVENT
BEGIN:VEVENT
SUMMARY:Ann Papoulis
DTSTART;TZID=Europe/Ljubljana:20251104T073000
DTEND;TZID=Europe/Ljubljana:20251104T093000
DTSTAMP:20260424T154851Z
UID:agrft-AFLABS-URNIK:rezervacija:3875
CATEGORIES:Reservation
COLOR:royalblue
DESCRIPTION:Predmeti: \nLetniki: \nIzvajalci: Uršula Teržan\nProstori: P
 lesna dvorana
LOCATION:Aškerčeva 5\, Plesna dvorana
ORGANIZER:Uršula Teržan
X-WR-TIMEZONE:Europe/Ljubljana
END:VEVENT
BEGIN:VEVENT
SUMMARY:Ann Papoulis
DTSTART;TZID=Europe/Ljubljana:20251125T073000
DTEND;TZID=Europe/Ljubljana:20251125T093000
DTSTAMP:20260424T154851Z
UID:agrft-AFLABS-URNIK:rezervacija:3879
CATEGORIES:Reservation
COLOR:royalblue
DESCRIPTION:Predmeti: \nLetniki: \nIzvajalci: Uršula Teržan\nProstori: P
 lesna dvorana
LOCATION:Aškerčeva 5\, Plesna dvorana
ORGANIZER:Uršula Teržan
X-WR-TIMEZONE:Europe/Ljubljana
END:VEVENT
BEGIN:VEVENT
SUMMARY:Ann Papoulis
DTSTART;TZID=Europe/Ljubljana:20251127T083000
DTEND;TZID=Europe/Ljubljana:20251127T103000
DTSTAMP:20260424T154851Z
UID:agrft-AFLABS-URNIK:rezervacija:3883
CATEGORIES:Reservation
COLOR:royalblue
DESCRIPTION:Predmeti: \nLetniki: \nIzvajalci: Uršula Teržan\nProstori: P
 lesna dvorana
LOCATION:Aškerčeva 5\, Plesna dvorana
ORGANIZER:Uršula Teržan
X-WR-TIMEZONE:Europe/Ljubljana
END:VEVENT
BEGIN:VEVENT
SUMMARY:Ann Papoulis
DTSTART;TZID=Europe/Ljubljana:20251202T073000
DTEND;TZID=Europe/Ljubljana:20251202T093000
DTSTAMP:20260424T154851Z
UID:agrft-AFLABS-URNIK:rezervacija:3880
CATEGORIES:Reservation
COLOR:royalblue
DESCRIPTION:Predmeti: \nLetniki: \nIzvajalci: Uršula Teržan\nProstori: P
 lesna dvorana
LOCATION:Aškerčeva 5\, Plesna dvorana
ORGANIZER:Uršula Teržan
X-WR-TIMEZONE:Europe/Ljubljana
END:VEVENT
BEGIN:VEVENT
SUMMARY:Ann Papoulis
DTSTART;TZID=Europe/Ljubljana:20251106T083000
DTEND;TZID=Europe/Ljubljana:20251106T103000
DTSTAMP:20260424T154851Z
UID:agrft-AFLABS-URNIK:rezervacija:3876
CATEGORIES:Reservation
COLOR:royalblue
DESCRIPTION:Predmeti: \nLetniki: \nIzvajalci: Uršula Teržan\nProstori: P
 lesna dvorana
LOCATION:Aškerčeva 5\, Plesna dvorana
ORGANIZER:Uršula Teržan
X-WR-TIMEZONE:Europe/Ljubljana
END:VEVENT
BEGIN:VEVENT
SUMMARY:Ann Papoulis
DTSTART;TZID=Europe/Ljubljana:20251204T083000
DTEND;TZID=Europe/Ljubljana:20251204T103000
DTSTAMP:20260424T154851Z
UID:agrft-AFLABS-URNIK:rezervacija:3884
CATEGORIES:Reservation
COLOR:royalblue
DESCRIPTION:Predmeti: \nLetniki: \nIzvajalci: Uršula Teržan\nProstori: P
 lesna dvorana
LOCATION:Aškerčeva 5\, Plesna dvorana
ORGANIZER:Uršula Teržan
X-WR-TIMEZONE:Europe/Ljubljana
END:VEVENT
BEGIN:VEVENT
SUMMARY:Ann Papoulis
DTSTART;TZID=Europe/Ljubljana:20251113T083000
DTEND;TZID=Europe/Ljubljana:20251113T103000
DTSTAMP:20260424T154851Z
UID:agrft-AFLABS-URNIK:rezervacija:3881
CATEGORIES:Reservation
COLOR:royalblue
DESCRIPTION:Predmeti: \nLetniki: \nIzvajalci: Uršula Teržan\nProstori: P
 lesna dvorana
LOCATION:Aškerčeva 5\, Plesna dvorana
ORGANIZER:Uršula Teržan
X-WR-TIMEZONE:Europe/Ljubljana
END:VEVENT
BEGIN:VEVENT
SUMMARY:SPT2
DTSTART;TZID=Europe/Ljubljana:20251121T090000
DTEND;TZID=Europe/Ljubljana:20251121T100000
DTSTAMP:20260424T154851Z
UID:agrft-AFLABS-URNIK:rezervacija:4136
CATEGORIES:Reservation
COLOR:royalblue
DESCRIPTION:Predmeti: \nLetniki: \nIzvajalci: Uršula Teržan\nProstori: P
 lesna dvorana
LOCATION:Aškerčeva 5\, Plesna dvorana
ORGANIZER:Uršula Teržan
X-WR-TIMEZONE:Europe/Ljubljana
END:VEVENT
BEGIN:VEVENT
SUMMARY:Ann Papoulis
DTSTART;TZID=Europe/Ljubljana:20251118T073000
DTEND;TZID=Europe/Ljubljana:20251118T093000
DTSTAMP:20260424T154851Z
UID:agrft-AFLABS-URNIK:rezervacija:3878
CATEGORIES:Reservation
COLOR:royalblue
DESCRIPTION:Predmeti: \nLetniki: \nIzvajalci: Uršula Teržan\nProstori: P
 lesna dvorana
LOCATION:Aškerčeva 5\, Plesna dvorana
ORGANIZER:Uršula Teržan
X-WR-TIMEZONE:Europe/Ljubljana
END:VEVENT
BEGIN:VEVENT
SUMMARY:Ann Papoulis
DTSTART;TZID=Europe/Ljubljana:20251120T083000
DTEND;TZID=Europe/Ljubljana:20251120T103000
DTSTAMP:20260424T154851Z
UID:agrft-AFLABS-URNIK:rezervacija:3882
CATEGORIES:Reservation
COLOR:royalblue
DESCRIPTION:Predmeti: \nLetniki: \nIzvajalci: Uršula Teržan\nProstori: P
 lesna dvorana
LOCATION:Aškerčeva 5\, Plesna dvorana
ORGANIZER:Uršula Teržan
X-WR-TIMEZONE:Europe/Ljubljana
END:VEVENT
BEGIN:VEVENT
SUMMARY:Ann Papoulis
DTSTART;TZID=Europe/Ljubljana:20251111T073000
DTEND;TZID=Europe/Ljubljana:20251111T093000
DTSTAMP:20260424T154851Z
UID:agrft-AFLABS-URNIK:rezervacija:3877
CATEGORIES:Reservation
COLOR:royalblue
DESCRIPTION:Predmeti: \nLetniki: \nIzvajalci: Uršula Teržan\nProstori: P
 lesna dvorana
LOCATION:Aškerčeva 5\, Plesna dvorana
ORGANIZER:Uršula Teržan
X-WR-TIMEZONE:Europe/Ljubljana
END:VEVENT
END:VCALENDAR
