BEGIN:VCALENDAR
VERSION:2.0
PRODID:-//AFLabs urnik izvoz - agrft//aflabs.si//SI
DTSTAMP:20260422T065307Z
NAME:Urnik-AGRFT
REFRESH-INTERVAL:PT1H
SOURCE:https://urnik.agrft.uni-lj.si/teacher/67?day=2026-07-06&export=1
URL:https://urnik.agrft.uni-lj.si/teacher/67?day=2026-07-06&export=1
X-PUBLISHED-TTL:PT1H
X-WR-CALNAME:Urnik-AGRFT
X-WR-TIMEZONE:Europe/Ljubljana
BEGIN:VTIMEZONE
TZID:Europe/Ljubljana
BEGIN:DAYLIGHT
DTSTART:20260329T020000
RDATE:20260329T020000
RDATE:20270328T020000
TZNAME:CEST
TZOFFSETFROM:+0100
TZOFFSETTO:+0200
END:DAYLIGHT
BEGIN:STANDARD
DTSTART:20261025T030000
RDATE:20261025T030000
RDATE:20271031T030000
TZNAME:CET
TZOFFSETFROM:+0200
TZOFFSETTO:+0100
END:STANDARD
END:VTIMEZONE
BEGIN:VEVENT
SUMMARY:Filmska režija II - FTV (FR-II [FTV])\, predavanje (P)
DTSTART;TZID=Europe/Ljubljana:20260602T101500
DTEND;TZID=Europe/Ljubljana:20260602T114500
DTSTAMP:20260422T065307Z
UID:agrft-AFLABS-URNIK:premaknjeno-srecanje:131430
ATTENDEE:FTV-R2 (FTV-R)
CATEGORIES:Entry,Standard
COLOR:darkgreen
DESCRIPTION:Predmet: Filmska režija II - FTV (FR-II [FTV])\, predavanje (
 P)\nLetniki: \nIzvajalci: Miran Zupanič\nProstor: AV predavalnica 3
LOCATION:Aškerčeva 5\, AV predavalnica 3
ORGANIZER:Miran Zupanič
RELATED-TO:agrft-AFLABS-URNIK:srecanje:5968
X-WR-TIMEZONE:Europe/Ljubljana
END:VEVENT
BEGIN:VEVENT
SUMMARY:Filmska režija II - FTV (FR-II [FTV])\, seminar (S)
DTSTART;TZID=Europe/Ljubljana:20260602T083000
DTEND;TZID=Europe/Ljubljana:20260602T100000
DTSTAMP:20260422T065307Z
UID:agrft-AFLABS-URNIK:premaknjeno-srecanje:131446
ATTENDEE:FTV-R2 (FTV-R)
CATEGORIES:Entry,Standard
COLOR:darkgreen
DESCRIPTION:Predmet: Filmska režija II - FTV (FR-II [FTV])\, seminar (S)\
 nLetniki: \nIzvajalci: Miran Zupanič\nProstor: AV predavalnica 3
LOCATION:Aškerčeva 5\, AV predavalnica 3
ORGANIZER:Miran Zupanič
RELATED-TO:agrft-AFLABS-URNIK:srecanje:5967
X-WR-TIMEZONE:Europe/Ljubljana
END:VEVENT
BEGIN:VEVENT
SUMMARY:Filmska režija II - FTV (FR-II [FTV])\, seminar (S)
DTSTART;TZID=Europe/Ljubljana:20260602T083000
DTEND;TZID=Europe/Ljubljana:20260602T100000
DTSTAMP:20260422T065307Z
UID:agrft-AFLABS-URNIK:premaknjeno-srecanje:148945
ATTENDEE:FTV-R2 (FTV-R)
CATEGORIES:Entry,Standard
COLOR:darkgreen
DESCRIPTION:Predmet: Filmska režija II - FTV (FR-II [FTV])\, seminar (S)\
 nLetniki: \nIzvajalci: Miran Zupanič\nProstor: Kinodvorana
LOCATION:Aškerčeva 5\, Kinodvorana
ORGANIZER:Miran Zupanič
RELATED-TO:agrft-AFLABS-URNIK:srecanje:5969
X-WR-TIMEZONE:Europe/Ljubljana
END:VEVENT
BEGIN:VEVENT
SUMMARY:Filmska režija II - FTV (FR-II [FTV])\, predavanje (P)
DTSTART;TZID=Europe/Ljubljana:20260602T101500
DTEND;TZID=Europe/Ljubljana:20260602T114500
DTSTAMP:20260422T065307Z
UID:agrft-AFLABS-URNIK:premaknjeno-srecanje:148961
ATTENDEE:FTV-R2 (FTV-R)
CATEGORIES:Entry,Standard
COLOR:darkgreen
DESCRIPTION:Predmet: Filmska režija II - FTV (FR-II [FTV])\, predavanje (
 P)\nLetniki: \nIzvajalci: Miran Zupanič\nProstor: Kinodvorana
LOCATION:Aškerčeva 5\, Kinodvorana
ORGANIZER:Miran Zupanič
RELATED-TO:agrft-AFLABS-URNIK:srecanje:5970
X-WR-TIMEZONE:Europe/Ljubljana
END:VEVENT
BEGIN:VEVENT
SUMMARY:Kinofilm: UKRAJINSKI FILM 4
DTSTART;TZID=Europe/Ljubljana:20260603T170000
DTEND;TZID=Europe/Ljubljana:20260603T210000
DTSTAMP:20260422T065307Z
UID:agrft-AFLABS-URNIK:rezervacija:4592
CATEGORIES:Reservation
COLOR:royalblue
DESCRIPTION:Predmeti: \nLetniki: \nIzvajalci: Miran Zupanič\nProstori: Ki
 nodvorana
LOCATION:Aškerčeva 5\, Kinodvorana
ORGANIZER:Miran Zupanič
X-WR-TIMEZONE:Europe/Ljubljana
END:VEVENT
BEGIN:VEVENT
SUMMARY:Kinofilm - GRUZIJSKI FILM 2
DTSTART;TZID=Europe/Ljubljana:20260610T170000
DTEND;TZID=Europe/Ljubljana:20260610T210000
DTSTAMP:20260422T065307Z
UID:agrft-AFLABS-URNIK:rezervacija:5743
CATEGORIES:Reservation
COLOR:royalblue
DESCRIPTION:Predmeti: \nLetniki: \nIzvajalci: Miran Zupanič\nProstori: Ki
 nodvorana
LOCATION:Aškerčeva 5\, Kinodvorana
ORGANIZER:Miran Zupanič
X-WR-TIMEZONE:Europe/Ljubljana
END:VEVENT
BEGIN:VEVENT
SUMMARY:Kinofilm: BOG NE BO POMAGAL
DTSTART;TZID=Europe/Ljubljana:20260617T170000
DTEND;TZID=Europe/Ljubljana:20260617T210000
DTSTAMP:20260422T065307Z
UID:agrft-AFLABS-URNIK:rezervacija:5744
CATEGORIES:Reservation
COLOR:royalblue
DESCRIPTION:Predmeti: \nLetniki: \nIzvajalci: Miran Zupanič\nProstori: Ki
 nodvorana
LOCATION:Aškerčeva 5\, Kinodvorana
ORGANIZER:Miran Zupanič
X-WR-TIMEZONE:Europe/Ljubljana
END:VEVENT
BEGIN:VEVENT
SUMMARY:Kinofilm -  KINO!
DTSTART;TZID=Europe/Ljubljana:20260601T170000
DTEND;TZID=Europe/Ljubljana:20260601T210000
DTSTAMP:20260422T065307Z
UID:agrft-AFLABS-URNIK:rezervacija:5903
CATEGORIES:Reservation
COLOR:royalblue
DESCRIPTION:Predmeti: \nLetniki: \nIzvajalci: Miran Zupanič\nProstori: Ki
 nodvorana
LOCATION:Aškerčeva 5\, Kinodvorana
ORGANIZER:Miran Zupanič
X-WR-TIMEZONE:Europe/Ljubljana
END:VEVENT
BEGIN:VEVENT
SUMMARY:Dnevi črnogorskega filma
DTSTART;TZID=Europe/Ljubljana:20260611T080000
DTEND;TZID=Europe/Ljubljana:20260611T210000
DTSTAMP:20260422T065307Z
UID:agrft-AFLABS-URNIK:rezervacija:5939
CATEGORIES:Reservation
COLOR:royalblue
DESCRIPTION:Predmeti: \nLetniki: \nIzvajalci: Miran Zupanič\nProstori: AV
  predavalnica 1
LOCATION:Aškerčeva 5\, AV predavalnica 1
ORGANIZER:Miran Zupanič
X-WR-TIMEZONE:Europe/Ljubljana
END:VEVENT
BEGIN:VEVENT
SUMMARY:Dnevi črnogorskega filma
DTSTART;TZID=Europe/Ljubljana:20260612T080000
DTEND;TZID=Europe/Ljubljana:20260612T210000
DTSTAMP:20260422T065307Z
UID:agrft-AFLABS-URNIK:rezervacija:5941
CATEGORIES:Reservation
COLOR:royalblue
DESCRIPTION:Predmeti: \nLetniki: \nIzvajalci: Miran Zupanič\nProstori: AV
  predavalnica 1
LOCATION:Aškerčeva 5\, AV predavalnica 1
ORGANIZER:Miran Zupanič
X-WR-TIMEZONE:Europe/Ljubljana
END:VEVENT
BEGIN:VEVENT
SUMMARY:Dnevi črnogorskega filma
DTSTART;TZID=Europe/Ljubljana:20260611T140000
DTEND;TZID=Europe/Ljubljana:20260611T210000
DTSTAMP:20260422T065307Z
UID:agrft-AFLABS-URNIK:rezervacija:5944
CATEGORIES:Reservation
COLOR:royalblue
DESCRIPTION:Predmeti: \nLetniki: \nIzvajalci: Miran Zupanič\nProstori: Ki
 nodvorana
LOCATION:Aškerčeva 5\, Kinodvorana
ORGANIZER:Miran Zupanič
X-WR-TIMEZONE:Europe/Ljubljana
END:VEVENT
BEGIN:VEVENT
SUMMARY:Dnevi črnogorskega filma
DTSTART;TZID=Europe/Ljubljana:20260612T080000
DTEND;TZID=Europe/Ljubljana:20260612T210000
DTSTAMP:20260422T065307Z
UID:agrft-AFLABS-URNIK:rezervacija:5945
CATEGORIES:Reservation
COLOR:royalblue
DESCRIPTION:Predmeti: \nLetniki: \nIzvajalci: Miran Zupanič\nProstori: Ki
 nodvorana
LOCATION:Aškerčeva 5\, Kinodvorana
ORGANIZER:Miran Zupanič
X-WR-TIMEZONE:Europe/Ljubljana
END:VEVENT
END:VCALENDAR
