BEGIN:VCALENDAR
VERSION:2.0
PRODID:-//AFLabs urnik izvoz - agrft//aflabs.si//SI
DTSTAMP:20260421T161045Z
NAME:Urnik-AGRFT
REFRESH-INTERVAL:PT1H
SOURCE:https://urnik.agrft.uni-lj.si/teacher/67?day=2025-01-06&export=1
URL:https://urnik.agrft.uni-lj.si/teacher/67?day=2025-01-06&export=1
X-PUBLISHED-TTL:PT1H
X-WR-CALNAME:Urnik-AGRFT
X-WR-TIMEZONE:Europe/Ljubljana
BEGIN:VTIMEZONE
TZID:Europe/Ljubljana
BEGIN:DAYLIGHT
DTSTART:20260329T020000
RDATE:20260329T020000
RDATE:20270328T020000
TZNAME:CEST
TZOFFSETFROM:+0100
TZOFFSETTO:+0200
END:DAYLIGHT
BEGIN:STANDARD
DTSTART:20261025T030000
RDATE:20261025T030000
RDATE:20271031T030000
TZNAME:CET
TZOFFSETFROM:+0200
TZOFFSETTO:+0100
END:STANDARD
END:VTIMEZONE
BEGIN:VEVENT
SUMMARY:podaljšan termin
DTSTART;TZID=Europe/Ljubljana:20250117T123000
DTEND;TZID=Europe/Ljubljana:20250117T134500
DTSTAMP:20260421T161045Z
UID:agrft-AFLABS-URNIK:rezervacija:1721
CATEGORIES:Reservation
COLOR:royalblue
DESCRIPTION:Predmeti: Filmski praktikum II - FTV (FPR-II [FTV])\nLetniki: 
 \nIzvajalci: Miran Zupanič\nProstori: AV predavalnica 1
LOCATION:Aškerčeva 5\, AV predavalnica 1
ORGANIZER:Miran Zupanič
X-WR-TIMEZONE:Europe/Ljubljana
END:VEVENT
BEGIN:VEVENT
SUMMARY:ogled študijskih filmov
DTSTART;TZID=Europe/Ljubljana:20250204T084500
DTEND;TZID=Europe/Ljubljana:20250204T123000
DTSTAMP:20260421T161045Z
UID:agrft-AFLABS-URNIK:rezervacija:1809
CATEGORIES:Reservation
COLOR:royalblue
DESCRIPTION:Predmeti: Filmska režija III - FTV (FR-III [FTV])\nLetniki: \
 nIzvajalci: Miran Zupanič\nProstori: Kinodvorana
LOCATION:Aškerčeva 5\, Kinodvorana
ORGANIZER:Miran Zupanič
X-WR-TIMEZONE:Europe/Ljubljana
END:VEVENT
BEGIN:VEVENT
SUMMARY:ogled Prizora 3 v1
DTSTART;TZID=Europe/Ljubljana:20250110T103000
DTEND;TZID=Europe/Ljubljana:20250110T123000
DTSTAMP:20260421T161045Z
UID:agrft-AFLABS-URNIK:rezervacija:1672
CATEGORIES:Reservation
COLOR:royalblue
DESCRIPTION:Predmeti: Filmski praktikum II - FTV (FPR-II [FTV])\nLetniki: 
 \nIzvajalci: Miran Zupanič\nProstori: Kinodvorana
LOCATION:Aškerčeva 5\, Kinodvorana
ORGANIZER:Miran Zupanič
X-WR-TIMEZONE:Europe/Ljubljana
END:VEVENT
BEGIN:VEVENT
SUMMARY:Kolokvij in izpit
DTSTART;TZID=Europe/Ljubljana:20250130T123000
DTEND;TZID=Europe/Ljubljana:20250130T204500
DTSTAMP:20260421T161045Z
UID:agrft-AFLABS-URNIK:rezervacija:1795
CATEGORIES:Reservation
COLOR:royalblue
DESCRIPTION:Predmeti: Filmski praktikum II - FTV (FPR-II [FTV])\, Filmska 
 režija III - FTV (FR-III [FTV])\nLetniki: \nIzvajalci: Miran Zupanič\nPr
 ostori: AV predavalnica 3
LOCATION:Aškerčeva 5\, AV predavalnica 3
ORGANIZER:Miran Zupanič
X-WR-TIMEZONE:Europe/Ljubljana
END:VEVENT
BEGIN:VEVENT
SUMMARY:predprodukcijski sestanek
DTSTART;TZID=Europe/Ljubljana:20250121T100000
DTEND;TZID=Europe/Ljubljana:20250121T120000
DTSTAMP:20260421T161045Z
UID:agrft-AFLABS-URNIK:rezervacija:1741
CATEGORIES:Reservation
COLOR:royalblue
DESCRIPTION:Predmeti: Filmska režija III - FTV (FR-III [FTV])\nLetniki: \
 nIzvajalci: Miran Zupanič\nProstori: AV predavalnica 1
LOCATION:Aškerčeva 5\, AV predavalnica 1
ORGANIZER:Miran Zupanič
X-WR-TIMEZONE:Europe/Ljubljana
END:VEVENT
BEGIN:VEVENT
SUMMARY:vaje za Fabulo
DTSTART;TZID=Europe/Ljubljana:20250120T133000
DTEND;TZID=Europe/Ljubljana:20250120T204500
DTSTAMP:20260421T161045Z
UID:agrft-AFLABS-URNIK:rezervacija:1732
CATEGORIES:Reservation
COLOR:royalblue
DESCRIPTION:Predmeti: \nLetniki: \nIzvajalci: Miran Zupanič\nProstori: FT
 V vadnica
LOCATION:Aškerčeva 5\, FTV vadnica
ORGANIZER:Miran Zupanič
X-WR-TIMEZONE:Europe/Ljubljana
END:VEVENT
BEGIN:VEVENT
SUMMARY:avdicija
DTSTART;TZID=Europe/Ljubljana:20250128T100000
DTEND;TZID=Europe/Ljubljana:20250128T180000
DTSTAMP:20260421T161045Z
UID:agrft-AFLABS-URNIK:rezervacija:1779
CATEGORIES:Reservation
COLOR:royalblue
DESCRIPTION:Predmeti: Izvedba igranega filma - režija - FTV (IGRF-R [FTV]
 )\nLetniki: \nIzvajalci: Miran Zupanič\nProstori: FTV vadnica
LOCATION:Aškerčeva 5\, FTV vadnica
ORGANIZER:Miran Zupanič
X-WR-TIMEZONE:Europe/Ljubljana
END:VEVENT
BEGIN:VEVENT
SUMMARY:Lina Bensa - vaje z igralci
DTSTART;TZID=Europe/Ljubljana:20250206T110000
DTEND;TZID=Europe/Ljubljana:20250206T204500
DTSTAMP:20260421T161045Z
UID:agrft-AFLABS-URNIK:rezervacija:1832
CATEGORIES:Reservation
COLOR:royalblue
DESCRIPTION:Predmeti: Izvedba igranega filma - režija - FTV (IGRF-R [FTV]
 )\nLetniki: \nIzvajalci: Miran Zupanič\nProstori: FTV vadnica
LOCATION:Aškerčeva 5\, FTV vadnica
ORGANIZER:Miran Zupanič
X-WR-TIMEZONE:Europe/Ljubljana
END:VEVENT
BEGIN:VEVENT
SUMMARY:Jure Štern - vaje z igralci
DTSTART;TZID=Europe/Ljubljana:20250207T140000
DTEND;TZID=Europe/Ljubljana:20250207T160000
DTSTAMP:20260421T161045Z
UID:agrft-AFLABS-URNIK:rezervacija:1846
CATEGORIES:Reservation
COLOR:royalblue
DESCRIPTION:Predmeti: Izvedba igranega filma - režija - FTV (IGRF-R [FTV]
 )\nLetniki: \nIzvajalci: Miran Zupanič\nProstori: FTV vadnica
LOCATION:Aškerčeva 5\, FTV vadnica
ORGANIZER:Miran Zupanič
X-WR-TIMEZONE:Europe/Ljubljana
END:VEVENT
BEGIN:VEVENT
SUMMARY:obisk študentov Univerze na Primorskem
DTSTART;TZID=Europe/Ljubljana:20250110T134500
DTEND;TZID=Europe/Ljubljana:20250110T150000
DTSTAMP:20260421T161045Z
UID:agrft-AFLABS-URNIK:rezervacija:1678
CATEGORIES:Reservation
COLOR:royalblue
DESCRIPTION:Predmeti: \nLetniki: \nIzvajalci: Miran Zupanič\nProstori: Ki
 nodvorana
LOCATION:Aškerčeva 5\, Kinodvorana
ORGANIZER:Miran Zupanič
X-WR-TIMEZONE:Europe/Ljubljana
END:VEVENT
BEGIN:VEVENT
SUMMARY:izpit
DTSTART;TZID=Europe/Ljubljana:20250203T160000
DTEND;TZID=Europe/Ljubljana:20250203T180000
DTSTAMP:20260421T161045Z
UID:agrft-AFLABS-URNIK:rezervacija:1806
CATEGORIES:Reservation
COLOR:royalblue
DESCRIPTION:Predmeti: Scensko oblikovanje v filmu -  SCOB (SCOBVF [SCOB])\
 nLetniki: \nIzvajalci: Miran Zupanič\nProstori: AV predavalnica 2
LOCATION:Aškerčeva 5\, AV predavalnica 2
ORGANIZER:Miran Zupanič
X-WR-TIMEZONE:Europe/Ljubljana
END:VEVENT
BEGIN:VEVENT
SUMMARY:testna projekcija DCP-ja TV drame SVOBODA OSVOBAJA
DTSTART;TZID=Europe/Ljubljana:20250121T084500
DTEND;TZID=Europe/Ljubljana:20250121T100000
DTSTAMP:20260421T161045Z
UID:agrft-AFLABS-URNIK:rezervacija:1740
CATEGORIES:Reservation
COLOR:royalblue
DESCRIPTION:Predmeti: \nLetniki: \nIzvajalci: Miran Zupanič\nProstori: Ki
 nodvorana
LOCATION:Aškerčeva 5\, Kinodvorana
ORGANIZER:Miran Zupanič
X-WR-TIMEZONE:Europe/Ljubljana
END:VEVENT
BEGIN:VEVENT
SUMMARY:ogled Prizora 3 v2
DTSTART;TZID=Europe/Ljubljana:20250117T103000
DTEND;TZID=Europe/Ljubljana:20250117T123000
DTSTAMP:20260421T161045Z
UID:agrft-AFLABS-URNIK:rezervacija:1719
CATEGORIES:Reservation
COLOR:royalblue
DESCRIPTION:Predmeti: Filmski praktikum II - FTV (FPR-II [FTV])\nLetniki: 
 \nIzvajalci: Miran Zupanič\nProstori: Kinodvorana
LOCATION:Aškerčeva 5\, Kinodvorana
ORGANIZER:Miran Zupanič
X-WR-TIMEZONE:Europe/Ljubljana
END:VEVENT
BEGIN:VEVENT
SUMMARY:avdicija za študijski film POČITNIŠKI DAN
DTSTART;TZID=Europe/Ljubljana:20250205T100000
DTEND;TZID=Europe/Ljubljana:20250205T180000
DTSTAMP:20260421T161045Z
UID:agrft-AFLABS-URNIK:rezervacija:1823
CATEGORIES:Reservation
COLOR:royalblue
DESCRIPTION:Predmeti: Izvedba igranega filma - režija - FTV (IGRF-R [FTV]
 )\nLetniki: \nIzvajalci: Miran Zupanič\nProstori: FTV vadnica
LOCATION:Aškerčeva 5\, FTV vadnica
ORGANIZER:Miran Zupanič
X-WR-TIMEZONE:Europe/Ljubljana
END:VEVENT
BEGIN:VEVENT
SUMMARY:snemanje  dokumentarca o Olgi Čuk Pajek (Saška Jenič)
DTSTART;TZID=Europe/Ljubljana:20250130T100000
DTEND;TZID=Europe/Ljubljana:20250130T110000
DTSTAMP:20260421T161045Z
UID:agrft-AFLABS-URNIK:rezervacija:1793
CATEGORIES:Reservation
COLOR:royalblue
DESCRIPTION:Predmeti: \nLetniki: \nIzvajalci: Miran Zupanič\nProstori: Ki
 nodvorana
LOCATION:Aškerčeva 5\, Kinodvorana
ORGANIZER:Miran Zupanič
X-WR-TIMEZONE:Europe/Ljubljana
END:VEVENT
BEGIN:VEVENT
SUMMARY:POČITNIŠKI DAN - Zgodboris 1
DTSTART;TZID=Europe/Ljubljana:20250206T170000
DTEND;TZID=Europe/Ljubljana:20250206T191500
DTSTAMP:20260421T161045Z
UID:agrft-AFLABS-URNIK:rezervacija:1838
CATEGORIES:Reservation
COLOR:royalblue
DESCRIPTION:Predmeti: Izvedba igranega filma - režija - FTV (IGRF-R [FTV]
 )\nLetniki: \nIzvajalci: Miran Zupanič\nProstori: AV predavalnica 1
LOCATION:Aškerčeva 5\, AV predavalnica 1
ORGANIZER:Miran Zupanič
X-WR-TIMEZONE:Europe/Ljubljana
END:VEVENT
END:VCALENDAR
