BEGIN:VCALENDAR
VERSION:2.0
PRODID:-//AFLabs urnik izvoz - agrft//aflabs.si//SI
DTSTAMP:20260421T052523Z
NAME:Urnik-AGRFT
REFRESH-INTERVAL:PT1H
SOURCE:https://urnik.agrft.uni-lj.si/teacher/65?day=2026-01-05&export=1
URL:https://urnik.agrft.uni-lj.si/teacher/65?day=2026-01-05&export=1
X-PUBLISHED-TTL:PT1H
X-WR-CALNAME:Urnik-AGRFT
X-WR-TIMEZONE:Europe/Ljubljana
BEGIN:VTIMEZONE
TZID:Europe/Ljubljana
BEGIN:DAYLIGHT
DTSTART:20260329T020000
RDATE:20260329T020000
RDATE:20270328T020000
TZNAME:CEST
TZOFFSETFROM:+0100
TZOFFSETTO:+0200
END:DAYLIGHT
BEGIN:STANDARD
DTSTART:20261025T030000
RDATE:20261025T030000
RDATE:20271031T030000
TZNAME:CET
TZOFFSETFROM:+0200
TZOFFSETTO:+0100
END:STANDARD
END:VTIMEZONE
BEGIN:VEVENT
SUMMARY:4. letniki
DTSTART;TZID=Europe/Ljubljana:20260119T180000
DTEND;TZID=Europe/Ljubljana:20260119T210000
DTSTAMP:20260421T052523Z
UID:agrft-AFLABS-URNIK:rezervacija:4353
CATEGORIES:Reservation
COLOR:royalblue
DESCRIPTION:Predmeti: \nLetniki: \nIzvajalci: Sebastijan Horvat\nProstori:
  Študijski oder 5
LOCATION:Aškerčeva 5\, Študijski oder 5
ORGANIZER:Sebastijan Horvat
X-WR-TIMEZONE:Europe/Ljubljana
END:VEVENT
BEGIN:VEVENT
SUMMARY:Jure Srdinšek
DTSTART;TZID=Europe/Ljubljana:20251203T180000
DTEND;TZID=Europe/Ljubljana:20251203T210000
DTSTAMP:20260421T052523Z
UID:agrft-AFLABS-URNIK:rezervacija:4362
CATEGORIES:Reservation
COLOR:royalblue
DESCRIPTION:Predmeti: \nLetniki: \nIzvajalci: Sebastijan Horvat\nProstori:
  Študijski oder 5
LOCATION:Aškerčeva 5\, Študijski oder 5
ORGANIZER:Sebastijan Horvat
X-WR-TIMEZONE:Europe/Ljubljana
END:VEVENT
BEGIN:VEVENT
SUMMARY:vaja 4. letniki
DTSTART;TZID=Europe/Ljubljana:20260130T174500
DTEND;TZID=Europe/Ljubljana:20260130T204500
DTSTAMP:20260421T052523Z
UID:agrft-AFLABS-URNIK:rezervacija:4126
CATEGORIES:Reservation
COLOR:royalblue
DESCRIPTION:Predmeti: \nLetniki: \nIzvajalci: Sebastijan Horvat\nProstori:
  Študijski oder 5
LOCATION:Aškerčeva 5\, Študijski oder 5
ORGANIZER:Sebastijan Horvat
X-WR-TIMEZONE:Europe/Ljubljana
END:VEVENT
BEGIN:VEVENT
SUMMARY:vaja 4. letniki
DTSTART;TZID=Europe/Ljubljana:20251212T174500
DTEND;TZID=Europe/Ljubljana:20251212T204500
DTSTAMP:20260421T052523Z
UID:agrft-AFLABS-URNIK:rezervacija:4119
CATEGORIES:Reservation
COLOR:royalblue
DESCRIPTION:Predmeti: \nLetniki: \nIzvajalci: Sebastijan Horvat\nProstori:
  Študijski oder 5
LOCATION:Aškerčeva 5\, Študijski oder 5
ORGANIZER:Sebastijan Horvat
X-WR-TIMEZONE:Europe/Ljubljana
END:VEVENT
BEGIN:VEVENT
SUMMARY:4. letniki
DTSTART;TZID=Europe/Ljubljana:20251201T180000
DTEND;TZID=Europe/Ljubljana:20251201T210000
DTSTAMP:20260421T052523Z
UID:agrft-AFLABS-URNIK:rezervacija:4346
CATEGORIES:Reservation
COLOR:royalblue
DESCRIPTION:Predmeti: \nLetniki: \nIzvajalci: Sebastijan Horvat\nProstori:
  Študijski oder 5
LOCATION:Aškerčeva 5\, Študijski oder 5
ORGANIZER:Sebastijan Horvat
X-WR-TIMEZONE:Europe/Ljubljana
END:VEVENT
BEGIN:VEVENT
SUMMARY:Jure Srdinšek
DTSTART;TZID=Europe/Ljubljana:20251231T180000
DTEND;TZID=Europe/Ljubljana:20251231T210000
DTSTAMP:20260421T052523Z
UID:agrft-AFLABS-URNIK:rezervacija:4366
CATEGORIES:Reservation
COLOR:royalblue
DESCRIPTION:Predmeti: \nLetniki: \nIzvajalci: Sebastijan Horvat\nProstori:
  Študijski oder 5
LOCATION:Aškerčeva 5\, Študijski oder 5
ORGANIZER:Sebastijan Horvat
X-WR-TIMEZONE:Europe/Ljubljana
END:VEVENT
BEGIN:VEVENT
SUMMARY:Jure Srdinšek
DTSTART;TZID=Europe/Ljubljana:20251210T180000
DTEND;TZID=Europe/Ljubljana:20251210T210000
DTSTAMP:20260421T052523Z
UID:agrft-AFLABS-URNIK:rezervacija:4363
CATEGORIES:Reservation
COLOR:royalblue
DESCRIPTION:Predmeti: \nLetniki: \nIzvajalci: Sebastijan Horvat\nProstori:
  Študijski oder 5
LOCATION:Aškerčeva 5\, Študijski oder 5
ORGANIZER:Sebastijan Horvat
X-WR-TIMEZONE:Europe/Ljubljana
END:VEVENT
BEGIN:VEVENT
SUMMARY:vaja 4. letniki
DTSTART;TZID=Europe/Ljubljana:20260123T174500
DTEND;TZID=Europe/Ljubljana:20260123T204500
DTSTAMP:20260421T052523Z
UID:agrft-AFLABS-URNIK:rezervacija:4125
CATEGORIES:Reservation
COLOR:royalblue
DESCRIPTION:Predmeti: \nLetniki: \nIzvajalci: Sebastijan Horvat\nProstori:
  Študijski oder 5
LOCATION:Aškerčeva 5\, Študijski oder 5
ORGANIZER:Sebastijan Horvat
X-WR-TIMEZONE:Europe/Ljubljana
END:VEVENT
BEGIN:VEVENT
SUMMARY:vaja 4. letniki
DTSTART;TZID=Europe/Ljubljana:20251219T174500
DTEND;TZID=Europe/Ljubljana:20251219T204500
DTSTAMP:20260421T052523Z
UID:agrft-AFLABS-URNIK:rezervacija:4120
CATEGORIES:Reservation
COLOR:royalblue
DESCRIPTION:Predmeti: \nLetniki: \nIzvajalci: Sebastijan Horvat\nProstori:
  Študijski oder 5
LOCATION:Aškerčeva 5\, Študijski oder 5
ORGANIZER:Sebastijan Horvat
X-WR-TIMEZONE:Europe/Ljubljana
END:VEVENT
BEGIN:VEVENT
SUMMARY:vaja 4. letniki
DTSTART;TZID=Europe/Ljubljana:20260102T174500
DTEND;TZID=Europe/Ljubljana:20260102T204500
DTSTAMP:20260421T052523Z
UID:agrft-AFLABS-URNIK:rezervacija:4122
CATEGORIES:Reservation
COLOR:royalblue
DESCRIPTION:Predmeti: \nLetniki: \nIzvajalci: Sebastijan Horvat\nProstori:
  Študijski oder 5
LOCATION:Aškerčeva 5\, Študijski oder 5
ORGANIZER:Sebastijan Horvat
X-WR-TIMEZONE:Europe/Ljubljana
END:VEVENT
BEGIN:VEVENT
SUMMARY:vaja 4. letniki
DTSTART;TZID=Europe/Ljubljana:20251205T090000
DTEND;TZID=Europe/Ljubljana:20251205T133000
DTSTAMP:20260421T052523Z
UID:agrft-AFLABS-URNIK:rezervacija:3889
CATEGORIES:Reservation
COLOR:royalblue
DESCRIPTION:Predmeti: \nLetniki: \nIzvajalci: Sebastijan Horvat\nProstori:
  Študijski oder 4
LOCATION:Aškerčeva 5\, Študijski oder 4
ORGANIZER:Sebastijan Horvat
X-WR-TIMEZONE:Europe/Ljubljana
END:VEVENT
BEGIN:VEVENT
SUMMARY:vaja 4. letniki
DTSTART;TZID=Europe/Ljubljana:20260109T174500
DTEND;TZID=Europe/Ljubljana:20260109T204500
DTSTAMP:20260421T052523Z
UID:agrft-AFLABS-URNIK:rezervacija:4123
CATEGORIES:Reservation
COLOR:royalblue
DESCRIPTION:Predmeti: \nLetniki: \nIzvajalci: Sebastijan Horvat\nProstori:
  Študijski oder 5
LOCATION:Aškerčeva 5\, Študijski oder 5
ORGANIZER:Sebastijan Horvat
X-WR-TIMEZONE:Europe/Ljubljana
END:VEVENT
BEGIN:VEVENT
SUMMARY:Jure Srdinšek
DTSTART;TZID=Europe/Ljubljana:20251202T180000
DTEND;TZID=Europe/Ljubljana:20251202T210000
DTSTAMP:20260421T052523Z
UID:agrft-AFLABS-URNIK:rezervacija:4345
CATEGORIES:Reservation
COLOR:royalblue
DESCRIPTION:Predmeti: \nLetniki: \nIzvajalci: Sebastijan Horvat\nProstori:
  Študijski oder 3
LOCATION:Aškerčeva 5\, Študijski oder 3
ORGANIZER:Sebastijan Horvat
X-WR-TIMEZONE:Europe/Ljubljana
END:VEVENT
BEGIN:VEVENT
SUMMARY:Jure Srdinšek
DTSTART;TZID=Europe/Ljubljana:20251217T180000
DTEND;TZID=Europe/Ljubljana:20251217T210000
DTSTAMP:20260421T052523Z
UID:agrft-AFLABS-URNIK:rezervacija:4364
CATEGORIES:Reservation
COLOR:royalblue
DESCRIPTION:Predmeti: \nLetniki: \nIzvajalci: Sebastijan Horvat\nProstori:
  Študijski oder 5
LOCATION:Aškerčeva 5\, Študijski oder 5
ORGANIZER:Sebastijan Horvat
X-WR-TIMEZONE:Europe/Ljubljana
END:VEVENT
BEGIN:VEVENT
SUMMARY:4. letniki
DTSTART;TZID=Europe/Ljubljana:20260112T180000
DTEND;TZID=Europe/Ljubljana:20260112T210000
DTSTAMP:20260421T052523Z
UID:agrft-AFLABS-URNIK:rezervacija:4352
CATEGORIES:Reservation
COLOR:royalblue
DESCRIPTION:Predmeti: \nLetniki: \nIzvajalci: Sebastijan Horvat\nProstori:
  Študijski oder 5
LOCATION:Aškerčeva 5\, Študijski oder 5
ORGANIZER:Sebastijan Horvat
X-WR-TIMEZONE:Europe/Ljubljana
END:VEVENT
BEGIN:VEVENT
SUMMARY:4. letniki
DTSTART;TZID=Europe/Ljubljana:20260105T180000
DTEND;TZID=Europe/Ljubljana:20260105T210000
DTSTAMP:20260421T052523Z
UID:agrft-AFLABS-URNIK:rezervacija:4351
CATEGORIES:Reservation
COLOR:royalblue
DESCRIPTION:Predmeti: \nLetniki: \nIzvajalci: Sebastijan Horvat\nProstori:
  Študijski oder 5
LOCATION:Aškerčeva 5\, Študijski oder 5
ORGANIZER:Sebastijan Horvat
X-WR-TIMEZONE:Europe/Ljubljana
END:VEVENT
BEGIN:VEVENT
SUMMARY:4. letniki
DTSTART;TZID=Europe/Ljubljana:20251215T180000
DTEND;TZID=Europe/Ljubljana:20251215T210000
DTSTAMP:20260421T052523Z
UID:agrft-AFLABS-URNIK:rezervacija:4348
CATEGORIES:Reservation
COLOR:royalblue
DESCRIPTION:Predmeti: \nLetniki: \nIzvajalci: Sebastijan Horvat\nProstori:
  Študijski oder 5
LOCATION:Aškerčeva 5\, Študijski oder 5
ORGANIZER:Sebastijan Horvat
X-WR-TIMEZONE:Europe/Ljubljana
END:VEVENT
BEGIN:VEVENT
SUMMARY:vaja 4. letniki
DTSTART;TZID=Europe/Ljubljana:20260116T174500
DTEND;TZID=Europe/Ljubljana:20260116T204500
DTSTAMP:20260421T052523Z
UID:agrft-AFLABS-URNIK:rezervacija:4124
CATEGORIES:Reservation
COLOR:royalblue
DESCRIPTION:Predmeti: \nLetniki: \nIzvajalci: Sebastijan Horvat\nProstori:
  Študijski oder 5
LOCATION:Aškerčeva 5\, Študijski oder 5
ORGANIZER:Sebastijan Horvat
X-WR-TIMEZONE:Europe/Ljubljana
END:VEVENT
BEGIN:VEVENT
SUMMARY:Jure Srdinšek
DTSTART;TZID=Europe/Ljubljana:20260107T180000
DTEND;TZID=Europe/Ljubljana:20260107T210000
DTSTAMP:20260421T052523Z
UID:agrft-AFLABS-URNIK:rezervacija:4367
CATEGORIES:Reservation
COLOR:royalblue
DESCRIPTION:Predmeti: \nLetniki: \nIzvajalci: Sebastijan Horvat\nProstori:
  Študijski oder 5
LOCATION:Aškerčeva 5\, Študijski oder 5
ORGANIZER:Sebastijan Horvat
X-WR-TIMEZONE:Europe/Ljubljana
END:VEVENT
BEGIN:VEVENT
SUMMARY:4. letniki
DTSTART;TZID=Europe/Ljubljana:20251229T180000
DTEND;TZID=Europe/Ljubljana:20251229T210000
DTSTAMP:20260421T052523Z
UID:agrft-AFLABS-URNIK:rezervacija:4350
CATEGORIES:Reservation
COLOR:royalblue
DESCRIPTION:Predmeti: \nLetniki: \nIzvajalci: Sebastijan Horvat\nProstori:
  Študijski oder 5
LOCATION:Aškerčeva 5\, Študijski oder 5
ORGANIZER:Sebastijan Horvat
X-WR-TIMEZONE:Europe/Ljubljana
END:VEVENT
BEGIN:VEVENT
SUMMARY:vaja 4. letniki
DTSTART;TZID=Europe/Ljubljana:20251205T174500
DTEND;TZID=Europe/Ljubljana:20251205T204500
DTSTAMP:20260421T052523Z
UID:agrft-AFLABS-URNIK:rezervacija:4118
CATEGORIES:Reservation
COLOR:royalblue
DESCRIPTION:Predmeti: \nLetniki: \nIzvajalci: Sebastijan Horvat\nProstori:
  Študijski oder 5
LOCATION:Aškerčeva 5\, Študijski oder 5
ORGANIZER:Sebastijan Horvat
X-WR-TIMEZONE:Europe/Ljubljana
END:VEVENT
BEGIN:VEVENT
SUMMARY:4. letniki
DTSTART;TZID=Europe/Ljubljana:20251208T180000
DTEND;TZID=Europe/Ljubljana:20251208T210000
DTSTAMP:20260421T052523Z
UID:agrft-AFLABS-URNIK:rezervacija:4347
CATEGORIES:Reservation
COLOR:royalblue
DESCRIPTION:Predmeti: \nLetniki: \nIzvajalci: Sebastijan Horvat\nProstori:
  Študijski oder 5
LOCATION:Aškerčeva 5\, Študijski oder 5
ORGANIZER:Sebastijan Horvat
X-WR-TIMEZONE:Europe/Ljubljana
END:VEVENT
BEGIN:VEVENT
SUMMARY:Jure Srdinšek
DTSTART;TZID=Europe/Ljubljana:20260114T180000
DTEND;TZID=Europe/Ljubljana:20260114T210000
DTSTAMP:20260421T052523Z
UID:agrft-AFLABS-URNIK:rezervacija:4368
CATEGORIES:Reservation
COLOR:royalblue
DESCRIPTION:Predmeti: \nLetniki: \nIzvajalci: Sebastijan Horvat\nProstori:
  Študijski oder 5
LOCATION:Aškerčeva 5\, Študijski oder 5
ORGANIZER:Sebastijan Horvat
X-WR-TIMEZONE:Europe/Ljubljana
END:VEVENT
BEGIN:VEVENT
SUMMARY:Jure Srdinšek
DTSTART;TZID=Europe/Ljubljana:20251224T180000
DTEND;TZID=Europe/Ljubljana:20251224T210000
DTSTAMP:20260421T052523Z
UID:agrft-AFLABS-URNIK:rezervacija:4365
CATEGORIES:Reservation
COLOR:royalblue
DESCRIPTION:Predmeti: \nLetniki: \nIzvajalci: Sebastijan Horvat\nProstori:
  Študijski oder 5
LOCATION:Aškerčeva 5\, Študijski oder 5
ORGANIZER:Sebastijan Horvat
X-WR-TIMEZONE:Europe/Ljubljana
END:VEVENT
BEGIN:VEVENT
SUMMARY:vaja 4. letniki
DTSTART;TZID=Europe/Ljubljana:20251226T174500
DTEND;TZID=Europe/Ljubljana:20251226T204500
DTSTAMP:20260421T052523Z
UID:agrft-AFLABS-URNIK:rezervacija:4121
CATEGORIES:Reservation
COLOR:royalblue
DESCRIPTION:Predmeti: \nLetniki: \nIzvajalci: Sebastijan Horvat\nProstori:
  Študijski oder 5
LOCATION:Aškerčeva 5\, Študijski oder 5
ORGANIZER:Sebastijan Horvat
X-WR-TIMEZONE:Europe/Ljubljana
END:VEVENT
BEGIN:VEVENT
SUMMARY:4. letniki
DTSTART;TZID=Europe/Ljubljana:20251222T180000
DTEND;TZID=Europe/Ljubljana:20251222T210000
DTSTAMP:20260421T052523Z
UID:agrft-AFLABS-URNIK:rezervacija:4349
CATEGORIES:Reservation
COLOR:royalblue
DESCRIPTION:Predmeti: \nLetniki: \nIzvajalci: Sebastijan Horvat\nProstori:
  Študijski oder 5
LOCATION:Aškerčeva 5\, Študijski oder 5
ORGANIZER:Sebastijan Horvat
X-WR-TIMEZONE:Europe/Ljubljana
END:VEVENT
BEGIN:VEVENT
SUMMARY:Jure Srdinšek
DTSTART;TZID=Europe/Ljubljana:20260121T180000
DTEND;TZID=Europe/Ljubljana:20260121T210000
DTSTAMP:20260421T052523Z
UID:agrft-AFLABS-URNIK:rezervacija:4369
CATEGORIES:Reservation
COLOR:royalblue
DESCRIPTION:Predmeti: \nLetniki: \nIzvajalci: Sebastijan Horvat\nProstori:
  Študijski oder 5
LOCATION:Aškerčeva 5\, Študijski oder 5
ORGANIZER:Sebastijan Horvat
X-WR-TIMEZONE:Europe/Ljubljana
END:VEVENT
END:VCALENDAR
