BEGIN:VCALENDAR
VERSION:2.0
PRODID:-//AFLabs urnik izvoz - agrft//aflabs.si//SI
DTSTAMP:20260421T141126Z
NAME:Urnik-AGRFT
REFRESH-INTERVAL:PT1H
SOURCE:https://urnik.agrft.uni-lj.si/teacher/65?day=2025-10-06&export=1
URL:https://urnik.agrft.uni-lj.si/teacher/65?day=2025-10-06&export=1
X-PUBLISHED-TTL:PT1H
X-WR-CALNAME:Urnik-AGRFT
X-WR-TIMEZONE:Europe/Ljubljana
BEGIN:VTIMEZONE
TZID:Europe/Ljubljana
BEGIN:DAYLIGHT
DTSTART:20260329T020000
RDATE:20260329T020000
RDATE:20270328T020000
TZNAME:CEST
TZOFFSETFROM:+0100
TZOFFSETTO:+0200
END:DAYLIGHT
BEGIN:STANDARD
DTSTART:20261025T030000
RDATE:20261025T030000
RDATE:20271031T030000
TZNAME:CET
TZOFFSETFROM:+0200
TZOFFSETTO:+0100
END:STANDARD
END:VTIMEZONE
BEGIN:VEVENT
SUMMARY:vaja 4. letniki
DTSTART;TZID=Europe/Ljubljana:20251107T090000
DTEND;TZID=Europe/Ljubljana:20251107T133000
DTSTAMP:20260421T141126Z
UID:agrft-AFLABS-URNIK:rezervacija:3885
CATEGORIES:Reservation
COLOR:royalblue
DESCRIPTION:Predmeti: \nLetniki: \nIzvajalci: Sebastijan Horvat\nProstori:
  Študijski oder 4
LOCATION:Aškerčeva 5\, Študijski oder 4
ORGANIZER:Sebastijan Horvat
X-WR-TIMEZONE:Europe/Ljubljana
END:VEVENT
BEGIN:VEVENT
SUMMARY:Odprta katedra
DTSTART;TZID=Europe/Ljubljana:20251014T183000
DTEND;TZID=Europe/Ljubljana:20251014T210000
DTSTAMP:20260421T141126Z
UID:agrft-AFLABS-URNIK:rezervacija:3708
CATEGORIES:Reservation
COLOR:royalblue
DESCRIPTION:Predmeti: \nLetniki: \nIzvajalci: Sebastijan Horvat\nProstori:
  Študijski oder 5
LOCATION:Aškerčeva 5\, Študijski oder 5
ORGANIZER:Sebastijan Horvat
X-WR-TIMEZONE:Europe/Ljubljana
END:VEVENT
BEGIN:VEVENT
SUMMARY:Samoevalvacijski sestanek GLR
DTSTART;TZID=Europe/Ljubljana:20251105T183000
DTEND;TZID=Europe/Ljubljana:20251105T203000
DTSTAMP:20260421T141126Z
UID:agrft-AFLABS-URNIK:rezervacija:3785
ATTENDEE:GLR 4 (GLR 1)
CATEGORIES:Reservation
COLOR:royalblue
DESCRIPTION:Predmeti: Praktična režija in dramska igra I - GLR (P) (PRED
 I-I [GLR] (P))\, Praktična režija in dramska igra II - GLR (Z) (PREDI-II
  [GLR] (Z))\, Praktična režija in dramska igra III - GLR (Z) (PREDI-III 
 [GLR] (Z))\, Praktična režija in dramska igra IV - GLR (Z) (PREDI-IV [GL
 R] (Z))\nLetniki: GLR 4 (GLR 1)\nIzvajalci: Sebastijan Horvat\nProstori: 
 Študijski oder 5
LOCATION:Aškerčeva 5\, Študijski oder 5
ORGANIZER:Sebastijan Horvat
X-WR-TIMEZONE:Europe/Ljubljana
END:VEVENT
END:VCALENDAR
