BEGIN:VCALENDAR
VERSION:2.0
PRODID:-//AFLabs urnik izvoz - agrft//aflabs.si//SI
DTSTAMP:20260424T003716Z
NAME:Urnik-AGRFT
REFRESH-INTERVAL:PT1H
SOURCE:https://urnik.agrft.uni-lj.si/teacher/54?day=2024-12-16&export=1
URL:https://urnik.agrft.uni-lj.si/teacher/54?day=2024-12-16&export=1
X-PUBLISHED-TTL:PT1H
X-WR-CALNAME:Urnik-AGRFT
X-WR-TIMEZONE:Europe/Ljubljana
BEGIN:VTIMEZONE
TZID:Europe/Ljubljana
BEGIN:DAYLIGHT
DTSTART:20260329T020000
RDATE:20260329T020000
RDATE:20270328T020000
TZNAME:CEST
TZOFFSETFROM:+0100
TZOFFSETTO:+0200
END:DAYLIGHT
BEGIN:STANDARD
DTSTART:20261025T030000
RDATE:20261025T030000
RDATE:20271031T030000
TZNAME:CET
TZOFFSETFROM:+0200
TZOFFSETTO:+0100
END:STANDARD
END:VTIMEZONE
BEGIN:VEVENT
SUMMARY:SNG DRAMA - Srečko bajda
DTSTART;TZID=Europe/Ljubljana:20250120T140000
DTEND;TZID=Europe/Ljubljana:20250120T180000
DTSTAMP:20260424T003716Z
UID:agrft-AFLABS-URNIK:rezervacija:1734
CATEGORIES:Reservation
COLOR:royalblue
DESCRIPTION:Predmeti: \nLetniki: \nIzvajalci: Miha Jaramaz\nProstori: Gluh
 a soba
LOCATION:Aškerčeva 5\, Gluha soba
ORGANIZER:Miha Jaramaz
X-WR-TIMEZONE:Europe/Ljubljana
END:VEVENT
END:VCALENDAR
