BEGIN:VCALENDAR
VERSION:2.0
PRODID:-//AFLabs urnik izvoz - agrft//aflabs.si//SI
DTSTAMP:20260422T154600Z
NAME:Urnik-AGRFT
REFRESH-INTERVAL:PT1H
SOURCE:https://urnik.agrft.uni-lj.si/teacher/53?day=2026-06-08&export=1
URL:https://urnik.agrft.uni-lj.si/teacher/53?day=2026-06-08&export=1
X-PUBLISHED-TTL:PT1H
X-WR-CALNAME:Urnik-AGRFT
X-WR-TIMEZONE:Europe/Ljubljana
BEGIN:VTIMEZONE
TZID:Europe/Ljubljana
BEGIN:DAYLIGHT
DTSTART:20260329T020000
RDATE:20260329T020000
RDATE:20270328T020000
TZNAME:CEST
TZOFFSETFROM:+0100
TZOFFSETTO:+0200
END:DAYLIGHT
BEGIN:STANDARD
DTSTART:20261025T030000
RDATE:20261025T030000
RDATE:20271031T030000
TZNAME:CET
TZOFFSETFROM:+0200
TZOFFSETTO:+0100
END:STANDARD
END:VTIMEZONE
BEGIN:VEVENT
SUMMARY:Vizualna analiza za AV medije - FTV (VANAVME [FTV])\, predavanje i
 n seminar (P S)
DTSTART;TZID=Europe/Ljubljana:20260504T103000
DTEND;TZID=Europe/Ljubljana:20260504T124500
DTSTAMP:20260422T154600Z
UID:agrft-AFLABS-URNIK:premaknjeno-srecanje:135648
ATTENDEE:FTV-S2 (FTV-S)
CATEGORIES:Entry,Standard
COLOR:darkgreen
DESCRIPTION:Predmet: Vizualna analiza za AV medije - FTV (VANAVME [FTV])\,
  predavanje in seminar (P S)\nLetniki: \nIzvajalci: Klemen Dvornik\, Simon
  Tanšek\nProstor: AV predavalnica 3
LOCATION:Aškerčeva 5\, AV predavalnica 3
ORGANIZER:Klemen Dvornik, Simon Tanšek
RELATED-TO:agrft-AFLABS-URNIK:srecanje:6677
X-WR-TIMEZONE:Europe/Ljubljana
END:VEVENT
BEGIN:VEVENT
SUMMARY:Vizualna analiza za AV medije - FTV (VANAVME [FTV])\, predavanje i
 n seminar (P S)
DTSTART;TZID=Europe/Ljubljana:20260511T103000
DTEND;TZID=Europe/Ljubljana:20260511T124500
DTSTAMP:20260422T154600Z
UID:agrft-AFLABS-URNIK:premaknjeno-srecanje:135649
ATTENDEE:FTV-S2 (FTV-S)
CATEGORIES:Entry,Standard
COLOR:darkgreen
DESCRIPTION:Predmet: Vizualna analiza za AV medije - FTV (VANAVME [FTV])\,
  predavanje in seminar (P S)\nLetniki: \nIzvajalci: Klemen Dvornik\, Simon
  Tanšek\nProstor: AV predavalnica 3
LOCATION:Aškerčeva 5\, AV predavalnica 3
ORGANIZER:Klemen Dvornik, Simon Tanšek
RELATED-TO:agrft-AFLABS-URNIK:srecanje:6677
X-WR-TIMEZONE:Europe/Ljubljana
END:VEVENT
BEGIN:VEVENT
SUMMARY:Vizualna analiza za AV medije - FTV (VANAVME [FTV])\, predavanje i
 n seminar (P S)
DTSTART;TZID=Europe/Ljubljana:20260518T103000
DTEND;TZID=Europe/Ljubljana:20260518T124500
DTSTAMP:20260422T154600Z
UID:agrft-AFLABS-URNIK:premaknjeno-srecanje:135650
ATTENDEE:FTV-S2 (FTV-S)
CATEGORIES:Entry,Standard
COLOR:darkgreen
DESCRIPTION:Predmet: Vizualna analiza za AV medije - FTV (VANAVME [FTV])\,
  predavanje in seminar (P S)\nLetniki: \nIzvajalci: Klemen Dvornik\, Simon
  Tanšek\nProstor: AV predavalnica 3
LOCATION:Aškerčeva 5\, AV predavalnica 3
ORGANIZER:Klemen Dvornik, Simon Tanšek
RELATED-TO:agrft-AFLABS-URNIK:srecanje:6677
X-WR-TIMEZONE:Europe/Ljubljana
END:VEVENT
BEGIN:VEVENT
SUMMARY:Vizualna analiza za AV medije - FTV (VANAVME [FTV])\, predavanje i
 n seminar (P S)
DTSTART;TZID=Europe/Ljubljana:20260525T103000
DTEND;TZID=Europe/Ljubljana:20260525T124500
DTSTAMP:20260422T154600Z
UID:agrft-AFLABS-URNIK:premaknjeno-srecanje:135651
ATTENDEE:FTV-S2 (FTV-S)
CATEGORIES:Entry,Standard
COLOR:darkgreen
DESCRIPTION:Predmet: Vizualna analiza za AV medije - FTV (VANAVME [FTV])\,
  predavanje in seminar (P S)\nLetniki: \nIzvajalci: Klemen Dvornik\, Simon
  Tanšek\nProstor: AV predavalnica 3
LOCATION:Aškerčeva 5\, AV predavalnica 3
ORGANIZER:Klemen Dvornik, Simon Tanšek
RELATED-TO:agrft-AFLABS-URNIK:srecanje:6677
X-WR-TIMEZONE:Europe/Ljubljana
END:VEVENT
BEGIN:VEVENT
SUMMARY:Vizualna analiza za AV medije - FTV (VANAVME [FTV])\, predavanje i
 n seminar (P S)
DTSTART;TZID=Europe/Ljubljana:20260601T103000
DTEND;TZID=Europe/Ljubljana:20260601T124500
DTSTAMP:20260422T154600Z
UID:agrft-AFLABS-URNIK:premaknjeno-srecanje:135652
ATTENDEE:FTV-S2 (FTV-S)
CATEGORIES:Entry,Standard
COLOR:darkgreen
DESCRIPTION:Predmet: Vizualna analiza za AV medije - FTV (VANAVME [FTV])\,
  predavanje in seminar (P S)\nLetniki: \nIzvajalci: Klemen Dvornik\, Simon
  Tanšek\nProstor: AV predavalnica 3
LOCATION:Aškerčeva 5\, AV predavalnica 3
ORGANIZER:Klemen Dvornik, Simon Tanšek
RELATED-TO:agrft-AFLABS-URNIK:srecanje:6677
X-WR-TIMEZONE:Europe/Ljubljana
END:VEVENT
BEGIN:VEVENT
SUMMARY:Kamera II - FTV (K-II [FTV])\, predavanje in vaje (P V)
DTSTART;TZID=Europe/Ljubljana:20260505T090000
DTEND;TZID=Europe/Ljubljana:20260505T120000
DTSTAMP:20260422T154600Z
UID:agrft-AFLABS-URNIK:premaknjeno-srecanje:132290
ATTENDEE:FTV-S2 (FTV-S)
CATEGORIES:Entry,Standard
COLOR:darkgreen
DESCRIPTION:Predmet: Kamera II - FTV (K-II [FTV])\, predavanje in vaje (P 
 V)\nLetniki: \nIzvajalci: Boj Nuvak\, Simon Tanšek\nProstor: Zgodborisnic
 a
LOCATION:Aškerčeva 5\, Zgodborisnica
ORGANIZER:Boj Nuvak, Simon Tanšek
RELATED-TO:agrft-AFLABS-URNIK:srecanje:6340
X-WR-TIMEZONE:Europe/Ljubljana
END:VEVENT
BEGIN:VEVENT
SUMMARY:Kamera II - FTV (K-II [FTV])\, predavanje in vaje (P V)
DTSTART;TZID=Europe/Ljubljana:20260512T090000
DTEND;TZID=Europe/Ljubljana:20260512T120000
DTSTAMP:20260422T154600Z
UID:agrft-AFLABS-URNIK:premaknjeno-srecanje:132291
ATTENDEE:FTV-S2 (FTV-S)
CATEGORIES:Entry,Standard
COLOR:darkgreen
DESCRIPTION:Predmet: Kamera II - FTV (K-II [FTV])\, predavanje in vaje (P 
 V)\nLetniki: \nIzvajalci: Boj Nuvak\, Simon Tanšek\nProstor: Zgodborisnic
 a
LOCATION:Aškerčeva 5\, Zgodborisnica
ORGANIZER:Boj Nuvak, Simon Tanšek
RELATED-TO:agrft-AFLABS-URNIK:srecanje:6340
X-WR-TIMEZONE:Europe/Ljubljana
END:VEVENT
BEGIN:VEVENT
SUMMARY:Kamera II - FTV (K-II [FTV])\, predavanje in vaje (P V)
DTSTART;TZID=Europe/Ljubljana:20260519T090000
DTEND;TZID=Europe/Ljubljana:20260519T120000
DTSTAMP:20260422T154600Z
UID:agrft-AFLABS-URNIK:premaknjeno-srecanje:132292
ATTENDEE:FTV-S2 (FTV-S)
CATEGORIES:Entry,Standard
COLOR:darkgreen
DESCRIPTION:Predmet: Kamera II - FTV (K-II [FTV])\, predavanje in vaje (P 
 V)\nLetniki: \nIzvajalci: Boj Nuvak\, Simon Tanšek\nProstor: Zgodborisnic
 a
LOCATION:Aškerčeva 5\, Zgodborisnica
ORGANIZER:Boj Nuvak, Simon Tanšek
RELATED-TO:agrft-AFLABS-URNIK:srecanje:6340
X-WR-TIMEZONE:Europe/Ljubljana
END:VEVENT
BEGIN:VEVENT
SUMMARY:Kamera II - FTV (K-II [FTV])\, predavanje in vaje (P V)
DTSTART;TZID=Europe/Ljubljana:20260526T090000
DTEND;TZID=Europe/Ljubljana:20260526T120000
DTSTAMP:20260422T154600Z
UID:agrft-AFLABS-URNIK:premaknjeno-srecanje:132293
ATTENDEE:FTV-S2 (FTV-S)
CATEGORIES:Entry,Standard
COLOR:darkgreen
DESCRIPTION:Predmet: Kamera II - FTV (K-II [FTV])\, predavanje in vaje (P 
 V)\nLetniki: \nIzvajalci: Boj Nuvak\, Simon Tanšek\nProstor: Zgodborisnic
 a
LOCATION:Aškerčeva 5\, Zgodborisnica
ORGANIZER:Boj Nuvak, Simon Tanšek
RELATED-TO:agrft-AFLABS-URNIK:srecanje:6340
X-WR-TIMEZONE:Europe/Ljubljana
END:VEVENT
BEGIN:VEVENT
SUMMARY:Kamera II - FTV (K-II [FTV])\, predavanje in vaje (P V)
DTSTART;TZID=Europe/Ljubljana:20260602T090000
DTEND;TZID=Europe/Ljubljana:20260602T120000
DTSTAMP:20260422T154600Z
UID:agrft-AFLABS-URNIK:premaknjeno-srecanje:132294
ATTENDEE:FTV-S2 (FTV-S)
CATEGORIES:Entry,Standard
COLOR:darkgreen
DESCRIPTION:Predmet: Kamera II - FTV (K-II [FTV])\, predavanje in vaje (P 
 V)\nLetniki: \nIzvajalci: Boj Nuvak\, Simon Tanšek\nProstor: Zgodborisnic
 a
LOCATION:Aškerčeva 5\, Zgodborisnica
ORGANIZER:Boj Nuvak, Simon Tanšek
RELATED-TO:agrft-AFLABS-URNIK:srecanje:6340
X-WR-TIMEZONE:Europe/Ljubljana
END:VEVENT
BEGIN:VEVENT
SUMMARY:Kino projekcija (KINO)\, druge oblike študija (DO)
DTSTART;TZID=Europe/Ljubljana:20260505T180000
DTEND;TZID=Europe/Ljubljana:20260505T210000
DTSTAMP:20260422T154600Z
UID:agrft-AFLABS-URNIK:premaknjeno-srecanje:132306
ATTENDEE:FTV-M1 (FTV-M)
ATTENDEE:FTV-M2 (FTV-M)
ATTENDEE:FTV-M3 (FTV-M)
ATTENDEE:FTV-R1 (FTV-R)
ATTENDEE:FTV-R2 (FTV-R)
ATTENDEE:FTV-R3 (FTV-R)
ATTENDEE:FTV-S1 (FTV-S)
ATTENDEE:FTV-S2 (FTV-S)
ATTENDEE:FTV-S3 (FTV-S)
CATEGORIES:Entry,Standard
COLOR:darkgreen
DESCRIPTION:Predmet: Kino projekcija (KINO)\, druge oblike študija (DO)\n
 Letniki: \nIzvajalci: Boj Nuvak\, Simon Tanšek\nProstor: Kinodvorana
LOCATION:Aškerčeva 5\, Kinodvorana
ORGANIZER:Boj Nuvak, Simon Tanšek
RELATED-TO:agrft-AFLABS-URNIK:srecanje:4818
X-WR-TIMEZONE:Europe/Ljubljana
END:VEVENT
BEGIN:VEVENT
SUMMARY:Kino projekcija (KINO)\, druge oblike študija (DO)
DTSTART;TZID=Europe/Ljubljana:20260512T180000
DTEND;TZID=Europe/Ljubljana:20260512T210000
DTSTAMP:20260422T154600Z
UID:agrft-AFLABS-URNIK:premaknjeno-srecanje:132307
ATTENDEE:FTV-M1 (FTV-M)
ATTENDEE:FTV-M2 (FTV-M)
ATTENDEE:FTV-M3 (FTV-M)
ATTENDEE:FTV-R1 (FTV-R)
ATTENDEE:FTV-R2 (FTV-R)
ATTENDEE:FTV-R3 (FTV-R)
ATTENDEE:FTV-S1 (FTV-S)
ATTENDEE:FTV-S2 (FTV-S)
ATTENDEE:FTV-S3 (FTV-S)
CATEGORIES:Entry,Standard
COLOR:darkgreen
DESCRIPTION:Predmet: Kino projekcija (KINO)\, druge oblike študija (DO)\n
 Letniki: \nIzvajalci: Boj Nuvak\, Simon Tanšek\nProstor: Kinodvorana
LOCATION:Aškerčeva 5\, Kinodvorana
ORGANIZER:Boj Nuvak, Simon Tanšek
RELATED-TO:agrft-AFLABS-URNIK:srecanje:4818
X-WR-TIMEZONE:Europe/Ljubljana
END:VEVENT
BEGIN:VEVENT
SUMMARY:Kino projekcija (KINO)\, druge oblike študija (DO)
DTSTART;TZID=Europe/Ljubljana:20260519T180000
DTEND;TZID=Europe/Ljubljana:20260519T210000
DTSTAMP:20260422T154600Z
UID:agrft-AFLABS-URNIK:premaknjeno-srecanje:132308
ATTENDEE:FTV-M1 (FTV-M)
ATTENDEE:FTV-M2 (FTV-M)
ATTENDEE:FTV-M3 (FTV-M)
ATTENDEE:FTV-R1 (FTV-R)
ATTENDEE:FTV-R2 (FTV-R)
ATTENDEE:FTV-R3 (FTV-R)
ATTENDEE:FTV-S1 (FTV-S)
ATTENDEE:FTV-S2 (FTV-S)
ATTENDEE:FTV-S3 (FTV-S)
CATEGORIES:Entry,Standard
COLOR:darkgreen
DESCRIPTION:Predmet: Kino projekcija (KINO)\, druge oblike študija (DO)\n
 Letniki: \nIzvajalci: Boj Nuvak\, Simon Tanšek\nProstor: Kinodvorana
LOCATION:Aškerčeva 5\, Kinodvorana
ORGANIZER:Boj Nuvak, Simon Tanšek
RELATED-TO:agrft-AFLABS-URNIK:srecanje:4818
X-WR-TIMEZONE:Europe/Ljubljana
END:VEVENT
BEGIN:VEVENT
SUMMARY:Kino projekcija (KINO)\, druge oblike študija (DO)
DTSTART;TZID=Europe/Ljubljana:20260526T180000
DTEND;TZID=Europe/Ljubljana:20260526T210000
DTSTAMP:20260422T154600Z
UID:agrft-AFLABS-URNIK:premaknjeno-srecanje:132309
ATTENDEE:FTV-M1 (FTV-M)
ATTENDEE:FTV-M2 (FTV-M)
ATTENDEE:FTV-M3 (FTV-M)
ATTENDEE:FTV-R1 (FTV-R)
ATTENDEE:FTV-R2 (FTV-R)
ATTENDEE:FTV-R3 (FTV-R)
ATTENDEE:FTV-S1 (FTV-S)
ATTENDEE:FTV-S2 (FTV-S)
ATTENDEE:FTV-S3 (FTV-S)
CATEGORIES:Entry,Standard
COLOR:darkgreen
DESCRIPTION:Predmet: Kino projekcija (KINO)\, druge oblike študija (DO)\n
 Letniki: \nIzvajalci: Boj Nuvak\, Simon Tanšek\nProstor: Kinodvorana
LOCATION:Aškerčeva 5\, Kinodvorana
ORGANIZER:Boj Nuvak, Simon Tanšek
RELATED-TO:agrft-AFLABS-URNIK:srecanje:4818
X-WR-TIMEZONE:Europe/Ljubljana
END:VEVENT
BEGIN:VEVENT
SUMMARY:Kino projekcija (KINO)\, druge oblike študija (DO)
DTSTART;TZID=Europe/Ljubljana:20260602T180000
DTEND;TZID=Europe/Ljubljana:20260602T210000
DTSTAMP:20260422T154600Z
UID:agrft-AFLABS-URNIK:premaknjeno-srecanje:132310
ATTENDEE:FTV-M1 (FTV-M)
ATTENDEE:FTV-M2 (FTV-M)
ATTENDEE:FTV-M3 (FTV-M)
ATTENDEE:FTV-R1 (FTV-R)
ATTENDEE:FTV-R2 (FTV-R)
ATTENDEE:FTV-R3 (FTV-R)
ATTENDEE:FTV-S1 (FTV-S)
ATTENDEE:FTV-S2 (FTV-S)
ATTENDEE:FTV-S3 (FTV-S)
CATEGORIES:Entry,Standard
COLOR:darkgreen
DESCRIPTION:Predmet: Kino projekcija (KINO)\, druge oblike študija (DO)\n
 Letniki: \nIzvajalci: Boj Nuvak\, Simon Tanšek\nProstor: Kinodvorana
LOCATION:Aškerčeva 5\, Kinodvorana
ORGANIZER:Boj Nuvak, Simon Tanšek
RELATED-TO:agrft-AFLABS-URNIK:srecanje:4818
X-WR-TIMEZONE:Europe/Ljubljana
END:VEVENT
BEGIN:VEVENT
SUMMARY:Izvedba igranega filma - snemanje - FTV (IGRF-S [FTV])\, seminar i
 n druge oblike (S DO)
DTSTART;TZID=Europe/Ljubljana:20260506T120000
DTEND;TZID=Europe/Ljubljana:20260506T133000
DTSTAMP:20260422T154600Z
UID:agrft-AFLABS-URNIK:premaknjeno-srecanje:132060
ATTENDEE:FTV-S3 (FTV-S)
CATEGORIES:Entry,Standard
COLOR:darkgreen
DESCRIPTION:Predmet: Izvedba igranega filma - snemanje - FTV (IGRF-S [FTV]
 )\, seminar in druge oblike (S DO)\nLetniki: \nIzvajalci: Rok Kajzer Nagod
 e\, Simon Tanšek\nProstor: Atelje za animacijo in fotografijo
LOCATION:Aškerčeva 5\, Atelje za animacijo in fotografijo
ORGANIZER:Rok Kajzer Nagode, Simon Tanšek
RELATED-TO:agrft-AFLABS-URNIK:srecanje:6761
X-WR-TIMEZONE:Europe/Ljubljana
END:VEVENT
BEGIN:VEVENT
SUMMARY:Izvedba igranega filma - snemanje - FTV (IGRF-S [FTV])\, seminar i
 n druge oblike (S DO)
DTSTART;TZID=Europe/Ljubljana:20260513T120000
DTEND;TZID=Europe/Ljubljana:20260513T133000
DTSTAMP:20260422T154600Z
UID:agrft-AFLABS-URNIK:premaknjeno-srecanje:132061
ATTENDEE:FTV-S3 (FTV-S)
CATEGORIES:Entry,Standard
COLOR:darkgreen
DESCRIPTION:Predmet: Izvedba igranega filma - snemanje - FTV (IGRF-S [FTV]
 )\, seminar in druge oblike (S DO)\nLetniki: \nIzvajalci: Rok Kajzer Nagod
 e\, Simon Tanšek\nProstor: Atelje za animacijo in fotografijo
LOCATION:Aškerčeva 5\, Atelje za animacijo in fotografijo
ORGANIZER:Rok Kajzer Nagode, Simon Tanšek
RELATED-TO:agrft-AFLABS-URNIK:srecanje:6761
X-WR-TIMEZONE:Europe/Ljubljana
END:VEVENT
BEGIN:VEVENT
SUMMARY:Izvedba igranega filma - snemanje - FTV (IGRF-S [FTV])\, seminar i
 n druge oblike (S DO)
DTSTART;TZID=Europe/Ljubljana:20260520T120000
DTEND;TZID=Europe/Ljubljana:20260520T133000
DTSTAMP:20260422T154600Z
UID:agrft-AFLABS-URNIK:premaknjeno-srecanje:132062
ATTENDEE:FTV-S3 (FTV-S)
CATEGORIES:Entry,Standard
COLOR:darkgreen
DESCRIPTION:Predmet: Izvedba igranega filma - snemanje - FTV (IGRF-S [FTV]
 )\, seminar in druge oblike (S DO)\nLetniki: \nIzvajalci: Rok Kajzer Nagod
 e\, Simon Tanšek\nProstor: Atelje za animacijo in fotografijo
LOCATION:Aškerčeva 5\, Atelje za animacijo in fotografijo
ORGANIZER:Rok Kajzer Nagode, Simon Tanšek
RELATED-TO:agrft-AFLABS-URNIK:srecanje:6761
X-WR-TIMEZONE:Europe/Ljubljana
END:VEVENT
BEGIN:VEVENT
SUMMARY:Izvedba igranega filma - snemanje - FTV (IGRF-S [FTV])\, seminar i
 n druge oblike (S DO)
DTSTART;TZID=Europe/Ljubljana:20260527T120000
DTEND;TZID=Europe/Ljubljana:20260527T133000
DTSTAMP:20260422T154600Z
UID:agrft-AFLABS-URNIK:premaknjeno-srecanje:132063
ATTENDEE:FTV-S3 (FTV-S)
CATEGORIES:Entry,Standard
COLOR:darkgreen
DESCRIPTION:Predmet: Izvedba igranega filma - snemanje - FTV (IGRF-S [FTV]
 )\, seminar in druge oblike (S DO)\nLetniki: \nIzvajalci: Rok Kajzer Nagod
 e\, Simon Tanšek\nProstor: Atelje za animacijo in fotografijo
LOCATION:Aškerčeva 5\, Atelje za animacijo in fotografijo
ORGANIZER:Rok Kajzer Nagode, Simon Tanšek
RELATED-TO:agrft-AFLABS-URNIK:srecanje:6761
X-WR-TIMEZONE:Europe/Ljubljana
END:VEVENT
BEGIN:VEVENT
SUMMARY:Izvedba igranega filma - snemanje - FTV (IGRF-S [FTV])\, seminar i
 n druge oblike (S DO)
DTSTART;TZID=Europe/Ljubljana:20260603T120000
DTEND;TZID=Europe/Ljubljana:20260603T133000
DTSTAMP:20260422T154600Z
UID:agrft-AFLABS-URNIK:premaknjeno-srecanje:132064
ATTENDEE:FTV-S3 (FTV-S)
CATEGORIES:Entry,Standard
COLOR:darkgreen
DESCRIPTION:Predmet: Izvedba igranega filma - snemanje - FTV (IGRF-S [FTV]
 )\, seminar in druge oblike (S DO)\nLetniki: \nIzvajalci: Rok Kajzer Nagod
 e\, Simon Tanšek\nProstor: Atelje za animacijo in fotografijo
LOCATION:Aškerčeva 5\, Atelje za animacijo in fotografijo
ORGANIZER:Rok Kajzer Nagode, Simon Tanšek
RELATED-TO:agrft-AFLABS-URNIK:srecanje:6761
X-WR-TIMEZONE:Europe/Ljubljana
END:VEVENT
BEGIN:VEVENT
SUMMARY:Magistrsko delo - Snemanje (MD-SN)\, seminar (S)
DTSTART;TZID=Europe/Ljubljana:20260506T141500
DTEND;TZID=Europe/Ljubljana:20260506T154500
DTSTAMP:20260422T154600Z
UID:agrft-AFLABS-URNIK:premaknjeno-srecanje:132890
ATTENDEE:FTVU-S2 (FTVU-S)
CATEGORIES:Entry,Standard
COLOR:darkgreen
DESCRIPTION:Predmet: Magistrsko delo - Snemanje (MD-SN)\, seminar (S)\nLet
 niki: \nIzvajalci: Jure Černec\, Rok Kajzer Nagode\, Simon Tanšek\nProst
 or: Kabinet T707
LOCATION:Kabinet T707
ORGANIZER:Jure Černec, Rok Kajzer Nagode, Simon Tanšek
RELATED-TO:agrft-AFLABS-URNIK:srecanje:6804
X-WR-TIMEZONE:Europe/Ljubljana
END:VEVENT
BEGIN:VEVENT
SUMMARY:Magistrsko delo - Snemanje (MD-SN)\, seminar (S)
DTSTART;TZID=Europe/Ljubljana:20260513T141500
DTEND;TZID=Europe/Ljubljana:20260513T154500
DTSTAMP:20260422T154600Z
UID:agrft-AFLABS-URNIK:premaknjeno-srecanje:132891
ATTENDEE:FTVU-S2 (FTVU-S)
CATEGORIES:Entry,Standard
COLOR:darkgreen
DESCRIPTION:Predmet: Magistrsko delo - Snemanje (MD-SN)\, seminar (S)\nLet
 niki: \nIzvajalci: Jure Černec\, Rok Kajzer Nagode\, Simon Tanšek\nProst
 or: Kabinet T707
LOCATION:Kabinet T707
ORGANIZER:Jure Černec, Rok Kajzer Nagode, Simon Tanšek
RELATED-TO:agrft-AFLABS-URNIK:srecanje:6804
X-WR-TIMEZONE:Europe/Ljubljana
END:VEVENT
BEGIN:VEVENT
SUMMARY:Magistrsko delo - Snemanje (MD-SN)\, seminar (S)
DTSTART;TZID=Europe/Ljubljana:20260520T141500
DTEND;TZID=Europe/Ljubljana:20260520T154500
DTSTAMP:20260422T154600Z
UID:agrft-AFLABS-URNIK:premaknjeno-srecanje:132892
ATTENDEE:FTVU-S2 (FTVU-S)
CATEGORIES:Entry,Standard
COLOR:darkgreen
DESCRIPTION:Predmet: Magistrsko delo - Snemanje (MD-SN)\, seminar (S)\nLet
 niki: \nIzvajalci: Jure Černec\, Rok Kajzer Nagode\, Simon Tanšek\nProst
 or: Kabinet T707
LOCATION:Kabinet T707
ORGANIZER:Jure Černec, Rok Kajzer Nagode, Simon Tanšek
RELATED-TO:agrft-AFLABS-URNIK:srecanje:6804
X-WR-TIMEZONE:Europe/Ljubljana
END:VEVENT
BEGIN:VEVENT
SUMMARY:Magistrsko delo - Snemanje (MD-SN)\, seminar (S)
DTSTART;TZID=Europe/Ljubljana:20260527T141500
DTEND;TZID=Europe/Ljubljana:20260527T154500
DTSTAMP:20260422T154600Z
UID:agrft-AFLABS-URNIK:premaknjeno-srecanje:132893
ATTENDEE:FTVU-S2 (FTVU-S)
CATEGORIES:Entry,Standard
COLOR:darkgreen
DESCRIPTION:Predmet: Magistrsko delo - Snemanje (MD-SN)\, seminar (S)\nLet
 niki: \nIzvajalci: Jure Černec\, Rok Kajzer Nagode\, Simon Tanšek\nProst
 or: Kabinet T707
LOCATION:Kabinet T707
ORGANIZER:Jure Černec, Rok Kajzer Nagode, Simon Tanšek
RELATED-TO:agrft-AFLABS-URNIK:srecanje:6804
X-WR-TIMEZONE:Europe/Ljubljana
END:VEVENT
BEGIN:VEVENT
SUMMARY:Magistrsko delo - Snemanje (MD-SN)\, seminar (S)
DTSTART;TZID=Europe/Ljubljana:20260603T141500
DTEND;TZID=Europe/Ljubljana:20260603T154500
DTSTAMP:20260422T154600Z
UID:agrft-AFLABS-URNIK:premaknjeno-srecanje:132894
ATTENDEE:FTVU-S2 (FTVU-S)
CATEGORIES:Entry,Standard
COLOR:darkgreen
DESCRIPTION:Predmet: Magistrsko delo - Snemanje (MD-SN)\, seminar (S)\nLet
 niki: \nIzvajalci: Jure Černec\, Rok Kajzer Nagode\, Simon Tanšek\nProst
 or: Kabinet T707
LOCATION:Kabinet T707
ORGANIZER:Jure Černec, Rok Kajzer Nagode, Simon Tanšek
RELATED-TO:agrft-AFLABS-URNIK:srecanje:6804
X-WR-TIMEZONE:Europe/Ljubljana
END:VEVENT
BEGIN:VEVENT
SUMMARY:Snemanje AV projektov (SNMAVP)\, druge oblike študija (DO)
DTSTART;TZID=Europe/Ljubljana:20260506T163000
DTEND;TZID=Europe/Ljubljana:20260506T180000
DTSTAMP:20260422T154600Z
UID:agrft-AFLABS-URNIK:premaknjeno-srecanje:135070
ATTENDEE:FTVU-S1 (FTVU-S)
CATEGORIES:Entry,Standard
COLOR:darkgreen
DESCRIPTION:Predmet: Snemanje AV projektov (SNMAVP)\, druge oblike študij
 a (DO)\nLetniki: \nIzvajalci: Boj Nuvak\, Simon Tanšek\nProstor: Kabinet 
 T707
LOCATION:Kabinet T707
ORGANIZER:Boj Nuvak, Simon Tanšek
RELATED-TO:agrft-AFLABS-URNIK:srecanje:6310
X-WR-TIMEZONE:Europe/Ljubljana
END:VEVENT
BEGIN:VEVENT
SUMMARY:Snemanje AV projektov (SNMAVP)\, druge oblike študija (DO)
DTSTART;TZID=Europe/Ljubljana:20260513T163000
DTEND;TZID=Europe/Ljubljana:20260513T180000
DTSTAMP:20260422T154600Z
UID:agrft-AFLABS-URNIK:premaknjeno-srecanje:135071
ATTENDEE:FTVU-S1 (FTVU-S)
CATEGORIES:Entry,Standard
COLOR:darkgreen
DESCRIPTION:Predmet: Snemanje AV projektov (SNMAVP)\, druge oblike študij
 a (DO)\nLetniki: \nIzvajalci: Boj Nuvak\, Simon Tanšek\nProstor: Kabinet 
 T707
LOCATION:Kabinet T707
ORGANIZER:Boj Nuvak, Simon Tanšek
RELATED-TO:agrft-AFLABS-URNIK:srecanje:6310
X-WR-TIMEZONE:Europe/Ljubljana
END:VEVENT
BEGIN:VEVENT
SUMMARY:Snemanje AV projektov (SNMAVP)\, druge oblike študija (DO)
DTSTART;TZID=Europe/Ljubljana:20260520T163000
DTEND;TZID=Europe/Ljubljana:20260520T180000
DTSTAMP:20260422T154600Z
UID:agrft-AFLABS-URNIK:premaknjeno-srecanje:135072
ATTENDEE:FTVU-S1 (FTVU-S)
CATEGORIES:Entry,Standard
COLOR:darkgreen
DESCRIPTION:Predmet: Snemanje AV projektov (SNMAVP)\, druge oblike študij
 a (DO)\nLetniki: \nIzvajalci: Boj Nuvak\, Simon Tanšek\nProstor: Kabinet 
 T707
LOCATION:Kabinet T707
ORGANIZER:Boj Nuvak, Simon Tanšek
RELATED-TO:agrft-AFLABS-URNIK:srecanje:6310
X-WR-TIMEZONE:Europe/Ljubljana
END:VEVENT
BEGIN:VEVENT
SUMMARY:Snemanje AV projektov (SNMAVP)\, druge oblike študija (DO)
DTSTART;TZID=Europe/Ljubljana:20260527T163000
DTEND;TZID=Europe/Ljubljana:20260527T180000
DTSTAMP:20260422T154600Z
UID:agrft-AFLABS-URNIK:premaknjeno-srecanje:135073
ATTENDEE:FTVU-S1 (FTVU-S)
CATEGORIES:Entry,Standard
COLOR:darkgreen
DESCRIPTION:Predmet: Snemanje AV projektov (SNMAVP)\, druge oblike študij
 a (DO)\nLetniki: \nIzvajalci: Boj Nuvak\, Simon Tanšek\nProstor: Kabinet 
 T707
LOCATION:Kabinet T707
ORGANIZER:Boj Nuvak, Simon Tanšek
RELATED-TO:agrft-AFLABS-URNIK:srecanje:6310
X-WR-TIMEZONE:Europe/Ljubljana
END:VEVENT
BEGIN:VEVENT
SUMMARY:Snemanje AV projektov (SNMAVP)\, druge oblike študija (DO)
DTSTART;TZID=Europe/Ljubljana:20260603T163000
DTEND;TZID=Europe/Ljubljana:20260603T180000
DTSTAMP:20260422T154600Z
UID:agrft-AFLABS-URNIK:premaknjeno-srecanje:135074
ATTENDEE:FTVU-S1 (FTVU-S)
CATEGORIES:Entry,Standard
COLOR:darkgreen
DESCRIPTION:Predmet: Snemanje AV projektov (SNMAVP)\, druge oblike študij
 a (DO)\nLetniki: \nIzvajalci: Boj Nuvak\, Simon Tanšek\nProstor: Kabinet 
 T707
LOCATION:Kabinet T707
ORGANIZER:Boj Nuvak, Simon Tanšek
RELATED-TO:agrft-AFLABS-URNIK:srecanje:6310
X-WR-TIMEZONE:Europe/Ljubljana
END:VEVENT
BEGIN:VEVENT
SUMMARY:3. stopnja
DTSTART;TZID=Europe/Ljubljana:20260522T150000
DTEND;TZID=Europe/Ljubljana:20260522T160000
DTSTAMP:20260422T154600Z
UID:agrft-AFLABS-URNIK:rezervacija:5567
CATEGORIES:Reservation
COLOR:royalblue
DESCRIPTION:Predmeti: \nLetniki: \nIzvajalci: Maja Krajnc\, Simon Tanšek\
 nProstori: Kinodvorana
LOCATION:Aškerčeva 5\, Kinodvorana
ORGANIZER:Maja Krajnc, Simon Tanšek
X-WR-TIMEZONE:Europe/Ljubljana
END:VEVENT
BEGIN:VEVENT
SUMMARY:3. stopnja
DTSTART;TZID=Europe/Ljubljana:20260522T160000
DTEND;TZID=Europe/Ljubljana:20260522T173000
DTSTAMP:20260422T154600Z
UID:agrft-AFLABS-URNIK:rezervacija:5568
CATEGORIES:Reservation
COLOR:royalblue
DESCRIPTION:Predmeti: \nLetniki: \nIzvajalci: Maja Krajnc\, Simon Tanšek\
 nProstori: AV predavalnica 2
LOCATION:Aškerčeva 5\, AV predavalnica 2
ORGANIZER:Maja Krajnc, Simon Tanšek
X-WR-TIMEZONE:Europe/Ljubljana
END:VEVENT
BEGIN:VEVENT
SUMMARY:3. stopnja
DTSTART;TZID=Europe/Ljubljana:20260528T143000
DTEND;TZID=Europe/Ljubljana:20260528T160000
DTSTAMP:20260422T154600Z
UID:agrft-AFLABS-URNIK:rezervacija:5569
CATEGORIES:Reservation
COLOR:royalblue
DESCRIPTION:Predmeti: \nLetniki: \nIzvajalci: Maja Krajnc\, Simon Tanšek\
 nProstori: AV predavalnica 2
LOCATION:Aškerčeva 5\, AV predavalnica 2
ORGANIZER:Maja Krajnc, Simon Tanšek
X-WR-TIMEZONE:Europe/Ljubljana
END:VEVENT
END:VCALENDAR
