BEGIN:VCALENDAR
VERSION:2.0
PRODID:-//AFLabs urnik izvoz - agrft//aflabs.si//SI
DTSTAMP:20260421T220025Z
NAME:Urnik-AGRFT
REFRESH-INTERVAL:PT1H
SOURCE:https://urnik.agrft.uni-lj.si/teacher/53?day=2026-02-02&export=1
URL:https://urnik.agrft.uni-lj.si/teacher/53?day=2026-02-02&export=1
X-PUBLISHED-TTL:PT1H
X-WR-CALNAME:Urnik-AGRFT
X-WR-TIMEZONE:Europe/Ljubljana
BEGIN:VTIMEZONE
TZID:Europe/Ljubljana
BEGIN:DAYLIGHT
DTSTART:20260329T020000
RDATE:20260329T020000
RDATE:20270328T020000
TZNAME:CEST
TZOFFSETFROM:+0100
TZOFFSETTO:+0200
END:DAYLIGHT
BEGIN:STANDARD
DTSTART:20261025T030000
RDATE:20261025T030000
RDATE:20271031T030000
TZNAME:CET
TZOFFSETFROM:+0200
TZOFFSETTO:+0100
END:STANDARD
END:VTIMEZONE
BEGIN:VEVENT
SUMMARY:Vizualna analiza za AV medije - FTV (VANAVME [FTV])\, predavanje i
 n seminar (P S)
DTSTART;TZID=Europe/Ljubljana:20260216T103000
DTEND;TZID=Europe/Ljubljana:20260216T124500
DTSTAMP:20260421T220025Z
UID:agrft-AFLABS-URNIK:premaknjeno-srecanje:135637
ATTENDEE:FTV-S2 (FTV-S)
CATEGORIES:Entry,Standard
COLOR:darkgreen
DESCRIPTION:Predmet: Vizualna analiza za AV medije - FTV (VANAVME [FTV])\,
  predavanje in seminar (P S)\nLetniki: \nIzvajalci: Klemen Dvornik\, Simon
  Tanšek\nProstor: AV predavalnica 3
LOCATION:Aškerčeva 5\, AV predavalnica 3
ORGANIZER:Klemen Dvornik, Simon Tanšek
RELATED-TO:agrft-AFLABS-URNIK:srecanje:6677
X-WR-TIMEZONE:Europe/Ljubljana
END:VEVENT
BEGIN:VEVENT
SUMMARY:Vizualna analiza za AV medije - FTV (VANAVME [FTV])\, predavanje i
 n seminar (P S)
DTSTART;TZID=Europe/Ljubljana:20260223T103000
DTEND;TZID=Europe/Ljubljana:20260223T124500
DTSTAMP:20260421T220025Z
UID:agrft-AFLABS-URNIK:premaknjeno-srecanje:135638
ATTENDEE:FTV-S2 (FTV-S)
CATEGORIES:Entry,Standard
COLOR:darkgreen
DESCRIPTION:Predmet: Vizualna analiza za AV medije - FTV (VANAVME [FTV])\,
  predavanje in seminar (P S)\nLetniki: \nIzvajalci: Klemen Dvornik\, Simon
  Tanšek\nProstor: AV predavalnica 3
LOCATION:Aškerčeva 5\, AV predavalnica 3
ORGANIZER:Klemen Dvornik, Simon Tanšek
RELATED-TO:agrft-AFLABS-URNIK:srecanje:6677
X-WR-TIMEZONE:Europe/Ljubljana
END:VEVENT
BEGIN:VEVENT
SUMMARY:Vizualna analiza za AV medije - FTV (VANAVME [FTV])\, predavanje i
 n seminar (P S)
DTSTART;TZID=Europe/Ljubljana:20260302T103000
DTEND;TZID=Europe/Ljubljana:20260302T124500
DTSTAMP:20260421T220025Z
UID:agrft-AFLABS-URNIK:premaknjeno-srecanje:135639
ATTENDEE:FTV-S2 (FTV-S)
CATEGORIES:Entry,Standard
COLOR:darkgreen
DESCRIPTION:Predmet: Vizualna analiza za AV medije - FTV (VANAVME [FTV])\,
  predavanje in seminar (P S)\nLetniki: \nIzvajalci: Klemen Dvornik\, Simon
  Tanšek\nProstor: AV predavalnica 3
LOCATION:Aškerčeva 5\, AV predavalnica 3
ORGANIZER:Klemen Dvornik, Simon Tanšek
RELATED-TO:agrft-AFLABS-URNIK:srecanje:6677
X-WR-TIMEZONE:Europe/Ljubljana
END:VEVENT
BEGIN:VEVENT
SUMMARY:Vizualna analiza za AV medije - FTV (VANAVME [FTV])\, predavanje i
 n seminar (P S)
DTSTART;TZID=Europe/Ljubljana:20260309T103000
DTEND;TZID=Europe/Ljubljana:20260309T124500
DTSTAMP:20260421T220025Z
UID:agrft-AFLABS-URNIK:premaknjeno-srecanje:135640
ATTENDEE:FTV-S2 (FTV-S)
CATEGORIES:Entry,Standard
COLOR:darkgreen
DESCRIPTION:Predmet: Vizualna analiza za AV medije - FTV (VANAVME [FTV])\,
  predavanje in seminar (P S)\nLetniki: \nIzvajalci: Klemen Dvornik\, Simon
  Tanšek\nProstor: AV predavalnica 3
LOCATION:Aškerčeva 5\, AV predavalnica 3
ORGANIZER:Klemen Dvornik, Simon Tanšek
RELATED-TO:agrft-AFLABS-URNIK:srecanje:6677
X-WR-TIMEZONE:Europe/Ljubljana
END:VEVENT
BEGIN:VEVENT
SUMMARY:Kamera II - FTV (K-II [FTV])\, predavanje in vaje (P V)
DTSTART;TZID=Europe/Ljubljana:20260217T090000
DTEND;TZID=Europe/Ljubljana:20260217T120000
DTSTAMP:20260421T220025Z
UID:agrft-AFLABS-URNIK:premaknjeno-srecanje:132279
ATTENDEE:FTV-S2 (FTV-S)
CATEGORIES:Entry,Standard
COLOR:darkgreen
DESCRIPTION:Predmet: Kamera II - FTV (K-II [FTV])\, predavanje in vaje (P 
 V)\nLetniki: \nIzvajalci: Boj Nuvak\, Simon Tanšek\nProstor: Zgodborisnic
 a
LOCATION:Aškerčeva 5\, Zgodborisnica
ORGANIZER:Boj Nuvak, Simon Tanšek
RELATED-TO:agrft-AFLABS-URNIK:srecanje:6340
X-WR-TIMEZONE:Europe/Ljubljana
END:VEVENT
BEGIN:VEVENT
SUMMARY:Kamera II - FTV (K-II [FTV])\, predavanje in vaje (P V)
DTSTART;TZID=Europe/Ljubljana:20260224T090000
DTEND;TZID=Europe/Ljubljana:20260224T120000
DTSTAMP:20260421T220025Z
UID:agrft-AFLABS-URNIK:premaknjeno-srecanje:132280
ATTENDEE:FTV-S2 (FTV-S)
CATEGORIES:Entry,Standard
COLOR:darkgreen
DESCRIPTION:Predmet: Kamera II - FTV (K-II [FTV])\, predavanje in vaje (P 
 V)\nLetniki: \nIzvajalci: Boj Nuvak\, Simon Tanšek\nProstor: Zgodborisnic
 a
LOCATION:Aškerčeva 5\, Zgodborisnica
ORGANIZER:Boj Nuvak, Simon Tanšek
RELATED-TO:agrft-AFLABS-URNIK:srecanje:6340
X-WR-TIMEZONE:Europe/Ljubljana
END:VEVENT
BEGIN:VEVENT
SUMMARY:Kamera II - FTV (K-II [FTV])\, predavanje in vaje (P V)
DTSTART;TZID=Europe/Ljubljana:20260303T090000
DTEND;TZID=Europe/Ljubljana:20260303T120000
DTSTAMP:20260421T220025Z
UID:agrft-AFLABS-URNIK:premaknjeno-srecanje:132281
ATTENDEE:FTV-S2 (FTV-S)
CATEGORIES:Entry,Standard
COLOR:darkgreen
DESCRIPTION:Predmet: Kamera II - FTV (K-II [FTV])\, predavanje in vaje (P 
 V)\nLetniki: \nIzvajalci: Boj Nuvak\, Simon Tanšek\nProstor: Zgodborisnic
 a
LOCATION:Aškerčeva 5\, Zgodborisnica
ORGANIZER:Boj Nuvak, Simon Tanšek
RELATED-TO:agrft-AFLABS-URNIK:srecanje:6340
X-WR-TIMEZONE:Europe/Ljubljana
END:VEVENT
BEGIN:VEVENT
SUMMARY:Kino projekcija (KINO)\, druge oblike študija (DO)
DTSTART;TZID=Europe/Ljubljana:20260217T180000
DTEND;TZID=Europe/Ljubljana:20260217T210000
DTSTAMP:20260421T220025Z
UID:agrft-AFLABS-URNIK:premaknjeno-srecanje:132295
ATTENDEE:FTV-M1 (FTV-M)
ATTENDEE:FTV-M2 (FTV-M)
ATTENDEE:FTV-M3 (FTV-M)
ATTENDEE:FTV-R1 (FTV-R)
ATTENDEE:FTV-R2 (FTV-R)
ATTENDEE:FTV-R3 (FTV-R)
ATTENDEE:FTV-S1 (FTV-S)
ATTENDEE:FTV-S2 (FTV-S)
ATTENDEE:FTV-S3 (FTV-S)
CATEGORIES:Entry,Standard
COLOR:darkgreen
DESCRIPTION:Predmet: Kino projekcija (KINO)\, druge oblike študija (DO)\n
 Letniki: \nIzvajalci: Boj Nuvak\, Simon Tanšek\nProstor: Kinodvorana
LOCATION:Aškerčeva 5\, Kinodvorana
ORGANIZER:Boj Nuvak, Simon Tanšek
RELATED-TO:agrft-AFLABS-URNIK:srecanje:4818
X-WR-TIMEZONE:Europe/Ljubljana
END:VEVENT
BEGIN:VEVENT
SUMMARY:Kino projekcija (KINO)\, druge oblike študija (DO)
DTSTART;TZID=Europe/Ljubljana:20260224T180000
DTEND;TZID=Europe/Ljubljana:20260224T210000
DTSTAMP:20260421T220025Z
UID:agrft-AFLABS-URNIK:premaknjeno-srecanje:132296
ATTENDEE:FTV-M1 (FTV-M)
ATTENDEE:FTV-M2 (FTV-M)
ATTENDEE:FTV-M3 (FTV-M)
ATTENDEE:FTV-R1 (FTV-R)
ATTENDEE:FTV-R2 (FTV-R)
ATTENDEE:FTV-R3 (FTV-R)
ATTENDEE:FTV-S1 (FTV-S)
ATTENDEE:FTV-S2 (FTV-S)
ATTENDEE:FTV-S3 (FTV-S)
CATEGORIES:Entry,Standard
COLOR:darkgreen
DESCRIPTION:Predmet: Kino projekcija (KINO)\, druge oblike študija (DO)\n
 Letniki: \nIzvajalci: Boj Nuvak\, Simon Tanšek\nProstor: Kinodvorana
LOCATION:Aškerčeva 5\, Kinodvorana
ORGANIZER:Boj Nuvak, Simon Tanšek
RELATED-TO:agrft-AFLABS-URNIK:srecanje:4818
X-WR-TIMEZONE:Europe/Ljubljana
END:VEVENT
BEGIN:VEVENT
SUMMARY:Kino projekcija (KINO)\, druge oblike študija (DO)
DTSTART;TZID=Europe/Ljubljana:20260303T180000
DTEND;TZID=Europe/Ljubljana:20260303T210000
DTSTAMP:20260421T220025Z
UID:agrft-AFLABS-URNIK:premaknjeno-srecanje:132297
ATTENDEE:FTV-M1 (FTV-M)
ATTENDEE:FTV-M2 (FTV-M)
ATTENDEE:FTV-M3 (FTV-M)
ATTENDEE:FTV-R1 (FTV-R)
ATTENDEE:FTV-R2 (FTV-R)
ATTENDEE:FTV-R3 (FTV-R)
ATTENDEE:FTV-S1 (FTV-S)
ATTENDEE:FTV-S2 (FTV-S)
ATTENDEE:FTV-S3 (FTV-S)
CATEGORIES:Entry,Standard
COLOR:darkgreen
DESCRIPTION:Predmet: Kino projekcija (KINO)\, druge oblike študija (DO)\n
 Letniki: \nIzvajalci: Boj Nuvak\, Simon Tanšek\nProstor: Kinodvorana
LOCATION:Aškerčeva 5\, Kinodvorana
ORGANIZER:Boj Nuvak, Simon Tanšek
RELATED-TO:agrft-AFLABS-URNIK:srecanje:4818
X-WR-TIMEZONE:Europe/Ljubljana
END:VEVENT
BEGIN:VEVENT
SUMMARY:Izvedba igranega filma - snemanje - FTV (IGRF-S [FTV])\, seminar i
 n druge oblike (S DO)
DTSTART;TZID=Europe/Ljubljana:20260218T120000
DTEND;TZID=Europe/Ljubljana:20260218T133000
DTSTAMP:20260421T220025Z
UID:agrft-AFLABS-URNIK:premaknjeno-srecanje:132049
ATTENDEE:FTV-S3 (FTV-S)
CATEGORIES:Entry,Standard
COLOR:darkgreen
DESCRIPTION:Predmet: Izvedba igranega filma - snemanje - FTV (IGRF-S [FTV]
 )\, seminar in druge oblike (S DO)\nLetniki: \nIzvajalci: Rok Kajzer Nagod
 e\, Simon Tanšek\nProstor: Atelje za animacijo in fotografijo
LOCATION:Aškerčeva 5\, Atelje za animacijo in fotografijo
ORGANIZER:Rok Kajzer Nagode, Simon Tanšek
RELATED-TO:agrft-AFLABS-URNIK:srecanje:6761
X-WR-TIMEZONE:Europe/Ljubljana
END:VEVENT
BEGIN:VEVENT
SUMMARY:Izvedba igranega filma - snemanje - FTV (IGRF-S [FTV])\, seminar i
 n druge oblike (S DO)
DTSTART;TZID=Europe/Ljubljana:20260225T120000
DTEND;TZID=Europe/Ljubljana:20260225T133000
DTSTAMP:20260421T220025Z
UID:agrft-AFLABS-URNIK:premaknjeno-srecanje:132050
ATTENDEE:FTV-S3 (FTV-S)
CATEGORIES:Entry,Standard
COLOR:darkgreen
DESCRIPTION:Predmet: Izvedba igranega filma - snemanje - FTV (IGRF-S [FTV]
 )\, seminar in druge oblike (S DO)\nLetniki: \nIzvajalci: Rok Kajzer Nagod
 e\, Simon Tanšek\nProstor: Atelje za animacijo in fotografijo
LOCATION:Aškerčeva 5\, Atelje za animacijo in fotografijo
ORGANIZER:Rok Kajzer Nagode, Simon Tanšek
RELATED-TO:agrft-AFLABS-URNIK:srecanje:6761
X-WR-TIMEZONE:Europe/Ljubljana
END:VEVENT
BEGIN:VEVENT
SUMMARY:Izvedba igranega filma - snemanje - FTV (IGRF-S [FTV])\, seminar i
 n druge oblike (S DO)
DTSTART;TZID=Europe/Ljubljana:20260304T120000
DTEND;TZID=Europe/Ljubljana:20260304T133000
DTSTAMP:20260421T220025Z
UID:agrft-AFLABS-URNIK:premaknjeno-srecanje:132051
ATTENDEE:FTV-S3 (FTV-S)
CATEGORIES:Entry,Standard
COLOR:darkgreen
DESCRIPTION:Predmet: Izvedba igranega filma - snemanje - FTV (IGRF-S [FTV]
 )\, seminar in druge oblike (S DO)\nLetniki: \nIzvajalci: Rok Kajzer Nagod
 e\, Simon Tanšek\nProstor: Atelje za animacijo in fotografijo
LOCATION:Aškerčeva 5\, Atelje za animacijo in fotografijo
ORGANIZER:Rok Kajzer Nagode, Simon Tanšek
RELATED-TO:agrft-AFLABS-URNIK:srecanje:6761
X-WR-TIMEZONE:Europe/Ljubljana
END:VEVENT
BEGIN:VEVENT
SUMMARY:Magistrsko delo - Snemanje (MD-SN)\, seminar (S)
DTSTART;TZID=Europe/Ljubljana:20260218T141500
DTEND;TZID=Europe/Ljubljana:20260218T154500
DTSTAMP:20260421T220025Z
UID:agrft-AFLABS-URNIK:premaknjeno-srecanje:132879
ATTENDEE:FTVU-S2 (FTVU-S)
CATEGORIES:Entry,Standard
COLOR:darkgreen
DESCRIPTION:Predmet: Magistrsko delo - Snemanje (MD-SN)\, seminar (S)\nLet
 niki: \nIzvajalci: Jure Černec\, Rok Kajzer Nagode\, Simon Tanšek\nProst
 or: Kabinet T707
LOCATION:Kabinet T707
ORGANIZER:Jure Černec, Rok Kajzer Nagode, Simon Tanšek
RELATED-TO:agrft-AFLABS-URNIK:srecanje:6804
X-WR-TIMEZONE:Europe/Ljubljana
END:VEVENT
BEGIN:VEVENT
SUMMARY:Magistrsko delo - Snemanje (MD-SN)\, seminar (S)
DTSTART;TZID=Europe/Ljubljana:20260225T141500
DTEND;TZID=Europe/Ljubljana:20260225T154500
DTSTAMP:20260421T220025Z
UID:agrft-AFLABS-URNIK:premaknjeno-srecanje:132880
ATTENDEE:FTVU-S2 (FTVU-S)
CATEGORIES:Entry,Standard
COLOR:darkgreen
DESCRIPTION:Predmet: Magistrsko delo - Snemanje (MD-SN)\, seminar (S)\nLet
 niki: \nIzvajalci: Jure Černec\, Rok Kajzer Nagode\, Simon Tanšek\nProst
 or: Kabinet T707
LOCATION:Kabinet T707
ORGANIZER:Jure Černec, Rok Kajzer Nagode, Simon Tanšek
RELATED-TO:agrft-AFLABS-URNIK:srecanje:6804
X-WR-TIMEZONE:Europe/Ljubljana
END:VEVENT
BEGIN:VEVENT
SUMMARY:Magistrsko delo - Snemanje (MD-SN)\, seminar (S)
DTSTART;TZID=Europe/Ljubljana:20260304T141500
DTEND;TZID=Europe/Ljubljana:20260304T154500
DTSTAMP:20260421T220025Z
UID:agrft-AFLABS-URNIK:premaknjeno-srecanje:132881
ATTENDEE:FTVU-S2 (FTVU-S)
CATEGORIES:Entry,Standard
COLOR:darkgreen
DESCRIPTION:Predmet: Magistrsko delo - Snemanje (MD-SN)\, seminar (S)\nLet
 niki: \nIzvajalci: Jure Černec\, Rok Kajzer Nagode\, Simon Tanšek\nProst
 or: Kabinet T707
LOCATION:Kabinet T707
ORGANIZER:Jure Černec, Rok Kajzer Nagode, Simon Tanšek
RELATED-TO:agrft-AFLABS-URNIK:srecanje:6804
X-WR-TIMEZONE:Europe/Ljubljana
END:VEVENT
BEGIN:VEVENT
SUMMARY:Snemanje AV projektov (SNMAVP)\, druge oblike študija (DO)
DTSTART;TZID=Europe/Ljubljana:20260218T163000
DTEND;TZID=Europe/Ljubljana:20260218T180000
DTSTAMP:20260421T220025Z
UID:agrft-AFLABS-URNIK:premaknjeno-srecanje:135059
ATTENDEE:FTVU-S1 (FTVU-S)
CATEGORIES:Entry,Standard
COLOR:darkgreen
DESCRIPTION:Predmet: Snemanje AV projektov (SNMAVP)\, druge oblike študij
 a (DO)\nLetniki: \nIzvajalci: Boj Nuvak\, Simon Tanšek\nProstor: Kabinet 
 T707
LOCATION:Kabinet T707
ORGANIZER:Boj Nuvak, Simon Tanšek
RELATED-TO:agrft-AFLABS-URNIK:srecanje:6310
X-WR-TIMEZONE:Europe/Ljubljana
END:VEVENT
BEGIN:VEVENT
SUMMARY:Snemanje AV projektov (SNMAVP)\, druge oblike študija (DO)
DTSTART;TZID=Europe/Ljubljana:20260225T163000
DTEND;TZID=Europe/Ljubljana:20260225T180000
DTSTAMP:20260421T220025Z
UID:agrft-AFLABS-URNIK:premaknjeno-srecanje:135060
ATTENDEE:FTVU-S1 (FTVU-S)
CATEGORIES:Entry,Standard
COLOR:darkgreen
DESCRIPTION:Predmet: Snemanje AV projektov (SNMAVP)\, druge oblike študij
 a (DO)\nLetniki: \nIzvajalci: Boj Nuvak\, Simon Tanšek\nProstor: Kabinet 
 T707
LOCATION:Kabinet T707
ORGANIZER:Boj Nuvak, Simon Tanšek
RELATED-TO:agrft-AFLABS-URNIK:srecanje:6310
X-WR-TIMEZONE:Europe/Ljubljana
END:VEVENT
BEGIN:VEVENT
SUMMARY:Snemanje AV projektov (SNMAVP)\, druge oblike študija (DO)
DTSTART;TZID=Europe/Ljubljana:20260304T163000
DTEND;TZID=Europe/Ljubljana:20260304T180000
DTSTAMP:20260421T220025Z
UID:agrft-AFLABS-URNIK:premaknjeno-srecanje:135061
ATTENDEE:FTVU-S1 (FTVU-S)
CATEGORIES:Entry,Standard
COLOR:darkgreen
DESCRIPTION:Predmet: Snemanje AV projektov (SNMAVP)\, druge oblike študij
 a (DO)\nLetniki: \nIzvajalci: Boj Nuvak\, Simon Tanšek\nProstor: Kabinet 
 T707
LOCATION:Kabinet T707
ORGANIZER:Boj Nuvak, Simon Tanšek
RELATED-TO:agrft-AFLABS-URNIK:srecanje:6310
X-WR-TIMEZONE:Europe/Ljubljana
END:VEVENT
BEGIN:VEVENT
SUMMARY:priprava AV dela - Maja Blažič
DTSTART;TZID=Europe/Ljubljana:20260217T120000
DTEND;TZID=Europe/Ljubljana:20260217T140000
DTSTAMP:20260421T220025Z
UID:agrft-AFLABS-URNIK:rezervacija:5148
CATEGORIES:Reservation
COLOR:royalblue
DESCRIPTION:Predmeti: Snemanje AV projektov (SNMAVP)\nLetniki: \nIzvajalci
 : Simon Tanšek\nProstori: Atelje za animacijo in fotografijo
LOCATION:Aškerčeva 5\, Atelje za animacijo in fotografijo
ORGANIZER:Simon Tanšek
X-WR-TIMEZONE:Europe/Ljubljana
END:VEVENT
BEGIN:VEVENT
SUMMARY:kreiranje urnika
DTSTART;TZID=Europe/Ljubljana:20260122T130000
DTEND;TZID=Europe/Ljubljana:20260122T204500
DTSTAMP:20260421T220025Z
UID:agrft-AFLABS-URNIK:rezervacija:4806
CATEGORIES:Reservation
COLOR:royalblue
DESCRIPTION:Predmeti: \nLetniki: \nIzvajalci: Andrej Nagode\, Simon Tanše
 k\nProstori: Atelje za animacijo in fotografijo
LOCATION:Aškerčeva 5\, Atelje za animacijo in fotografijo
ORGANIZER:Andrej Nagode, Simon Tanšek
X-WR-TIMEZONE:Europe/Ljubljana
END:VEVENT
BEGIN:VEVENT
SUMMARY:sestanek Kajzer Nagode\, Tanšek in študent Recko
DTSTART;TZID=Europe/Ljubljana:20260303T143000
DTEND;TZID=Europe/Ljubljana:20260303T150000
DTSTAMP:20260421T220025Z
UID:agrft-AFLABS-URNIK:rezervacija:5368
CATEGORIES:Reservation
COLOR:royalblue
DESCRIPTION:Predmeti: \nLetniki: \nIzvajalci: Rok Kajzer Nagode\, Simon Ta
 nšek\nProstori: Atelje za animacijo in fotografijo
LOCATION:Aškerčeva 5\, Atelje za animacijo in fotografijo
ORGANIZER:Rok Kajzer Nagode, Simon Tanšek
X-WR-TIMEZONE:Europe/Ljubljana
END:VEVENT
BEGIN:VEVENT
SUMMARY:konzultacije film 3. letnika
DTSTART;TZID=Europe/Ljubljana:20260129T100000
DTEND;TZID=Europe/Ljubljana:20260129T110000
DTSTAMP:20260421T220025Z
UID:agrft-AFLABS-URNIK:rezervacija:4846
CATEGORIES:Reservation
COLOR:royalblue
DESCRIPTION:Predmeti: Izvedba igranega filma - snemanje - FTV (IGRF-S [FTV
 ])\nLetniki: \nIzvajalci: Simon Tanšek\nProstori: Atelje za animacijo in 
 fotografijo
LOCATION:Aškerčeva 5\, Atelje za animacijo in fotografijo
ORGANIZER:Simon Tanšek
X-WR-TIMEZONE:Europe/Ljubljana
END:VEVENT
BEGIN:VEVENT
SUMMARY:projekcija vaje Prostor
DTSTART;TZID=Europe/Ljubljana:20260203T100000
DTEND;TZID=Europe/Ljubljana:20260203T113000
DTSTAMP:20260421T220025Z
UID:agrft-AFLABS-URNIK:rezervacija:4792
CATEGORIES:Reservation
COLOR:royalblue
DESCRIPTION:Predmeti: Barva in svetloba I - FTV (BIS-I [FTV])\nLetniki: \n
 Izvajalci: Boj Nuvak\, Simon Tanšek\nProstori: Kinodvorana
LOCATION:Aškerčeva 5\, Kinodvorana
ORGANIZER:Boj Nuvak, Simon Tanšek
X-WR-TIMEZONE:Europe/Ljubljana
END:VEVENT
BEGIN:VEVENT
SUMMARY:vaje
DTSTART;TZID=Europe/Ljubljana:20260225T163000
DTEND;TZID=Europe/Ljubljana:20260225T183000
DTSTAMP:20260421T220025Z
UID:agrft-AFLABS-URNIK:rezervacija:5340
CATEGORIES:Reservation
COLOR:royalblue
DESCRIPTION:Predmeti: Snemanje AV projektov (SNMAVP)\nLetniki: \nIzvajalci
 : Boj Nuvak\, Simon Tanšek\nProstori: T303
LOCATION:Trubarjeva 3\, T303
ORGANIZER:Boj Nuvak, Simon Tanšek
X-WR-TIMEZONE:Europe/Ljubljana
END:VEVENT
BEGIN:VEVENT
SUMMARY:testna projekcija Staro-novo + Nož anticorro
DTSTART;TZID=Europe/Ljubljana:20260202T124500
DTEND;TZID=Europe/Ljubljana:20260202T150000
DTSTAMP:20260421T220025Z
UID:agrft-AFLABS-URNIK:rezervacija:4744
CATEGORIES:Reservation
COLOR:royalblue
DESCRIPTION:Predmeti: Kamera III - FTV (K-III [FTV])\, Svetloba in razsvet
 ljava I - FTV (SIR-I [FTV])\nLetniki: \nIzvajalci: Rok Kajzer Nagode\, Sim
 on Tanšek\nProstori: Kinodvorana
LOCATION:Aškerčeva 5\, Kinodvorana
ORGANIZER:Rok Kajzer Nagode, Simon Tanšek
X-WR-TIMEZONE:Europe/Ljubljana
END:VEVENT
BEGIN:VEVENT
SUMMARY:konzultacije AV delo
DTSTART;TZID=Europe/Ljubljana:20260211T143000
DTEND;TZID=Europe/Ljubljana:20260211T163000
DTSTAMP:20260421T220025Z
UID:agrft-AFLABS-URNIK:rezervacija:4931
CATEGORIES:Reservation
COLOR:royalblue
DESCRIPTION:Predmeti: Snemanje AV projektov (SNMAVP)\nLetniki: \nIzvajalci
 : Simon Tanšek\nProstori: Atelje za animacijo in fotografijo
LOCATION:Aškerčeva 5\, Atelje za animacijo in fotografijo
ORGANIZER:Simon Tanšek
X-WR-TIMEZONE:Europe/Ljubljana
END:VEVENT
BEGIN:VEVENT
SUMMARY:konzultacije vaj Nož anticorro
DTSTART;TZID=Europe/Ljubljana:20260112T133000
DTEND;TZID=Europe/Ljubljana:20260112T153000
DTSTAMP:20260421T220025Z
UID:agrft-AFLABS-URNIK:rezervacija:4742
CATEGORIES:Reservation
COLOR:royalblue
DESCRIPTION:Predmeti: Svetloba in razsvetljava I - FTV (SIR-I [FTV])\nLetn
 iki: \nIzvajalci: Simon Tanšek\nProstori: Atelje za animacijo in fotograf
 ijo
LOCATION:Aškerčeva 5\, Atelje za animacijo in fotografijo
ORGANIZER:Simon Tanšek
X-WR-TIMEZONE:Europe/Ljubljana
END:VEVENT
BEGIN:VEVENT
SUMMARY:izpit Barva in svetloba
DTSTART;TZID=Europe/Ljubljana:20260121T160000
DTEND;TZID=Europe/Ljubljana:20260121T204500
DTSTAMP:20260421T220025Z
UID:agrft-AFLABS-URNIK:rezervacija:4793
CATEGORIES:Reservation
COLOR:royalblue
DESCRIPTION:Predmeti: Barva in svetloba I - FTV (BIS-I [FTV])\nLetniki: \n
 Izvajalci: Boj Nuvak\, Simon Tanšek\nProstori: AV predavalnica 3
LOCATION:Aškerčeva 5\, AV predavalnica 3
ORGANIZER:Boj Nuvak, Simon Tanšek
X-WR-TIMEZONE:Europe/Ljubljana
END:VEVENT
BEGIN:VEVENT
SUMMARY:priprava tehnike za AV delo - Blažič in Hitrec
DTSTART;TZID=Europe/Ljubljana:20260223T084500
DTEND;TZID=Europe/Ljubljana:20260223T120000
DTSTAMP:20260421T220025Z
UID:agrft-AFLABS-URNIK:rezervacija:5211
CATEGORIES:Reservation
COLOR:royalblue
DESCRIPTION:Predmeti: Snemanje AV projektov (SNMAVP)\nLetniki: \nIzvajalci
 : Boj Nuvak\, Simon Tanšek\nProstori: Atelje za animacijo in fotografijo
LOCATION:Aškerčeva 5\, Atelje za animacijo in fotografijo
ORGANIZER:Boj Nuvak, Simon Tanšek
X-WR-TIMEZONE:Europe/Ljubljana
END:VEVENT
BEGIN:VEVENT
SUMMARY:izpitna projekcija zaključnih filmov 3. letnika
DTSTART;TZID=Europe/Ljubljana:20260119T104500
DTEND;TZID=Europe/Ljubljana:20260119T121500
DTSTAMP:20260421T220025Z
UID:agrft-AFLABS-URNIK:rezervacija:4406
CATEGORIES:Reservation
COLOR:royalblue
DESCRIPTION:Predmeti: Izvedba igranega filma - snemanje - FTV (IGRF-S [FTV
 ])\nLetniki: \nIzvajalci: Jure Černec\, Simon Tanšek\nProstori: Kinodvor
 ana
LOCATION:Aškerčeva 5\, Kinodvorana
ORGANIZER:Jure Černec, Simon Tanšek
X-WR-TIMEZONE:Europe/Ljubljana
END:VEVENT
BEGIN:VEVENT
SUMMARY:kreiranje urnika
DTSTART;TZID=Europe/Ljubljana:20260129T110000
DTEND;TZID=Europe/Ljubljana:20260129T204500
DTSTAMP:20260421T220025Z
UID:agrft-AFLABS-URNIK:rezervacija:4808
CATEGORIES:Reservation
COLOR:royalblue
DESCRIPTION:Predmeti: \nLetniki: \nIzvajalci: Andrej Nagode\, Simon Tanše
 k\nProstori: Atelje za animacijo in fotografijo
LOCATION:Aškerčeva 5\, Atelje za animacijo in fotografijo
ORGANIZER:Andrej Nagode, Simon Tanšek
X-WR-TIMEZONE:Europe/Ljubljana
END:VEVENT
BEGIN:VEVENT
SUMMARY:kreiranje urnika za letni semester
DTSTART;TZID=Europe/Ljubljana:20251229T100000
DTEND;TZID=Europe/Ljubljana:20251229T190000
DTSTAMP:20260421T220025Z
UID:agrft-AFLABS-URNIK:rezervacija:4517
CATEGORIES:Reservation
COLOR:royalblue
DESCRIPTION:Predmeti: \nLetniki: \nIzvajalci: Andrej Nagode\, Simon Tanše
 k\nProstori: Atelje za animacijo in fotografijo
LOCATION:Aškerčeva 5\, Atelje za animacijo in fotografijo
ORGANIZER:Andrej Nagode, Simon Tanšek
X-WR-TIMEZONE:Europe/Ljubljana
END:VEVENT
BEGIN:VEVENT
SUMMARY:kreiranje urnika
DTSTART;TZID=Europe/Ljubljana:20260130T100000
DTEND;TZID=Europe/Ljubljana:20260130T200000
DTSTAMP:20260421T220025Z
UID:agrft-AFLABS-URNIK:rezervacija:4841
CATEGORIES:Reservation
COLOR:royalblue
DESCRIPTION:Predmeti: \nLetniki: \nIzvajalci: Andrej Nagode\, Simon Tanše
 k\nProstori: Atelje za animacijo in fotografijo
LOCATION:Aškerčeva 5\, Atelje za animacijo in fotografijo
ORGANIZER:Andrej Nagode, Simon Tanšek
X-WR-TIMEZONE:Europe/Ljubljana
END:VEVENT
BEGIN:VEVENT
SUMMARY:konzultacije Maja Blažič
DTSTART;TZID=Europe/Ljubljana:20260226T093000
DTEND;TZID=Europe/Ljubljana:20260226T110000
DTSTAMP:20260421T220025Z
UID:agrft-AFLABS-URNIK:rezervacija:5342
CATEGORIES:Reservation
COLOR:royalblue
DESCRIPTION:Predmeti: Snemanje AV projektov (SNMAVP)\nLetniki: \nIzvajalci
 : Simon Tanšek\nProstori: AV predavalnica 2
LOCATION:Aškerčeva 5\, AV predavalnica 2
ORGANIZER:Simon Tanšek
X-WR-TIMEZONE:Europe/Ljubljana
END:VEVENT
BEGIN:VEVENT
SUMMARY:testna projekcija DCP Sanje
DTSTART;TZID=Europe/Ljubljana:20260202T113000
DTEND;TZID=Europe/Ljubljana:20260202T124500
DTSTAMP:20260421T220025Z
UID:agrft-AFLABS-URNIK:rezervacija:4891
CATEGORIES:Reservation
COLOR:royalblue
DESCRIPTION:Predmeti: Umetnost snemanja I (UMSNEM-I)\nLetniki: \nIzvajalci
 : Simon Tanšek\nProstori: Kinodvorana
LOCATION:Aškerčeva 5\, Kinodvorana
ORGANIZER:Simon Tanšek
X-WR-TIMEZONE:Europe/Ljubljana
END:VEVENT
BEGIN:VEVENT
SUMMARY:izpitna projekcija vaj katedre kamere
DTSTART;TZID=Europe/Ljubljana:20260210T090000
DTEND;TZID=Europe/Ljubljana:20260210T180000
DTSTAMP:20260421T220025Z
UID:agrft-AFLABS-URNIK:rezervacija:4302
CATEGORIES:Reservation
COLOR:royalblue
DESCRIPTION:Predmeti: Kamera III - FTV (K-III [FTV])\, Barva in svetloba I
  - FTV (BIS-I [FTV])\, Kamera I - FTV (K-I [FTV])\, Umetnost snemanja II (
 UMSNEM-II)\, Umetnost snemanja I (UMSNEM-I)\, Svetloba in razsvetljava I -
  FTV (SIR-I [FTV])\nLetniki: \nIzvajalci: Jure Černec\, Darko Herič\, Ro
 k Kajzer Nagode\, Lev Predan Kowarski\, Boj Nuvak\, Simon Tanšek\nProstor
 i: Kinodvorana
LOCATION:Aškerčeva 5\, Kinodvorana
ORGANIZER:Jure Černec, Darko Herič, Rok Kajzer Nagode, Lev Predan Kowars
 ki, Boj Nuvak, Simon Tanšek
X-WR-TIMEZONE:Europe/Ljubljana
END:VEVENT
BEGIN:VEVENT
SUMMARY:izpit Barva in svetloba
DTSTART;TZID=Europe/Ljubljana:20260203T113000
DTEND;TZID=Europe/Ljubljana:20260203T130000
DTSTAMP:20260421T220025Z
UID:agrft-AFLABS-URNIK:rezervacija:4794
CATEGORIES:Reservation
COLOR:royalblue
DESCRIPTION:Predmeti: Barva in svetloba I - FTV (BIS-I [FTV])\nLetniki: \n
 Izvajalci: Boj Nuvak\, Simon Tanšek\nProstori: AV predavalnica 3
LOCATION:Aškerčeva 5\, AV predavalnica 3
ORGANIZER:Boj Nuvak, Simon Tanšek
X-WR-TIMEZONE:Europe/Ljubljana
END:VEVENT
BEGIN:VEVENT
SUMMARY:DCP Prostor
DTSTART;TZID=Europe/Ljubljana:20260209T094500
DTEND;TZID=Europe/Ljubljana:20260209T101500
DTSTAMP:20260421T220025Z
UID:agrft-AFLABS-URNIK:rezervacija:4916
CATEGORIES:Reservation
COLOR:royalblue
DESCRIPTION:Predmeti: Barva in svetloba I - FTV (BIS-I [FTV])\nLetniki: \n
 Izvajalci: Boj Nuvak\, Simon Tanšek\nProstori: Kinodvorana
LOCATION:Aškerčeva 5\, Kinodvorana
ORGANIZER:Boj Nuvak, Simon Tanšek
X-WR-TIMEZONE:Europe/Ljubljana
END:VEVENT
BEGIN:VEVENT
SUMMARY:konzultacije Sanje
DTSTART;TZID=Europe/Ljubljana:20260121T111500
DTEND;TZID=Europe/Ljubljana:20260121T143000
DTSTAMP:20260421T220025Z
UID:agrft-AFLABS-URNIK:rezervacija:4845
CATEGORIES:Reservation
COLOR:royalblue
DESCRIPTION:Predmeti: Umetnost snemanja I (UMSNEM-I)\nLetniki: \nIzvajalci
 : Simon Tanšek\nProstori: AV predavalnica 2
LOCATION:Aškerčeva 5\, AV predavalnica 2
ORGANIZER:Simon Tanšek
X-WR-TIMEZONE:Europe/Ljubljana
END:VEVENT
BEGIN:VEVENT
SUMMARY:kompletiranje tehnike za AV delo Guzice
DTSTART;TZID=Europe/Ljubljana:20260226T114500
DTEND;TZID=Europe/Ljubljana:20260226T143000
DTSTAMP:20260421T220025Z
UID:agrft-AFLABS-URNIK:rezervacija:5290
CATEGORIES:Reservation
COLOR:royalblue
DESCRIPTION:Predmeti: Snemanje AV projektov (SNMAVP)\nLetniki: \nIzvajalci
 : Boj Nuvak\, Simon Tanšek\nProstori: Atelje za animacijo in fotografijo
LOCATION:Aškerčeva 5\, Atelje za animacijo in fotografijo
ORGANIZER:Boj Nuvak, Simon Tanšek
X-WR-TIMEZONE:Europe/Ljubljana
END:VEVENT
BEGIN:VEVENT
SUMMARY:testna projekcija vaj pri Svetloba in razsvetljava
DTSTART;TZID=Europe/Ljubljana:20260122T123000
DTEND;TZID=Europe/Ljubljana:20260122T140000
DTSTAMP:20260421T220025Z
UID:agrft-AFLABS-URNIK:rezervacija:4805
CATEGORIES:Reservation
COLOR:royalblue
DESCRIPTION:Predmeti: Svetloba in razsvetljava I - FTV (SIR-I [FTV])\nLetn
 iki: \nIzvajalci: Simon Tanšek\nProstori: Kinodvorana
LOCATION:Aškerčeva 5\, Kinodvorana
ORGANIZER:Simon Tanšek
X-WR-TIMEZONE:Europe/Ljubljana
END:VEVENT
BEGIN:VEVENT
SUMMARY:kreiranje urnika
DTSTART;TZID=Europe/Ljubljana:20260128T100000
DTEND;TZID=Europe/Ljubljana:20260128T204500
DTSTAMP:20260421T220025Z
UID:agrft-AFLABS-URNIK:rezervacija:4807
CATEGORIES:Reservation
COLOR:royalblue
DESCRIPTION:Predmeti: \nLetniki: \nIzvajalci: Andrej Nagode\, Simon Tanše
 k\nProstori: Atelje za animacijo in fotografijo
LOCATION:Aškerčeva 5\, Atelje za animacijo in fotografijo
ORGANIZER:Andrej Nagode, Simon Tanšek
X-WR-TIMEZONE:Europe/Ljubljana
END:VEVENT
BEGIN:VEVENT
SUMMARY:projekcija vaj katedre za snemanje
DTSTART;TZID=Europe/Ljubljana:20260210T180000
DTEND;TZID=Europe/Ljubljana:20260210T193000
DTSTAMP:20260421T220025Z
UID:agrft-AFLABS-URNIK:rezervacija:4910
CATEGORIES:Reservation
COLOR:royalblue
DESCRIPTION:Predmeti: Kamera III - FTV (K-III [FTV])\, Barva in svetloba I
  - FTV (BIS-I [FTV])\, Kamera II - FTV (K-II [FTV])\, Kamera I - FTV (K-I 
 [FTV])\, Umetnost snemanja II (UMSNEM-II)\, Umetnost snemanja I (UMSNEM-I)
 \, Svetloba in razsvetljava I - FTV (SIR-I [FTV])\nLetniki: \nIzvajalci: R
 ok Kajzer Nagode\, Simon Tanšek\nProstori: Kinodvorana
LOCATION:Aškerčeva 5\, Kinodvorana
ORGANIZER:Rok Kajzer Nagode, Simon Tanšek
X-WR-TIMEZONE:Europe/Ljubljana
END:VEVENT
BEGIN:VEVENT
SUMMARY:kreiranje urnika
DTSTART;TZID=Europe/Ljubljana:20260202T141500
DTEND;TZID=Europe/Ljubljana:20260202T204500
DTSTAMP:20260421T220025Z
UID:agrft-AFLABS-URNIK:rezervacija:4898
CATEGORIES:Reservation
COLOR:royalblue
DESCRIPTION:Predmeti: \nLetniki: \nIzvajalci: Andrej Nagode\, Simon Tanše
 k\nProstori: Atelje za animacijo in fotografijo
LOCATION:Aškerčeva 5\, Atelje za animacijo in fotografijo
ORGANIZER:Andrej Nagode, Simon Tanšek
X-WR-TIMEZONE:Europe/Ljubljana
END:VEVENT
BEGIN:VEVENT
SUMMARY:konzultacije Menegalija
DTSTART;TZID=Europe/Ljubljana:20260129T081500
DTEND;TZID=Europe/Ljubljana:20260129T093000
DTSTAMP:20260421T220025Z
UID:agrft-AFLABS-URNIK:rezervacija:4873
CATEGORIES:Reservation
COLOR:royalblue
DESCRIPTION:Predmeti: Umetnost snemanja I (UMSNEM-I)\nLetniki: \nIzvajalci
 : Simon Tanšek\nProstori: Atelje za animacijo in fotografijo
LOCATION:Aškerčeva 5\, Atelje za animacijo in fotografijo
ORGANIZER:Simon Tanšek
X-WR-TIMEZONE:Europe/Ljubljana
END:VEVENT
END:VCALENDAR
