BEGIN:VCALENDAR
VERSION:2.0
PRODID:-//AFLabs urnik izvoz - agrft//aflabs.si//SI
DTSTAMP:20260421T122125Z
NAME:Urnik-AGRFT
REFRESH-INTERVAL:PT1H
SOURCE:https://urnik.agrft.uni-lj.si/teacher/53?day=2025-04-07&export=1
URL:https://urnik.agrft.uni-lj.si/teacher/53?day=2025-04-07&export=1
X-PUBLISHED-TTL:PT1H
X-WR-CALNAME:Urnik-AGRFT
X-WR-TIMEZONE:Europe/Ljubljana
BEGIN:VTIMEZONE
TZID:Europe/Ljubljana
BEGIN:DAYLIGHT
DTSTART:20260329T020000
RDATE:20260329T020000
RDATE:20270328T020000
TZNAME:CEST
TZOFFSETFROM:+0100
TZOFFSETTO:+0200
END:DAYLIGHT
BEGIN:STANDARD
DTSTART:20261025T030000
RDATE:20261025T030000
RDATE:20271031T030000
TZNAME:CET
TZOFFSETFROM:+0200
TZOFFSETTO:+0100
END:STANDARD
END:VTIMEZONE
BEGIN:VEVENT
SUMMARY:konzultacije
DTSTART;TZID=Europe/Ljubljana:20250303T140000
DTEND;TZID=Europe/Ljubljana:20250303T150000
DTSTAMP:20260421T122125Z
UID:agrft-AFLABS-URNIK:rezervacija:2007
CATEGORIES:Reservation
COLOR:royalblue
DESCRIPTION:Predmeti: Snemanje AV projektov (SNMAVP)\nLetniki: \nIzvajalci
 : Simon Tanšek\nProstori: AV predavalnica 3
LOCATION:Aškerčeva 5\, AV predavalnica 3
ORGANIZER:Simon Tanšek
X-WR-TIMEZONE:Europe/Ljubljana
END:VEVENT
BEGIN:VEVENT
SUMMARY:Testi objektivov.
DTSTART;TZID=Europe/Ljubljana:20250331T133000
DTEND;TZID=Europe/Ljubljana:20250331T180000
DTSTAMP:20260421T122125Z
UID:agrft-AFLABS-URNIK:rezervacija:2234
CATEGORIES:Reservation
COLOR:royalblue
DESCRIPTION:Predmeti: Fotografija in optika I - FTV (FIO-I [FTV])\nLetniki
 : \nIzvajalci: Boj Nuvak\, Simon Tanšek\nProstori: Atelje za animacijo in
  fotografijo
LOCATION:Aškerčeva 5\, Atelje za animacijo in fotografijo
ORGANIZER:Boj Nuvak, Simon Tanšek
X-WR-TIMEZONE:Europe/Ljubljana
END:VEVENT
BEGIN:VEVENT
SUMMARY:test DCP Sony FX6\, primerjava S35 in FF
DTSTART;TZID=Europe/Ljubljana:20250312T140000
DTEND;TZID=Europe/Ljubljana:20250312T160000
DTSTAMP:20260421T122125Z
UID:agrft-AFLABS-URNIK:rezervacija:2083
CATEGORIES:Reservation
COLOR:royalblue
DESCRIPTION:Predmeti: \nLetniki: \nIzvajalci: Boj Nuvak\, Simon Tanšek\nP
 rostori: Kinodvorana
LOCATION:Aškerčeva 5\, Kinodvorana
ORGANIZER:Boj Nuvak, Simon Tanšek
X-WR-TIMEZONE:Europe/Ljubljana
END:VEVENT
BEGIN:VEVENT
SUMMARY:predstavitev kamere Sony BURANO
DTSTART;TZID=Europe/Ljubljana:20250403T084500
DTEND;TZID=Europe/Ljubljana:20250403T121500
DTSTAMP:20260421T122125Z
UID:agrft-AFLABS-URNIK:rezervacija:2268
CATEGORIES:Reservation
COLOR:royalblue
DESCRIPTION:Predmeti: Magistrsko delo - Snemanje (MD-SN)\, Kamera II - FTV
  (K-II [FTV])\, Kamera I - FTV (K-I [FTV])\, Filmska in televizijska snema
 lna tehnika (FTVST)\, Snemanje AV projektov (SNMAVP)\nLetniki: \nIzvajalci
 : Jure Černec\, Darko Herič\, Rok Kajzer Nagode\, Boj Nuvak\, Simon Tan
 šek\nProstori: Kinodvorana
LOCATION:Aškerčeva 5\, Kinodvorana
ORGANIZER:Jure Černec, Darko Herič, Rok Kajzer Nagode, Boj Nuvak, Simon 
 Tanšek
X-WR-TIMEZONE:Europe/Ljubljana
END:VEVENT
BEGIN:VEVENT
SUMMARY:predstavitev prevedene knjige O barvi (Nikola Tanhofer)
DTSTART;TZID=Europe/Ljubljana:20250404T090000
DTEND;TZID=Europe/Ljubljana:20250404T120000
DTSTAMP:20260421T122125Z
UID:agrft-AFLABS-URNIK:rezervacija:2282
CATEGORIES:Reservation
COLOR:royalblue
DESCRIPTION:Predmeti: Magistrsko delo - Snemanje (MD-SN)\, Kamera II - FTV
  (K-II [FTV])\, Kamera I - FTV (K-I [FTV])\, Filmska in televizijska snema
 lna tehnika (FTVST)\, Snemanje AV projektov (SNMAVP)\nLetniki: \nIzvajalci
 : Jure Černec\, Darko Herič\, Rok Kajzer Nagode\, Boj Nuvak\, Simon Tan
 šek\nProstori: Kinodvorana
LOCATION:Aškerčeva 5\, Kinodvorana
ORGANIZER:Jure Černec, Darko Herič, Rok Kajzer Nagode, Boj Nuvak, Simon 
 Tanšek
X-WR-TIMEZONE:Europe/Ljubljana
END:VEVENT
BEGIN:VEVENT
SUMMARY:konzultacije za zaključni film 3. letnika - Ela Mimi Pirnar
DTSTART;TZID=Europe/Ljubljana:20250415T130000
DTEND;TZID=Europe/Ljubljana:20250415T143000
DTSTAMP:20260421T122125Z
UID:agrft-AFLABS-URNIK:rezervacija:2409
CATEGORIES:Reservation
COLOR:royalblue
DESCRIPTION:Predmeti: Izvedba igranega filma - snemanje - FTV (IGRF-S [FTV
 ])\nLetniki: \nIzvajalci: Simon Tanšek\nProstori: Atelje za animacijo in 
 fotografijo
LOCATION:Aškerčeva 5\, Atelje za animacijo in fotografijo
ORGANIZER:Simon Tanšek
X-WR-TIMEZONE:Europe/Ljubljana
END:VEVENT
BEGIN:VEVENT
SUMMARY:sestanek katedre kamere
DTSTART;TZID=Europe/Ljubljana:20250407T190000
DTEND;TZID=Europe/Ljubljana:20250407T204500
DTSTAMP:20260421T122125Z
UID:agrft-AFLABS-URNIK:rezervacija:2338
CATEGORIES:Reservation
COLOR:royalblue
DESCRIPTION:Predmeti: \nLetniki: \nIzvajalci: Simon Tanšek\nProstori: Ate
 lje za animacijo in fotografijo
LOCATION:Aškerčeva 5\, Atelje za animacijo in fotografijo
ORGANIZER:Simon Tanšek
X-WR-TIMEZONE:Europe/Ljubljana
END:VEVENT
BEGIN:VEVENT
SUMMARY:izpitna projekcija mag filma Veronike Franceske Štefančič - Kak
 o sem čakal na sonce
DTSTART;TZID=Europe/Ljubljana:20250401T090000
DTEND;TZID=Europe/Ljubljana:20250401T110000
DTSTAMP:20260421T122125Z
UID:agrft-AFLABS-URNIK:rezervacija:2246
CATEGORIES:Reservation
COLOR:royalblue
DESCRIPTION:Predmeti: Magistrsko delo - Snemanje (MD-SN)\nLetniki: \nIzvaj
 alci: Simon Tanšek\nProstori: Kinodvorana
LOCATION:Aškerčeva 5\, Kinodvorana
ORGANIZER:Simon Tanšek
X-WR-TIMEZONE:Europe/Ljubljana
END:VEVENT
BEGIN:VEVENT
SUMMARY:mag. delo - snemanje\, druge oblike
DTSTART;TZID=Europe/Ljubljana:20250325T123000
DTEND;TZID=Europe/Ljubljana:20250325T143000
DTSTAMP:20260421T122125Z
UID:agrft-AFLABS-URNIK:rezervacija:2186
CATEGORIES:Reservation
COLOR:royalblue
DESCRIPTION:Predmeti: Magistrsko delo - Snemanje (MD-SN)\nLetniki: \nIzvaj
 alci: Rok Kajzer Nagode\, Boj Nuvak\, Simon Tanšek\nProstori: Atelje za a
 nimacijo in fotografijo
LOCATION:Aškerčeva 5\, Atelje za animacijo in fotografijo
ORGANIZER:Rok Kajzer Nagode, Boj Nuvak, Simon Tanšek
X-WR-TIMEZONE:Europe/Ljubljana
END:VEVENT
BEGIN:VEVENT
SUMMARY:seminar - Izvedba igranega filma - snemanje
DTSTART;TZID=Europe/Ljubljana:20250305T100000
DTEND;TZID=Europe/Ljubljana:20250305T113000
DTSTAMP:20260421T122125Z
UID:agrft-AFLABS-URNIK:rezervacija:2024
CATEGORIES:Reservation
COLOR:royalblue
DESCRIPTION:Predmeti: Izvedba igranega filma - snemanje - FTV (IGRF-S [FTV
 ])\nLetniki: \nIzvajalci: Simon Tanšek\nProstori: Atelje za animacijo in 
 fotografijo
LOCATION:Aškerčeva 5\, Atelje za animacijo in fotografijo
ORGANIZER:Simon Tanšek
X-WR-TIMEZONE:Europe/Ljubljana
END:VEVENT
BEGIN:VEVENT
SUMMARY:Mag. delo - Tadej Vinter
DTSTART;TZID=Europe/Ljubljana:20250429T123000
DTEND;TZID=Europe/Ljubljana:20250429T153000
DTSTAMP:20260421T122125Z
UID:agrft-AFLABS-URNIK:rezervacija:2545
CATEGORIES:Reservation
COLOR:royalblue
DESCRIPTION:Predmeti: Magistrsko delo - Snemanje (MD-SN)\nLetniki: \nIzvaj
 alci: Simon Tanšek\nProstori: Atelje za animacijo in fotografijo
LOCATION:Aškerčeva 5\, Atelje za animacijo in fotografijo
ORGANIZER:Simon Tanšek
X-WR-TIMEZONE:Europe/Ljubljana
END:VEVENT
BEGIN:VEVENT
SUMMARY:gledanje testov
DTSTART;TZID=Europe/Ljubljana:20250407T140000
DTEND;TZID=Europe/Ljubljana:20250407T170000
DTSTAMP:20260421T122125Z
UID:agrft-AFLABS-URNIK:rezervacija:2332
CATEGORIES:Reservation
COLOR:royalblue
DESCRIPTION:Predmeti: Fotografija in optika I - FTV (FIO-I [FTV])\nLetniki
 : \nIzvajalci: Boj Nuvak\, Simon Tanšek\nProstori: Kinodvorana
LOCATION:Aškerčeva 5\, Kinodvorana
ORGANIZER:Boj Nuvak, Simon Tanšek
X-WR-TIMEZONE:Europe/Ljubljana
END:VEVENT
BEGIN:VEVENT
SUMMARY:projekcija CPDja testov objektivov
DTSTART;TZID=Europe/Ljubljana:20250508T151500
DTEND;TZID=Europe/Ljubljana:20250508T160000
DTSTAMP:20260421T122125Z
UID:agrft-AFLABS-URNIK:rezervacija:2638
CATEGORIES:Reservation
COLOR:royalblue
DESCRIPTION:Predmeti: Fotografija in optika I - FTV (FIO-I [FTV])\nLetniki
 : \nIzvajalci: Boj Nuvak\, Simon Tanšek\nProstori: Kinodvorana
LOCATION:Aškerčeva 5\, Kinodvorana
ORGANIZER:Boj Nuvak, Simon Tanšek
X-WR-TIMEZONE:Europe/Ljubljana
END:VEVENT
BEGIN:VEVENT
SUMMARY:mag. delo - snemanje
DTSTART;TZID=Europe/Ljubljana:20250311T123000
DTEND;TZID=Europe/Ljubljana:20250311T170000
DTSTAMP:20260421T122125Z
UID:agrft-AFLABS-URNIK:rezervacija:2074
CATEGORIES:Reservation
COLOR:royalblue
DESCRIPTION:Predmeti: Magistrsko delo - Snemanje (MD-SN)\nLetniki: \nIzvaj
 alci: Rok Kajzer Nagode\, Simon Tanšek\nProstori: Atelje za animacijo in 
 fotografijo
LOCATION:Aškerčeva 5\, Atelje za animacijo in fotografijo
ORGANIZER:Rok Kajzer Nagode, Simon Tanšek
X-WR-TIMEZONE:Europe/Ljubljana
END:VEVENT
BEGIN:VEVENT
SUMMARY:konzultacije za mag. delo - snemanje Karin Petrič
DTSTART;TZID=Europe/Ljubljana:20250319T120000
DTEND;TZID=Europe/Ljubljana:20250319T150000
DTSTAMP:20260421T122125Z
UID:agrft-AFLABS-URNIK:rezervacija:2128
CATEGORIES:Reservation
COLOR:royalblue
DESCRIPTION:Predmeti: Magistrsko delo - Snemanje (MD-SN)\nLetniki: \nIzvaj
 alci: Simon Tanšek\nProstori: Atelje za animacijo in fotografijo
LOCATION:Aškerčeva 5\, Atelje za animacijo in fotografijo
ORGANIZER:Simon Tanšek
X-WR-TIMEZONE:Europe/Ljubljana
END:VEVENT
BEGIN:VEVENT
SUMMARY:konzultacije za dokumentqrni film
DTSTART;TZID=Europe/Ljubljana:20250303T123000
DTEND;TZID=Europe/Ljubljana:20250303T141500
DTSTAMP:20260421T122125Z
UID:agrft-AFLABS-URNIK:rezervacija:2006
CATEGORIES:Reservation
COLOR:royalblue
DESCRIPTION:Predmeti: Izvedba dokumentarnega filma - snemanje - FTV (IDF-S
  [FTV])\nLetniki: \nIzvajalci: Darko Herič\, Simon Tanšek\nProstori: Ate
 lje za animacijo in fotografijo
LOCATION:Aškerčeva 5\, Atelje za animacijo in fotografijo
ORGANIZER:Darko Herič, Simon Tanšek
X-WR-TIMEZONE:Europe/Ljubljana
END:VEVENT
BEGIN:VEVENT
SUMMARY:konzultacije za zaključni film letala - Ana Logar
DTSTART;TZID=Europe/Ljubljana:20250417T130000
DTEND;TZID=Europe/Ljubljana:20250417T143000
DTSTAMP:20260421T122125Z
UID:agrft-AFLABS-URNIK:rezervacija:2441
CATEGORIES:Reservation
COLOR:royalblue
DESCRIPTION:Predmeti: Izvedba igranega filma - snemanje - FTV (IGRF-S [FTV
 ])\nLetniki: \nIzvajalci: Simon Tanšek\nProstori: Atelje za animacijo in 
 fotografijo
LOCATION:Aškerčeva 5\, Atelje za animacijo in fotografijo
ORGANIZER:Simon Tanšek
X-WR-TIMEZONE:Europe/Ljubljana
END:VEVENT
BEGIN:VEVENT
SUMMARY:sestanek katedre kamere (Tanšek\, Predan Kovarski\, Kajzer Nagode
 )
DTSTART;TZID=Europe/Ljubljana:20250507T100000
DTEND;TZID=Europe/Ljubljana:20250507T104500
DTSTAMP:20260421T122125Z
UID:agrft-AFLABS-URNIK:rezervacija:2614
CATEGORIES:Reservation
COLOR:royalblue
DESCRIPTION:Predmeti: \nLetniki: \nIzvajalci: Simon Tanšek\nProstori: Ate
 lje za animacijo in fotografijo
LOCATION:Aškerčeva 5\, Atelje za animacijo in fotografijo
ORGANIZER:Simon Tanšek
X-WR-TIMEZONE:Europe/Ljubljana
END:VEVENT
BEGIN:VEVENT
SUMMARY:priprava na projekcijo - Neža Jankovič
DTSTART;TZID=Europe/Ljubljana:20250401T170000
DTEND;TZID=Europe/Ljubljana:20250401T180000
DTSTAMP:20260421T122125Z
UID:agrft-AFLABS-URNIK:rezervacija:2251
CATEGORIES:Reservation
COLOR:royalblue
DESCRIPTION:Predmeti: \nLetniki: \nIzvajalci: Simon Tanšek\nProstori: Kin
 odvorana
LOCATION:Aškerčeva 5\, Kinodvorana
ORGANIZER:Simon Tanšek
X-WR-TIMEZONE:Europe/Ljubljana
END:VEVENT
BEGIN:VEVENT
SUMMARY:projekcija testov objektivov
DTSTART;TZID=Europe/Ljubljana:20250508T133000
DTEND;TZID=Europe/Ljubljana:20250508T151500
DTSTAMP:20260421T122125Z
UID:agrft-AFLABS-URNIK:rezervacija:2634
CATEGORIES:Reservation
COLOR:royalblue
DESCRIPTION:Predmeti: Fotografija in optika I - FTV (FIO-I [FTV])\nLetniki
 : \nIzvajalci: Boj Nuvak\, Simon Tanšek\nProstori: Kinodvorana
LOCATION:Aškerčeva 5\, Kinodvorana
ORGANIZER:Boj Nuvak, Simon Tanšek
X-WR-TIMEZONE:Europe/Ljubljana
END:VEVENT
END:VCALENDAR
