BEGIN:VCALENDAR
VERSION:2.0
PRODID:-//AFLabs urnik izvoz - agrft//aflabs.si//SI
DTSTAMP:20260423T062713Z
NAME:Urnik-AGRFT
REFRESH-INTERVAL:PT1H
SOURCE:https://urnik.agrft.uni-lj.si/teacher/42?day=2025-05-05&export=1
URL:https://urnik.agrft.uni-lj.si/teacher/42?day=2025-05-05&export=1
X-PUBLISHED-TTL:PT1H
X-WR-CALNAME:Urnik-AGRFT
X-WR-TIMEZONE:Europe/Ljubljana
BEGIN:VTIMEZONE
TZID:Europe/Ljubljana
BEGIN:DAYLIGHT
DTSTART:20260329T020000
RDATE:20260329T020000
RDATE:20270328T020000
TZNAME:CEST
TZOFFSETFROM:+0100
TZOFFSETTO:+0200
END:DAYLIGHT
BEGIN:STANDARD
DTSTART:20261025T030000
RDATE:20261025T030000
RDATE:20271031T030000
TZNAME:CET
TZOFFSETFROM:+0200
TZOFFSETTO:+0100
END:STANDARD
END:VTIMEZONE
BEGIN:VEVENT
SUMMARY:MINIATURA - ogled kratkega igranega filma 1. letnika
DTSTART;TZID=Europe/Ljubljana:20250609T100000
DTEND;TZID=Europe/Ljubljana:20250609T130000
DTSTAMP:20260423T062713Z
UID:agrft-AFLABS-URNIK:rezervacija:3002
CATEGORIES:Reservation
COLOR:royalblue
DESCRIPTION:Predmeti: Montaža I - FTV (MONT-I [FTV])\nLetniki: \nIzvajalc
 i: Stanko Kostanjevec\nProstori: Montaža 8
LOCATION:Aškerčeva 5\, Montaža 8
ORGANIZER:Stanko Kostanjevec
X-WR-TIMEZONE:Europe/Ljubljana
END:VEVENT
BEGIN:VEVENT
SUMMARY:Montaža AV projekta - Martin Malik
DTSTART;TZID=Europe/Ljubljana:20250411T150000
DTEND;TZID=Europe/Ljubljana:20250411T190000
DTSTAMP:20260423T062713Z
UID:agrft-AFLABS-URNIK:rezervacija:2385
CATEGORIES:Reservation
COLOR:royalblue
DESCRIPTION:Predmeti: Montaža AV projektov (MONTAVP)\nLetniki: \nIzvajalc
 i: Stanko Kostanjevec\nProstori: Montaža 8
LOCATION:Aškerčeva 5\, Montaža 8
ORGANIZER:Stanko Kostanjevec
X-WR-TIMEZONE:Europe/Ljubljana
END:VEVENT
BEGIN:VEVENT
SUMMARY:Montaža AV projekta - Martin Malik
DTSTART;TZID=Europe/Ljubljana:20250522T130000
DTEND;TZID=Europe/Ljubljana:20250522T170000
DTSTAMP:20260423T062713Z
UID:agrft-AFLABS-URNIK:rezervacija:2811
CATEGORIES:Reservation
COLOR:royalblue
DESCRIPTION:Predmeti: Montaža AV projektov (MONTAVP)\nLetniki: \nIzvajalc
 i: Stanko Kostanjevec\nProstori: Montaža 11
LOCATION:Aškerčeva 5\, Montaža 11
ORGANIZER:Stanko Kostanjevec
X-WR-TIMEZONE:Europe/Ljubljana
END:VEVENT
BEGIN:VEVENT
SUMMARY:IDF Dolina odmeva - Žana Kristan
DTSTART;TZID=Europe/Ljubljana:20250602T160000
DTEND;TZID=Europe/Ljubljana:20250602T200000
DTSTAMP:20260423T062713Z
UID:agrft-AFLABS-URNIK:rezervacija:2948
CATEGORIES:Reservation
COLOR:royalblue
DESCRIPTION:Predmeti: Izvedba dokumentarnega filma - montaža - FTV (IDF-M
  [FTV])\nLetniki: \nIzvajalci: Stanko Kostanjevec\nProstori: Montaža 8
LOCATION:Aškerčeva 5\, Montaža 8
ORGANIZER:Stanko Kostanjevec
X-WR-TIMEZONE:Europe/Ljubljana
END:VEVENT
BEGIN:VEVENT
SUMMARY:Priprava arhivskih materialov za namenske filme ŠP
DTSTART;TZID=Europe/Ljubljana:20250331T100000
DTEND;TZID=Europe/Ljubljana:20250331T120000
DTSTAMP:20260423T062713Z
UID:agrft-AFLABS-URNIK:rezervacija:2228
CATEGORIES:Reservation
COLOR:royalblue
DESCRIPTION:Predmeti: \nLetniki: \nIzvajalci: Stanko Kostanjevec\nProstori
 : Montaža 8
LOCATION:Aškerčeva 5\, Montaža 8
ORGANIZER:Stanko Kostanjevec
X-WR-TIMEZONE:Europe/Ljubljana
END:VEVENT
BEGIN:VEVENT
SUMMARY:Montaža AV projekta - Martin Malik
DTSTART;TZID=Europe/Ljubljana:20250508T150000
DTEND;TZID=Europe/Ljubljana:20250508T200000
DTSTAMP:20260423T062713Z
UID:agrft-AFLABS-URNIK:rezervacija:2637
CATEGORIES:Reservation
COLOR:royalblue
DESCRIPTION:Predmeti: Montaža AV projektov (MONTAVP)\nLetniki: \nIzvajalc
 i: Stanko Kostanjevec\nProstori: Montaža 11
LOCATION:Aškerčeva 5\, Montaža 11
ORGANIZER:Stanko Kostanjevec
X-WR-TIMEZONE:Europe/Ljubljana
END:VEVENT
BEGIN:VEVENT
SUMMARY:IDF Dolina odmeva - Žana Kristan
DTSTART;TZID=Europe/Ljubljana:20250603T160000
DTEND;TZID=Europe/Ljubljana:20250603T200000
DTSTAMP:20260423T062713Z
UID:agrft-AFLABS-URNIK:rezervacija:2962
CATEGORIES:Reservation
COLOR:royalblue
DESCRIPTION:Predmeti: Izvedba dokumentarnega filma - montaža - FTV (IDF-M
  [FTV])\nLetniki: \nIzvajalci: Stanko Kostanjevec\nProstori: Montaža 8
LOCATION:Aškerčeva 5\, Montaža 8
ORGANIZER:Stanko Kostanjevec
X-WR-TIMEZONE:Europe/Ljubljana
END:VEVENT
BEGIN:VEVENT
SUMMARY:Montaža AV projekta - Varja Lorger
DTSTART;TZID=Europe/Ljubljana:20250529T120000
DTEND;TZID=Europe/Ljubljana:20250529T133000
DTSTAMP:20260423T062713Z
UID:agrft-AFLABS-URNIK:rezervacija:2897
CATEGORIES:Reservation
COLOR:royalblue
DESCRIPTION:Predmeti: Montaža AV projektov (MONTAVP)\nLetniki: \nIzvajalc
 i: Stanko Kostanjevec\nProstori: Montaža 8
LOCATION:Aškerčeva 5\, Montaža 8
ORGANIZER:Stanko Kostanjevec
X-WR-TIMEZONE:Europe/Ljubljana
END:VEVENT
BEGIN:VEVENT
SUMMARY:IDF - Montaža doku. filma Dolina odmeva - Žana Kristan
DTSTART;TZID=Europe/Ljubljana:20250405T100000
DTEND;TZID=Europe/Ljubljana:20250405T160000
DTSTAMP:20260423T062713Z
UID:agrft-AFLABS-URNIK:rezervacija:2311
CATEGORIES:Reservation
COLOR:royalblue
DESCRIPTION:Predmeti: \nLetniki: \nIzvajalci: Stanko Kostanjevec\nProstori
 : Montaža 6
LOCATION:Aškerčeva 5\, Montaža 6
ORGANIZER:Stanko Kostanjevec
X-WR-TIMEZONE:Europe/Ljubljana
END:VEVENT
BEGIN:VEVENT
SUMMARY:IDF - Nisem župnik - Lenart Sušnik
DTSTART;TZID=Europe/Ljubljana:20250410T100000
DTEND;TZID=Europe/Ljubljana:20250410T130000
DTSTAMP:20260423T062713Z
UID:agrft-AFLABS-URNIK:rezervacija:2361
CATEGORIES:Reservation
COLOR:royalblue
DESCRIPTION:Predmeti: Izvedba dokumentarnega filma - montaža - FTV (IDF-M
  [FTV])\nLetniki: \nIzvajalci: Stanko Kostanjevec\nProstori: Montaža 8
LOCATION:Aškerčeva 5\, Montaža 8
ORGANIZER:Stanko Kostanjevec
X-WR-TIMEZONE:Europe/Ljubljana
END:VEVENT
BEGIN:VEVENT
SUMMARY:IDF - Montaža doku. filma - Mojca Spačal
DTSTART;TZID=Europe/Ljubljana:20250406T120000
DTEND;TZID=Europe/Ljubljana:20250406T180000
DTSTAMP:20260423T062713Z
UID:agrft-AFLABS-URNIK:rezervacija:2319
CATEGORIES:Reservation
COLOR:royalblue
DESCRIPTION:Predmeti: \nLetniki: \nIzvajalci: Stanko Kostanjevec\nProstori
 : Montaža 4
LOCATION:Aškerčeva 5\, Montaža 4
ORGANIZER:Stanko Kostanjevec
X-WR-TIMEZONE:Europe/Ljubljana
END:VEVENT
BEGIN:VEVENT
SUMMARY:Montaža AV projekta - Martin Malik
DTSTART;TZID=Europe/Ljubljana:20250605T140000
DTEND;TZID=Europe/Ljubljana:20250605T190000
DTSTAMP:20260423T062713Z
UID:agrft-AFLABS-URNIK:rezervacija:2976
CATEGORIES:Reservation
COLOR:royalblue
DESCRIPTION:Predmeti: Montaža AV projektov (MONTAVP)\nLetniki: \nIzvajalc
 i: Stanko Kostanjevec\nProstori: Montaža 11
LOCATION:Aškerčeva 5\, Montaža 11
ORGANIZER:Stanko Kostanjevec
X-WR-TIMEZONE:Europe/Ljubljana
END:VEVENT
BEGIN:VEVENT
SUMMARY:Montaža projekta - Martin Malik
DTSTART;TZID=Europe/Ljubljana:20250422T140000
DTEND;TZID=Europe/Ljubljana:20250422T180000
DTSTAMP:20260423T062713Z
UID:agrft-AFLABS-URNIK:rezervacija:2468
CATEGORIES:Reservation
COLOR:royalblue
DESCRIPTION:Predmeti: Montaža AV projektov (MONTAVP)\nLetniki: \nIzvajalc
 i: Stanko Kostanjevec\nProstori: Montaža 8
LOCATION:Aškerčeva 5\, Montaža 8
ORGANIZER:Stanko Kostanjevec
X-WR-TIMEZONE:Europe/Ljubljana
END:VEVENT
BEGIN:VEVENT
SUMMARY:Montaža AV projekta - Martin Malik
DTSTART;TZID=Europe/Ljubljana:20250509T150000
DTEND;TZID=Europe/Ljubljana:20250509T190000
DTSTAMP:20260423T062713Z
UID:agrft-AFLABS-URNIK:rezervacija:2647
CATEGORIES:Reservation
COLOR:royalblue
DESCRIPTION:Predmeti: Montaža AV projektov (MONTAVP)\nLetniki: \nIzvajalc
 i: Stanko Kostanjevec\nProstori: Montaža 8
LOCATION:Aškerčeva 5\, Montaža 8
ORGANIZER:Stanko Kostanjevec
X-WR-TIMEZONE:Europe/Ljubljana
END:VEVENT
BEGIN:VEVENT
SUMMARY:IDF Dolina odmeva - Žana Kristan
DTSTART;TZID=Europe/Ljubljana:20250604T160000
DTEND;TZID=Europe/Ljubljana:20250604T190000
DTSTAMP:20260423T062713Z
UID:agrft-AFLABS-URNIK:rezervacija:2967
CATEGORIES:Reservation
COLOR:royalblue
DESCRIPTION:Predmeti: Izvedba dokumentarnega filma - montaža - FTV (IDF-M
  [FTV])\nLetniki: \nIzvajalci: Stanko Kostanjevec\nProstori: Montaža 8
LOCATION:Aškerčeva 5\, Montaža 8
ORGANIZER:Stanko Kostanjevec
X-WR-TIMEZONE:Europe/Ljubljana
END:VEVENT
BEGIN:VEVENT
SUMMARY:Montaža projekta - Martin Malik
DTSTART;TZID=Europe/Ljubljana:20250415T140000
DTEND;TZID=Europe/Ljubljana:20250415T180000
DTSTAMP:20260423T062713Z
UID:agrft-AFLABS-URNIK:rezervacija:2412
CATEGORIES:Reservation
COLOR:royalblue
DESCRIPTION:Predmeti: Montaža AV projektov (MONTAVP)\nLetniki: \nIzvajalc
 i: Stanko Kostanjevec\nProstori: Montaža 8
LOCATION:Aškerčeva 5\, Montaža 8
ORGANIZER:Stanko Kostanjevec
X-WR-TIMEZONE:Europe/Ljubljana
END:VEVENT
END:VCALENDAR
