BEGIN:VCALENDAR
VERSION:2.0
PRODID:-//AFLabs urnik izvoz - agrft//aflabs.si//SI
DTSTAMP:20260421T234537Z
NAME:Urnik-AGRFT
REFRESH-INTERVAL:PT1H
SOURCE:https://urnik.agrft.uni-lj.si/teacher/42?day=2025-02-24&export=1
URL:https://urnik.agrft.uni-lj.si/teacher/42?day=2025-02-24&export=1
X-PUBLISHED-TTL:PT1H
X-WR-CALNAME:Urnik-AGRFT
X-WR-TIMEZONE:Europe/Ljubljana
BEGIN:VTIMEZONE
TZID:Europe/Ljubljana
BEGIN:DAYLIGHT
DTSTART:20260329T020000
RDATE:20260329T020000
RDATE:20270328T020000
TZNAME:CEST
TZOFFSETFROM:+0100
TZOFFSETTO:+0200
END:DAYLIGHT
BEGIN:STANDARD
DTSTART:20261025T030000
RDATE:20261025T030000
RDATE:20271031T030000
TZNAME:CET
TZOFFSETFROM:+0200
TZOFFSETTO:+0100
END:STANDARD
END:VTIMEZONE
BEGIN:VEVENT
SUMMARY:Predavanje za  Uprizoritvene in avdiovizualne umetnosti
DTSTART;TZID=Europe/Ljubljana:20250310T150000
DTEND;TZID=Europe/Ljubljana:20250310T184500
DTSTAMP:20260421T234537Z
UID:agrft-AFLABS-URNIK:rezervacija:2066
CATEGORIES:Reservation
COLOR:royalblue
DESCRIPTION:Predmeti: \nLetniki: \nIzvajalci: Stanko Kostanjevec\nProstori
 : AV predavalnica 1
LOCATION:Aškerčeva 5\, AV predavalnica 1
ORGANIZER:Stanko Kostanjevec
X-WR-TIMEZONE:Europe/Ljubljana
END:VEVENT
BEGIN:VEVENT
SUMMARY:IDF - Dolina odmeva - Žana Kristan
DTSTART;TZID=Europe/Ljubljana:20250325T080000
DTEND;TZID=Europe/Ljubljana:20250325T130000
DTSTAMP:20260421T234537Z
UID:agrft-AFLABS-URNIK:rezervacija:2183
CATEGORIES:Reservation
COLOR:royalblue
DESCRIPTION:Predmeti: Izvedba dokumentarnega filma - montaža - FTV (IDF-M
  [FTV])\nLetniki: \nIzvajalci: Stanko Kostanjevec\nProstori: Montaža 8
LOCATION:Aškerčeva 5\, Montaža 8
ORGANIZER:Stanko Kostanjevec
X-WR-TIMEZONE:Europe/Ljubljana
END:VEVENT
BEGIN:VEVENT
SUMMARY:DOKUMENTArNI FILM - OGLED AV MATERIALA
DTSTART;TZID=Europe/Ljubljana:20250228T123000
DTEND;TZID=Europe/Ljubljana:20250228T150000
DTSTAMP:20260421T234537Z
UID:agrft-AFLABS-URNIK:rezervacija:1987
CATEGORIES:Reservation
COLOR:royalblue
DESCRIPTION:Predmeti: \nLetniki: \nIzvajalci: Stanko Kostanjevec\, Simon T
 anšek\nProstori: AV predavalnica 1
LOCATION:Aškerčeva 5\, AV predavalnica 1
ORGANIZER:Stanko Kostanjevec, Simon Tanšek
X-WR-TIMEZONE:Europe/Ljubljana
END:VEVENT
BEGIN:VEVENT
SUMMARY:Izpit Montaža II
DTSTART;TZID=Europe/Ljubljana:20250128T100000
DTEND;TZID=Europe/Ljubljana:20250128T120000
DTSTAMP:20260421T234537Z
UID:agrft-AFLABS-URNIK:rezervacija:1778
CATEGORIES:Reservation
COLOR:royalblue
DESCRIPTION:Predmeti: Montaža II - FTV (MONT-II [FTV])\nLetniki: \nIzvaja
 lci: Stanko Kostanjevec\nProstori: Montaža 8
LOCATION:Aškerčeva 5\, Montaža 8
ORGANIZER:Stanko Kostanjevec
X-WR-TIMEZONE:Europe/Ljubljana
END:VEVENT
BEGIN:VEVENT
SUMMARY:Izpit Montaža II
DTSTART;TZID=Europe/Ljubljana:20250204T100000
DTEND;TZID=Europe/Ljubljana:20250204T120000
DTSTAMP:20260421T234537Z
UID:agrft-AFLABS-URNIK:rezervacija:1810
CATEGORIES:Reservation
COLOR:royalblue
DESCRIPTION:Predmeti: Montaža II - FTV (MONT-II [FTV])\nLetniki: \nIzvaja
 lci: Stanko Kostanjevec\nProstori: Montaža 8
LOCATION:Aškerčeva 5\, Montaža 8
ORGANIZER:Stanko Kostanjevec
X-WR-TIMEZONE:Europe/Ljubljana
END:VEVENT
BEGIN:VEVENT
SUMMARY:Ogled zaključenih vaj študentov 2. in 3. letnika
DTSTART;TZID=Europe/Ljubljana:20250127T110000
DTEND;TZID=Europe/Ljubljana:20250127T160000
DTSTAMP:20260421T234537Z
UID:agrft-AFLABS-URNIK:rezervacija:1773
CATEGORIES:Reservation
COLOR:royalblue
DESCRIPTION:Predmeti: Montaža II - FTV (MONT-II [FTV])\, Montaža III - F
 TV (MONT-III [FTV])\nLetniki: \nIzvajalci: Ivana Fumić\, Stanko Kostanjev
 ec\, Andrej Nagode\nProstori: AV predavalnica 1
LOCATION:Aškerčeva 5\, AV predavalnica 1
ORGANIZER:Ivana Fumić, Stanko Kostanjevec, Andrej Nagode
X-WR-TIMEZONE:Europe/Ljubljana
END:VEVENT
BEGIN:VEVENT
SUMMARY:IDF - Priprava AV materialov - Julija Pristovnik
DTSTART;TZID=Europe/Ljubljana:20250317T150000
DTEND;TZID=Europe/Ljubljana:20250317T180000
DTSTAMP:20260421T234537Z
UID:agrft-AFLABS-URNIK:rezervacija:2116
CATEGORIES:Reservation
COLOR:royalblue
DESCRIPTION:Predmeti: Izvedba dokumentarnega filma - montaža - FTV (IDF-M
  [FTV])\nLetniki: \nIzvajalci: Stanko Kostanjevec\nProstori: Montaža 8
LOCATION:Aškerčeva 5\, Montaža 8
ORGANIZER:Stanko Kostanjevec
X-WR-TIMEZONE:Europe/Ljubljana
END:VEVENT
BEGIN:VEVENT
SUMMARY:Izpit pri predmetu Montaža IV
DTSTART;TZID=Europe/Ljubljana:20250123T100000
DTEND;TZID=Europe/Ljubljana:20250123T120000
DTSTAMP:20260421T234537Z
UID:agrft-AFLABS-URNIK:rezervacija:1760
CATEGORIES:Reservation
COLOR:royalblue
DESCRIPTION:Predmeti: Montaža IV (MONT-IV)\nLetniki: \nIzvajalci: Stanko 
 Kostanjevec\nProstori: AV predavalnica 3
LOCATION:Aškerčeva 5\, AV predavalnica 3
ORGANIZER:Stanko Kostanjevec
X-WR-TIMEZONE:Europe/Ljubljana
END:VEVENT
BEGIN:VEVENT
SUMMARY:IZVEDBA DOKUMENTARNEGA FILMA - OGLED MATERIALA
DTSTART;TZID=Europe/Ljubljana:20250327T110000
DTEND;TZID=Europe/Ljubljana:20250327T140000
DTSTAMP:20260421T234537Z
UID:agrft-AFLABS-URNIK:rezervacija:2205
CATEGORIES:Reservation
COLOR:royalblue
DESCRIPTION:Predmeti: Izvedba dokumentarnega filma - režija - FTV (IDF-R 
 [FTV])\, Izvedba dokumentarnega filma - snemanje - FTV (IDF-S [FTV])\, Izv
 edba dokumentarnega filma - montaža - FTV (IDF-M [FTV])\nLetniki: \nIzvaj
 alci: Stanko Kostanjevec\, Miran Zupanič\nProstori: AV predavalnica 1
LOCATION:Aškerčeva 5\, AV predavalnica 1
ORGANIZER:Stanko Kostanjevec, Miran Zupanič
X-WR-TIMEZONE:Europe/Ljubljana
END:VEVENT
BEGIN:VEVENT
SUMMARY:Predavanje doktoranti
DTSTART;TZID=Europe/Ljubljana:20250310T163000
DTEND;TZID=Europe/Ljubljana:20250310T173000
DTSTAMP:20260421T234537Z
UID:agrft-AFLABS-URNIK:rezervacija:2068
CATEGORIES:Reservation
COLOR:royalblue
DESCRIPTION:Predmeti: \nLetniki: \nIzvajalci: Stanko Kostanjevec\nProstori
 : Montaža 8
LOCATION:Aškerčeva 5\, Montaža 8
ORGANIZER:Stanko Kostanjevec
X-WR-TIMEZONE:Europe/Ljubljana
END:VEVENT
BEGIN:VEVENT
SUMMARY:Priprava arhivskih materialov za namenske filme ŠP
DTSTART;TZID=Europe/Ljubljana:20250331T100000
DTEND;TZID=Europe/Ljubljana:20250331T120000
DTSTAMP:20260421T234537Z
UID:agrft-AFLABS-URNIK:rezervacija:2228
CATEGORIES:Reservation
COLOR:royalblue
DESCRIPTION:Predmeti: \nLetniki: \nIzvajalci: Stanko Kostanjevec\nProstori
 : Montaža 8
LOCATION:Aškerčeva 5\, Montaža 8
ORGANIZER:Stanko Kostanjevec
X-WR-TIMEZONE:Europe/Ljubljana
END:VEVENT
BEGIN:VEVENT
SUMMARY:Priprava arhivskih AV materialov za promocijske namene
DTSTART;TZID=Europe/Ljubljana:20250320T123000
DTEND;TZID=Europe/Ljubljana:20250320T140000
DTSTAMP:20260421T234537Z
UID:agrft-AFLABS-URNIK:rezervacija:2138
CATEGORIES:Reservation
COLOR:royalblue
DESCRIPTION:Predmeti: \nLetniki: \nIzvajalci: Stanko Kostanjevec\nProstori
 : Montaža 8
LOCATION:Aškerčeva 5\, Montaža 8
ORGANIZER:Stanko Kostanjevec
X-WR-TIMEZONE:Europe/Ljubljana
END:VEVENT
BEGIN:VEVENT
SUMMARY:IDF - OGLED MATERIALA
DTSTART;TZID=Europe/Ljubljana:20250324T120000
DTEND;TZID=Europe/Ljubljana:20250324T150000
DTSTAMP:20260421T234537Z
UID:agrft-AFLABS-URNIK:rezervacija:2169
CATEGORIES:Reservation
COLOR:royalblue
DESCRIPTION:Predmeti: Izvedba dokumentarnega filma - režija - FTV (IDF-R 
 [FTV])\, Izvedba dokumentarnega filma - snemanje - FTV (IDF-S [FTV])\, Izv
 edba dokumentarnega filma - montaža - FTV (IDF-M [FTV])\nLetniki: \nIzvaj
 alci: Stanko Kostanjevec\nProstori: AV predavalnica 1
LOCATION:Aškerčeva 5\, AV predavalnica 1
ORGANIZER:Stanko Kostanjevec
X-WR-TIMEZONE:Europe/Ljubljana
END:VEVENT
BEGIN:VEVENT
SUMMARY:IDF - Dolina odmeva - Žana Kristan
DTSTART;TZID=Europe/Ljubljana:20250324T110000
DTEND;TZID=Europe/Ljubljana:20250324T180000
DTSTAMP:20260421T234537Z
UID:agrft-AFLABS-URNIK:rezervacija:2168
CATEGORIES:Reservation
COLOR:royalblue
DESCRIPTION:Predmeti: Izvedba dokumentarnega filma - montaža - FTV (IDF-M
  [FTV])\nLetniki: \nIzvajalci: Stanko Kostanjevec\nProstori: Montaža 8
LOCATION:Aškerčeva 5\, Montaža 8
ORGANIZER:Stanko Kostanjevec
X-WR-TIMEZONE:Europe/Ljubljana
END:VEVENT
BEGIN:VEVENT
SUMMARY:IDF - Ogled materiala
DTSTART;TZID=Europe/Ljubljana:20250324T153000
DTEND;TZID=Europe/Ljubljana:20250324T183000
DTSTAMP:20260421T234537Z
UID:agrft-AFLABS-URNIK:rezervacija:2176
CATEGORIES:Reservation
COLOR:royalblue
DESCRIPTION:Predmeti: Izvedba dokumentarnega filma - režija - FTV (IDF-R 
 [FTV])\, Izvedba dokumentarnega filma - snemanje - FTV (IDF-S [FTV])\, Izv
 edba dokumentarnega filma - montaža - FTV (IDF-M [FTV])\nLetniki: \nIzvaj
 alci: Stanko Kostanjevec\nProstori: AV predavalnica 1
LOCATION:Aškerčeva 5\, AV predavalnica 1
ORGANIZER:Stanko Kostanjevec
X-WR-TIMEZONE:Europe/Ljubljana
END:VEVENT
BEGIN:VEVENT
SUMMARY:IDF - Konzultacija
DTSTART;TZID=Europe/Ljubljana:20250321T110000
DTEND;TZID=Europe/Ljubljana:20250321T130000
DTSTAMP:20260421T234537Z
UID:agrft-AFLABS-URNIK:rezervacija:2149
CATEGORIES:Reservation
COLOR:royalblue
DESCRIPTION:Predmeti: Izvedba dokumentarnega filma - montaža - FTV (IDF-M
  [FTV])\nLetniki: \nIzvajalci: Stanko Kostanjevec\nProstori: Montaža 8
LOCATION:Aškerčeva 5\, Montaža 8
ORGANIZER:Stanko Kostanjevec
X-WR-TIMEZONE:Europe/Ljubljana
END:VEVENT
BEGIN:VEVENT
SUMMARY:Kolokvij
DTSTART;TZID=Europe/Ljubljana:20250127T090000
DTEND;TZID=Europe/Ljubljana:20250127T103000
DTSTAMP:20260421T234537Z
UID:agrft-AFLABS-URNIK:rezervacija:1770
CATEGORIES:Reservation
COLOR:royalblue
DESCRIPTION:Predmeti: Montaža I - FTV (MONT-I [FTV])\nLetniki: \nIzvajalc
 i: Stanko Kostanjevec\nProstori: AV predavalnica 1
LOCATION:Aškerčeva 5\, AV predavalnica 1
ORGANIZER:Stanko Kostanjevec
X-WR-TIMEZONE:Europe/Ljubljana
END:VEVENT
END:VCALENDAR
