BEGIN:VCALENDAR
VERSION:2.0
PRODID:-//AFLabs urnik izvoz - agrft//aflabs.si//SI
DTSTAMP:20260423T101527Z
NAME:Urnik-AGRFT
REFRESH-INTERVAL:PT1H
SOURCE:https://urnik.agrft.uni-lj.si/teacher/37?day=2026-01-05&export=1
URL:https://urnik.agrft.uni-lj.si/teacher/37?day=2026-01-05&export=1
X-PUBLISHED-TTL:PT1H
X-WR-CALNAME:Urnik-AGRFT
X-WR-TIMEZONE:Europe/Ljubljana
BEGIN:VTIMEZONE
TZID:Europe/Ljubljana
BEGIN:DAYLIGHT
DTSTART:20260329T020000
RDATE:20260329T020000
RDATE:20270328T020000
TZNAME:CEST
TZOFFSETFROM:+0100
TZOFFSETTO:+0200
END:DAYLIGHT
BEGIN:STANDARD
DTSTART:20261025T030000
RDATE:20261025T030000
RDATE:20271031T030000
TZNAME:CET
TZOFFSETFROM:+0200
TZOFFSETTO:+0100
END:STANDARD
END:VTIMEZONE
BEGIN:VEVENT
SUMMARY:Konzultacije
DTSTART;TZID=Europe/Ljubljana:20251202T121500
DTEND;TZID=Europe/Ljubljana:20251202T133000
DTSTAMP:20260423T101527Z
UID:agrft-AFLABS-URNIK:rezervacija:4371
CATEGORIES:Reservation
COLOR:royalblue
DESCRIPTION:Predmeti: Filmska režija I - DSU (Z) (FR-I [DSU] (Z))\nLetnik
 i: \nIzvajalci: Martin Srebotnjak\nProstori: T311
LOCATION:Trubarjeva 3\, T311
ORGANIZER:Martin Srebotnjak
X-WR-TIMEZONE:Europe/Ljubljana
END:VEVENT
BEGIN:VEVENT
SUMMARY:Vaje z igralci
DTSTART;TZID=Europe/Ljubljana:20251204T143000
DTEND;TZID=Europe/Ljubljana:20251204T160000
DTSTAMP:20260423T101527Z
UID:agrft-AFLABS-URNIK:rezervacija:4414
ATTENDEE:FTV-R2 (FTV-R)
CATEGORIES:Reservation
COLOR:royalblue
DESCRIPTION:Predmeti: Igra pred kamero - FTV (IPK [FTV])\, Igra pred kamer
 o I - DI\, FTV (IPK-I [DI\, FTV])\nLetniki: FTV-R2 (FTV-R)\nIzvajalci: Seb
 astijan Cavazza\, Martin Srebotnjak\nProstori: Atelje za animacijo in foto
 grafijo\, FTV vadnica
LOCATION:Aškerčeva 5\, Atelje za animacijo in fotografijo\, Aškerčeva 
 5\, FTV vadnica
ORGANIZER:Sebastijan Cavazza, Martin Srebotnjak
X-WR-TIMEZONE:Europe/Ljubljana
END:VEVENT
BEGIN:VEVENT
SUMMARY:Konzultacije (Srečanje)
DTSTART;TZID=Europe/Ljubljana:20251223T123000
DTEND;TZID=Europe/Ljubljana:20251223T140000
DTSTAMP:20260423T101527Z
UID:agrft-AFLABS-URNIK:rezervacija:4603
CATEGORIES:Reservation
COLOR:royalblue
DESCRIPTION:Predmeti: Filmska režija I - FTV (FR-I [FTV])\, Kamera I - FT
 V (K-I [FTV])\nLetniki: \nIzvajalci: Rok Kajzer Nagode\, Martin Srebotnjak
 \nProstori: FTV vadnica
LOCATION:Aškerčeva 5\, FTV vadnica
ORGANIZER:Rok Kajzer Nagode, Martin Srebotnjak
X-WR-TIMEZONE:Europe/Ljubljana
END:VEVENT
BEGIN:VEVENT
SUMMARY:Vaje z igralci - A boli? (rež. Ema Železnik)
DTSTART;TZID=Europe/Ljubljana:20251230T110000
DTEND;TZID=Europe/Ljubljana:20251230T130000
DTSTAMP:20260423T101527Z
UID:agrft-AFLABS-URNIK:rezervacija:4623
CATEGORIES:Reservation
COLOR:royalblue
DESCRIPTION:Predmeti: Filmska režija I - FTV (FR-I [FTV])\nLetniki: \nIzv
 ajalci: Martin Srebotnjak\nProstori: FTV vadnica
LOCATION:Aškerčeva 5\, FTV vadnica
ORGANIZER:Martin Srebotnjak
X-WR-TIMEZONE:Europe/Ljubljana
END:VEVENT
BEGIN:VEVENT
SUMMARY:Lab. naloga: Plutonij
DTSTART;TZID=Europe/Ljubljana:20251204T083000
DTEND;TZID=Europe/Ljubljana:20251204T113000
DTSTAMP:20260423T101527Z
UID:agrft-AFLABS-URNIK:rezervacija:4378
CATEGORIES:Reservation
COLOR:royalblue
DESCRIPTION:Predmeti: Filmska režija I - FTV (FR-I [FTV])\, Kamera I - FT
 V (K-I [FTV])\nLetniki: \nIzvajalci: Rok Kajzer Nagode\, Martin Srebotnjak
 \nProstori: Mali studio
LOCATION:Aškerčeva 5\, Mali studio
ORGANIZER:Rok Kajzer Nagode, Martin Srebotnjak
X-WR-TIMEZONE:Europe/Ljubljana
END:VEVENT
BEGIN:VEVENT
SUMMARY:Srečanje - vaje z igralci (rež. Maj Hren)
DTSTART;TZID=Europe/Ljubljana:20251223T180000
DTEND;TZID=Europe/Ljubljana:20251223T200000
DTSTAMP:20260423T101527Z
UID:agrft-AFLABS-URNIK:rezervacija:4578
CATEGORIES:Reservation
COLOR:royalblue
DESCRIPTION:Predmeti: Filmska režija I - FTV (FR-I [FTV])\nLetniki: \nIzv
 ajalci: Martin Srebotnjak\nProstori: FTV vadnica
LOCATION:Aškerčeva 5\, FTV vadnica
ORGANIZER:Martin Srebotnjak
X-WR-TIMEZONE:Europe/Ljubljana
END:VEVENT
BEGIN:VEVENT
SUMMARY:Konzultacije
DTSTART;TZID=Europe/Ljubljana:20260121T120000
DTEND;TZID=Europe/Ljubljana:20260121T124500
DTSTAMP:20260423T101527Z
UID:agrft-AFLABS-URNIK:rezervacija:4847
CATEGORIES:Reservation
COLOR:royalblue
DESCRIPTION:Predmeti: Filmska režija I - FTV (FR-I [FTV])\nLetniki: \nIzv
 ajalci: Martin Srebotnjak\nProstori: Montaža 8
LOCATION:Aškerčeva 5\, Montaža 8
ORGANIZER:Martin Srebotnjak
X-WR-TIMEZONE:Europe/Ljubljana
END:VEVENT
BEGIN:VEVENT
SUMMARY:3KORAKI
DTSTART;TZID=Europe/Ljubljana:20260202T120000
DTEND;TZID=Europe/Ljubljana:20260202T153000
DTSTAMP:20260423T101527Z
UID:agrft-AFLABS-URNIK:rezervacija:4902
CATEGORIES:Reservation
COLOR:royalblue
DESCRIPTION:Predmeti: \nLetniki: \nIzvajalci: Stanko Kostanjevec\, Martin 
 Srebotnjak\nProstori: Montaža 8
LOCATION:Aškerčeva 5\, Montaža 8
ORGANIZER:Stanko Kostanjevec, Martin Srebotnjak
X-WR-TIMEZONE:Europe/Ljubljana
END:VEVENT
BEGIN:VEVENT
SUMMARY:Lab. naloga - Plutonij
DTSTART;TZID=Europe/Ljubljana:20251204T083000
DTEND;TZID=Europe/Ljubljana:20251204T110000
DTSTAMP:20260423T101527Z
UID:agrft-AFLABS-URNIK:rezervacija:4377
CATEGORIES:Reservation
COLOR:royalblue
DESCRIPTION:Predmeti: Filmska režija I - FTV (FR-I [FTV])\, Kamera I - FT
 V (K-I [FTV])\nLetniki: \nIzvajalci: Rok Kajzer Nagode\, Martin Srebotnjak
 \nProstori: FTV vadnica
LOCATION:Aškerčeva 5\, FTV vadnica
ORGANIZER:Rok Kajzer Nagode, Martin Srebotnjak
X-WR-TIMEZONE:Europe/Ljubljana
END:VEVENT
BEGIN:VEVENT
SUMMARY:Blok
DTSTART;TZID=Europe/Ljubljana:20260116T154500
DTEND;TZID=Europe/Ljubljana:20260116T184500
DTSTAMP:20260423T101527Z
UID:agrft-AFLABS-URNIK:rezervacija:4737
ATTENDEE:FTV-R2 (FTV-R)
CATEGORIES:Reservation
COLOR:royalblue
DESCRIPTION:Predmeti: Igra pred kamero - FTV (IPK [FTV])\, Igra pred kamer
 o I - DI\, FTV (IPK-I [DI\, FTV])\nLetniki: FTV-R2 (FTV-R)\nIzvajalci: Seb
 astijan Cavazza\, Martin Srebotnjak\nProstori: FTV vadnica
LOCATION:Aškerčeva 5\, FTV vadnica
ORGANIZER:Sebastijan Cavazza, Martin Srebotnjak
X-WR-TIMEZONE:Europe/Ljubljana
END:VEVENT
BEGIN:VEVENT
SUMMARY:Omnibus (rež. Domen Pehani)
DTSTART;TZID=Europe/Ljubljana:20251212T130000
DTEND;TZID=Europe/Ljubljana:20251212T150000
DTSTAMP:20260423T101527Z
UID:agrft-AFLABS-URNIK:rezervacija:4504
ATTENDEE:FTV-R2 (FTV-R)
CATEGORIES:Reservation
COLOR:royalblue
DESCRIPTION:Predmeti: Igra pred kamero - FTV (IPK [FTV])\, Igra pred kamer
 o I - DI\, FTV (IPK-I [DI\, FTV])\nLetniki: FTV-R2 (FTV-R)\nIzvajalci: Seb
 astijan Cavazza\, Martin Srebotnjak\nProstori: FTV vadnica
LOCATION:Aškerčeva 5\, FTV vadnica
ORGANIZER:Sebastijan Cavazza, Martin Srebotnjak
X-WR-TIMEZONE:Europe/Ljubljana
END:VEVENT
BEGIN:VEVENT
SUMMARY:Konzultacije
DTSTART;TZID=Europe/Ljubljana:20260119T124500
DTEND;TZID=Europe/Ljubljana:20260119T131500
DTSTAMP:20260423T101527Z
UID:agrft-AFLABS-URNIK:rezervacija:4837
CATEGORIES:Reservation
COLOR:royalblue
DESCRIPTION:Predmeti: Filmska režija I - FTV (FR-I [FTV])\nLetniki: \nIzv
 ajalci: Martin Srebotnjak\nProstori: Montaža 8
LOCATION:Aškerčeva 5\, Montaža 8
ORGANIZER:Martin Srebotnjak
X-WR-TIMEZONE:Europe/Ljubljana
END:VEVENT
BEGIN:VEVENT
SUMMARY:Ustni del izpita
DTSTART;TZID=Europe/Ljubljana:20260203T120000
DTEND;TZID=Europe/Ljubljana:20260203T160000
DTSTAMP:20260423T101527Z
UID:agrft-AFLABS-URNIK:rezervacija:4698
ATTENDEE:FTVU-P1 (FTVU-P)
ATTENDEE:FTVU-SC1 (FTVU-SC)
ATTENDEE:FTVŠ1 (FTVŠ)
CATEGORIES:Reservation
COLOR:royalblue
DESCRIPTION:Predmeti: Filmski jezik (FJ)\, Filmska režija I - DSU (Z) (FR
 -I [DSU] (Z))\nLetniki: FTVŠ1 (FTVŠ)\, FTVU-P1 (FTVU-P)\, FTVU-SC1 (FTVU
 -SC)\nIzvajalci: Martin Srebotnjak\nProstori: AV predavalnica 2
LOCATION:Aškerčeva 5\, AV predavalnica 2
ORGANIZER:Martin Srebotnjak
X-WR-TIMEZONE:Europe/Ljubljana
END:VEVENT
BEGIN:VEVENT
SUMMARY:Kolokvij/pisni del izpita Filmska režija I
DTSTART;TZID=Europe/Ljubljana:20260203T100000
DTEND;TZID=Europe/Ljubljana:20260203T120000
DTSTAMP:20260423T101527Z
UID:agrft-AFLABS-URNIK:rezervacija:4696
CATEGORIES:Reservation
COLOR:royalblue
DESCRIPTION:Predmeti: Filmska režija I - FTV (FR-I [FTV])\, Filmska reži
 ja I - DSU (Z) (FR-I [DSU] (Z))\nLetniki: \nIzvajalci: Martin Srebotnjak\n
 Prostori: AV predavalnica 1\, AV predavalnica 2
LOCATION:Aškerčeva 5\, AV predavalnica 1\, Aškerčeva 5\, AV predavalni
 ca 2
ORGANIZER:Martin Srebotnjak
X-WR-TIMEZONE:Europe/Ljubljana
END:VEVENT
BEGIN:VEVENT
SUMMARY:Omnibus (rež. Bor Bizovičar)
DTSTART;TZID=Europe/Ljubljana:20251212T100000
DTEND;TZID=Europe/Ljubljana:20251212T130000
DTSTAMP:20260423T101527Z
UID:agrft-AFLABS-URNIK:rezervacija:4502
ATTENDEE:FTV-R2 (FTV-R)
CATEGORIES:Reservation
COLOR:royalblue
DESCRIPTION:Predmeti: Igra pred kamero - FTV (IPK [FTV])\, Igra pred kamer
 o I - DI\, FTV (IPK-I [DI\, FTV])\nLetniki: FTV-R2 (FTV-R)\nIzvajalci: Seb
 astijan Cavazza\, Martin Srebotnjak\nProstori: FTV vadnica
LOCATION:Aškerčeva 5\, FTV vadnica
ORGANIZER:Sebastijan Cavazza, Martin Srebotnjak
X-WR-TIMEZONE:Europe/Ljubljana
END:VEVENT
BEGIN:VEVENT
SUMMARY:Izpit
DTSTART;TZID=Europe/Ljubljana:20260206T100000
DTEND;TZID=Europe/Ljubljana:20260206T123000
DTSTAMP:20260423T101527Z
UID:agrft-AFLABS-URNIK:rezervacija:4875
ATTENDEE:FTVU-P1 (FTVU-P)
ATTENDEE:FTVU-SC1 (FTVU-SC)
ATTENDEE:FTVŠ1 (FTVŠ)
CATEGORIES:Reservation
COLOR:royalblue
DESCRIPTION:Predmeti: Filmski jezik (FJ)\nLetniki: FTVŠ1 (FTVŠ)\, FTVU-P
 1 (FTVU-P)\, FTVU-SC1 (FTVU-SC)\nIzvajalci: Martin Srebotnjak\nProstori: A
 V predavalnica 3
LOCATION:Aškerčeva 5\, AV predavalnica 3
ORGANIZER:Martin Srebotnjak
X-WR-TIMEZONE:Europe/Ljubljana
END:VEVENT
BEGIN:VEVENT
SUMMARY:Masterclass - am. neodv. produkcija (DSR)
DTSTART;TZID=Europe/Ljubljana:20260122T160000
DTEND;TZID=Europe/Ljubljana:20260122T204500
DTSTAMP:20260423T101527Z
UID:agrft-AFLABS-URNIK:rezervacija:4787
CATEGORIES:Reservation
COLOR:royalblue
DESCRIPTION:Predmeti: \nLetniki: \nIzvajalci: Martin Srebotnjak\nProstori:
  AV predavalnica 1
LOCATION:Aškerčeva 5\, AV predavalnica 1
ORGANIZER:Martin Srebotnjak
X-WR-TIMEZONE:Europe/Ljubljana
END:VEVENT
BEGIN:VEVENT
SUMMARY:3KORAKI
DTSTART;TZID=Europe/Ljubljana:20260203T130000
DTEND;TZID=Europe/Ljubljana:20260203T180000
DTSTAMP:20260423T101527Z
UID:agrft-AFLABS-URNIK:rezervacija:4903
CATEGORIES:Reservation
COLOR:royalblue
DESCRIPTION:Predmeti: \nLetniki: \nIzvajalci: Stanko Kostanjevec\, Martin 
 Srebotnjak\nProstori: Montaža 8
LOCATION:Aškerčeva 5\, Montaža 8
ORGANIZER:Stanko Kostanjevec, Martin Srebotnjak
X-WR-TIMEZONE:Europe/Ljubljana
END:VEVENT
BEGIN:VEVENT
SUMMARY:Nadomeščanje (predavanje)
DTSTART;TZID=Europe/Ljubljana:20260119T114500
DTEND;TZID=Europe/Ljubljana:20260119T124500
DTSTAMP:20260423T101527Z
UID:agrft-AFLABS-URNIK:rezervacija:4784
ATTENDEE:FTVU-P1 (FTVU-P)
ATTENDEE:FTVU-SC1 (FTVU-SC)
ATTENDEE:FTVŠ1 (FTVŠ)
CATEGORIES:Reservation
COLOR:royalblue
DESCRIPTION:Predmeti: Filmska režija I - FTV (FR-I [FTV])\, Filmski jezik
  (FJ)\, Filmska režija I - DSU (Z) (FR-I [DSU] (Z))\nLetniki: FTVŠ1 (FTV
 Š)\, FTVU-P1 (FTVU-P)\, FTVU-SC1 (FTVU-SC)\nIzvajalci: Martin Srebotnjak\
 nProstori: AV predavalnica 1
LOCATION:Aškerčeva 5\, AV predavalnica 1
ORGANIZER:Martin Srebotnjak
X-WR-TIMEZONE:Europe/Ljubljana
END:VEVENT
BEGIN:VEVENT
SUMMARY:Blok
DTSTART;TZID=Europe/Ljubljana:20260109T154500
DTEND;TZID=Europe/Ljubljana:20260109T184500
DTSTAMP:20260423T101527Z
UID:agrft-AFLABS-URNIK:rezervacija:4735
ATTENDEE:FTV-R2 (FTV-R)
CATEGORIES:Reservation
COLOR:royalblue
DESCRIPTION:Predmeti: Igra pred kamero - FTV (IPK [FTV])\, Igra pred kamer
 o I - DI\, FTV (IPK-I [DI\, FTV])\nLetniki: FTV-R2 (FTV-R)\nIzvajalci: Seb
 astijan Cavazza\, Martin Srebotnjak\nProstori: FTV vadnica
LOCATION:Aškerčeva 5\, FTV vadnica
ORGANIZER:Sebastijan Cavazza, Martin Srebotnjak
X-WR-TIMEZONE:Europe/Ljubljana
END:VEVENT
BEGIN:VEVENT
SUMMARY:Delo v skupini
DTSTART;TZID=Europe/Ljubljana:20260115T143000
DTEND;TZID=Europe/Ljubljana:20260115T160000
DTSTAMP:20260423T101527Z
UID:agrft-AFLABS-URNIK:rezervacija:4736
ATTENDEE:FTV-R2 (FTV-R)
CATEGORIES:Reservation
COLOR:royalblue
DESCRIPTION:Predmeti: Igra pred kamero - FTV (IPK [FTV])\, Igra pred kamer
 o I - DI\, FTV (IPK-I [DI\, FTV])\nLetniki: FTV-R2 (FTV-R)\nIzvajalci: Seb
 astijan Cavazza\, Martin Srebotnjak\nProstori: FTV vadnica
LOCATION:Aškerčeva 5\, FTV vadnica
ORGANIZER:Sebastijan Cavazza, Martin Srebotnjak
X-WR-TIMEZONE:Europe/Ljubljana
END:VEVENT
BEGIN:VEVENT
SUMMARY:3KORAKI
DTSTART;TZID=Europe/Ljubljana:20260204T130000
DTEND;TZID=Europe/Ljubljana:20260204T180000
DTSTAMP:20260423T101527Z
UID:agrft-AFLABS-URNIK:rezervacija:4904
CATEGORIES:Reservation
COLOR:royalblue
DESCRIPTION:Predmeti: \nLetniki: \nIzvajalci: Stanko Kostanjevec\, Martin 
 Srebotnjak\nProstori: Montaža 8
LOCATION:Aškerčeva 5\, Montaža 8
ORGANIZER:Stanko Kostanjevec, Martin Srebotnjak
X-WR-TIMEZONE:Europe/Ljubljana
END:VEVENT
END:VCALENDAR
