BEGIN:VCALENDAR
VERSION:2.0
PRODID:-//AFLabs urnik izvoz - agrft//aflabs.si//SI
DTSTAMP:20260421T143042Z
NAME:Urnik-AGRFT
REFRESH-INTERVAL:PT1H
SOURCE:https://urnik.agrft.uni-lj.si/teacher/37?day=2025-06-02&export=1
URL:https://urnik.agrft.uni-lj.si/teacher/37?day=2025-06-02&export=1
X-PUBLISHED-TTL:PT1H
X-WR-CALNAME:Urnik-AGRFT
X-WR-TIMEZONE:Europe/Ljubljana
BEGIN:VTIMEZONE
TZID:Europe/Ljubljana
BEGIN:DAYLIGHT
DTSTART:20260329T020000
RDATE:20260329T020000
RDATE:20270328T020000
TZNAME:CEST
TZOFFSETFROM:+0100
TZOFFSETTO:+0200
END:DAYLIGHT
BEGIN:STANDARD
DTSTART:20261025T030000
RDATE:20261025T030000
RDATE:20271031T030000
TZNAME:CET
TZOFFSETFROM:+0200
TZOFFSETTO:+0100
END:STANDARD
END:VTIMEZONE
BEGIN:VEVENT
SUMMARY:Montaža vaj (mont. Jan Ostanek)
DTSTART;TZID=Europe/Ljubljana:20250531T100000
DTEND;TZID=Europe/Ljubljana:20250531T140000
DTSTAMP:20260421T143042Z
UID:agrft-AFLABS-URNIK:rezervacija:2918
CATEGORIES:Reservation
COLOR:royalblue
DESCRIPTION:Predmeti: Filmska režija I - FTV (FR-I [FTV])\nLetniki: \nIzv
 ajalci: Martin Srebotnjak\nProstori: Montaža 2
LOCATION:Aškerčeva 5\, Montaža 2
ORGANIZER:Martin Srebotnjak
X-WR-TIMEZONE:Europe/Ljubljana
END:VEVENT
BEGIN:VEVENT
SUMMARY:Montaža prizora s poskusnega snemanja (mont. J. Rakovec)
DTSTART;TZID=Europe/Ljubljana:20250510T130000
DTEND;TZID=Europe/Ljubljana:20250510T170000
DTSTAMP:20260421T143042Z
UID:agrft-AFLABS-URNIK:rezervacija:2664
ATTENDEE:DI 1 (DI 1)
ATTENDEE:FTV-R1 (FTV-R)
CATEGORIES:Reservation
COLOR:royalblue
DESCRIPTION:Predmeti: Filmska režija I - FTV (FR-I [FTV])\, Uvod v igro p
 red kamero (UIPK)\nLetniki: DI 1 (DI 1)\, FTV-R1 (FTV-R)\nIzvajalci: Marti
 n Srebotnjak\nProstori: Montaža 6
LOCATION:Aškerčeva 5\, Montaža 6
ORGANIZER:Martin Srebotnjak
X-WR-TIMEZONE:Europe/Ljubljana
END:VEVENT
BEGIN:VEVENT
SUMMARY:Izvedba predmeta (A. Kraigher)
DTSTART;TZID=Europe/Ljubljana:20250531T100000
DTEND;TZID=Europe/Ljubljana:20250531T170000
DTSTAMP:20260421T143042Z
UID:agrft-AFLABS-URNIK:rezervacija:2927
CATEGORIES:Reservation
COLOR:royalblue
DESCRIPTION:Predmeti: Igralec in režiser (IGRINREŽ)\nLetniki: \nIzvajalc
 i: Alenka Kraigher\, Martin Srebotnjak\nProstori: AV predavalnica 1
LOCATION:Aškerčeva 5\, AV predavalnica 1
ORGANIZER:Alenka Kraigher, Martin Srebotnjak
X-WR-TIMEZONE:Europe/Ljubljana
END:VEVENT
BEGIN:VEVENT
SUMMARY:Vaje za Miniaturo
DTSTART;TZID=Europe/Ljubljana:20250506T143000
DTEND;TZID=Europe/Ljubljana:20250506T160000
DTSTAMP:20260421T143042Z
UID:agrft-AFLABS-URNIK:rezervacija:2600
ATTENDEE:DI 1 (DI 1)
ATTENDEE:FTV-R1 (FTV-R)
CATEGORIES:Reservation
COLOR:royalblue
DESCRIPTION:Predmeti: Uvod v igro pred kamero (UIPK)\nLetniki: DI 1 (DI 1)
 \, FTV-R1 (FTV-R)\nIzvajalci: Martin Srebotnjak\nProstori: Montaža 8
LOCATION:Aškerčeva 5\, Montaža 8
ORGANIZER:Martin Srebotnjak
X-WR-TIMEZONE:Europe/Ljubljana
END:VEVENT
BEGIN:VEVENT
SUMMARY:Montaža Omnibusa (mont. Mojca Spačal\, rež. Ana Bizjak)
DTSTART;TZID=Europe/Ljubljana:20250531T130000
DTEND;TZID=Europe/Ljubljana:20250531T160000
DTSTAMP:20260421T143042Z
UID:agrft-AFLABS-URNIK:rezervacija:2928
CATEGORIES:Reservation
COLOR:royalblue
DESCRIPTION:Predmeti: Filmski praktikum I - FTV (FPR-I [FTV])\nLetniki: \n
 Izvajalci: Martin Srebotnjak\nProstori: Montaža 4
LOCATION:Aškerčeva 5\, Montaža 4
ORGANIZER:Martin Srebotnjak
X-WR-TIMEZONE:Europe/Ljubljana
END:VEVENT
BEGIN:VEVENT
SUMMARY:Montaža prizora s poskusnega snemanja (mont. J. Ostanek)
DTSTART;TZID=Europe/Ljubljana:20250510T130000
DTEND;TZID=Europe/Ljubljana:20250510T170000
DTSTAMP:20260421T143042Z
UID:agrft-AFLABS-URNIK:rezervacija:2663
ATTENDEE:DI 1 (DI 1)
ATTENDEE:FTV-R1 (FTV-R)
CATEGORIES:Reservation
COLOR:royalblue
DESCRIPTION:Predmeti: Filmska režija I - FTV (FR-I [FTV])\, Uvod v igro p
 red kamero (UIPK)\nLetniki: DI 1 (DI 1)\, FTV-R1 (FTV-R)\nIzvajalci: Marti
 n Srebotnjak\nProstori: Montaža 7
LOCATION:Aškerčeva 5\, Montaža 7
ORGANIZER:Martin Srebotnjak
X-WR-TIMEZONE:Europe/Ljubljana
END:VEVENT
BEGIN:VEVENT
SUMMARY:Montaža prizora s poskusnega snemanja (mont. J. Ostanek)
DTSTART;TZID=Europe/Ljubljana:20250511T110000
DTEND;TZID=Europe/Ljubljana:20250511T160000
DTSTAMP:20260421T143042Z
UID:agrft-AFLABS-URNIK:rezervacija:2669
CATEGORIES:Reservation
COLOR:royalblue
DESCRIPTION:Predmeti: Filmska režija I - FTV (FR-I [FTV])\nLetniki: \nIzv
 ajalci: Martin Srebotnjak\nProstori: Montaža 7
LOCATION:Aškerčeva 5\, Montaža 7
ORGANIZER:Martin Srebotnjak
X-WR-TIMEZONE:Europe/Ljubljana
END:VEVENT
BEGIN:VEVENT
SUMMARY:Ogled dok. filma
DTSTART;TZID=Europe/Ljubljana:20250529T120000
DTEND;TZID=Europe/Ljubljana:20250529T123000
DTSTAMP:20260421T143042Z
UID:agrft-AFLABS-URNIK:rezervacija:2895
CATEGORIES:Reservation
COLOR:royalblue
DESCRIPTION:Predmeti: Izvedba dokumentarnega filma - režija - FTV (IDF-R 
 [FTV])\nLetniki: \nIzvajalci: Martin Srebotnjak\nProstori: AV predavalnica
  1
LOCATION:Aškerčeva 5\, AV predavalnica 1
ORGANIZER:Martin Srebotnjak
X-WR-TIMEZONE:Europe/Ljubljana
END:VEVENT
BEGIN:VEVENT
SUMMARY:Vaje za Miniaturo (rež. Aneja Lango)
DTSTART;TZID=Europe/Ljubljana:20250516T140000
DTEND;TZID=Europe/Ljubljana:20250516T160000
DTSTAMP:20260421T143042Z
UID:agrft-AFLABS-URNIK:rezervacija:2736
ATTENDEE:DI 1 (DI 1)
ATTENDEE:FTV-R1 (FTV-R)
CATEGORIES:Reservation
COLOR:royalblue
DESCRIPTION:Predmeti: Uvod v igro pred kamero (UIPK)\nLetniki: DI 1 (DI 1)
 \, FTV-R1 (FTV-R)\nIzvajalci: Sebastijan Cavazza\, Martin Srebotnjak\nPros
 tori: Študijski oder 3
LOCATION:Aškerčeva 5\, Študijski oder 3
ORGANIZER:Sebastijan Cavazza, Martin Srebotnjak
X-WR-TIMEZONE:Europe/Ljubljana
END:VEVENT
BEGIN:VEVENT
SUMMARY:.
DTSTART;TZID=Europe/Ljubljana:20250520T143000
DTEND;TZID=Europe/Ljubljana:20250520T160000
DTSTAMP:20260421T143042Z
UID:agrft-AFLABS-URNIK:rezervacija:2786
ATTENDEE:DI 1 (DI 1)
ATTENDEE:FTV-R1 (FTV-R)
CATEGORIES:Reservation
COLOR:royalblue
DESCRIPTION:Predmeti: Uvod v igro pred kamero (UIPK)\nLetniki: DI 1 (DI 1)
 \, FTV-R1 (FTV-R)\nIzvajalci: Martin Srebotnjak\nProstori: Študijski oder
  3
LOCATION:Aškerčeva 5\, Študijski oder 3
ORGANIZER:Martin Srebotnjak
X-WR-TIMEZONE:Europe/Ljubljana
END:VEVENT
BEGIN:VEVENT
SUMMARY:Vaje za Miniaturo
DTSTART;TZID=Europe/Ljubljana:20250506T143000
DTEND;TZID=Europe/Ljubljana:20250506T160000
DTSTAMP:20260421T143042Z
UID:agrft-AFLABS-URNIK:rezervacija:2601
ATTENDEE:DI 1 (DI 1)
ATTENDEE:FTV-R1 (FTV-R)
CATEGORIES:Reservation
COLOR:royalblue
DESCRIPTION:Predmeti: Uvod v igro pred kamero (UIPK)\nLetniki: DI 1 (DI 1)
 \, FTV-R1 (FTV-R)\nIzvajalci: Martin Srebotnjak\nProstori: FTV vadnica
LOCATION:Aškerčeva 5\, FTV vadnica
ORGANIZER:Martin Srebotnjak
X-WR-TIMEZONE:Europe/Ljubljana
END:VEVENT
BEGIN:VEVENT
SUMMARY:.
DTSTART;TZID=Europe/Ljubljana:20250507T100000
DTEND;TZID=Europe/Ljubljana:20250507T120000
DTSTAMP:20260421T143042Z
UID:agrft-AFLABS-URNIK:rezervacija:2615
CATEGORIES:Reservation
COLOR:royalblue
DESCRIPTION:Predmeti: Filmski praktikum I - FTV (FPR-I [FTV])\nLetniki: \n
 Izvajalci: Martin Srebotnjak\nProstori: AV predavalnica 3
LOCATION:Aškerčeva 5\, AV predavalnica 3
ORGANIZER:Martin Srebotnjak
X-WR-TIMEZONE:Europe/Ljubljana
END:VEVENT
BEGIN:VEVENT
SUMMARY:Blok
DTSTART;TZID=Europe/Ljubljana:20250510T100000
DTEND;TZID=Europe/Ljubljana:20250510T180000
DTSTAMP:20260421T143042Z
UID:agrft-AFLABS-URNIK:rezervacija:2658
ATTENDEE:DI 1 (DI 1)
ATTENDEE:FTV-R1 (FTV-R)
CATEGORIES:Reservation
COLOR:royalblue
DESCRIPTION:Predmeti: Filmska režija I - FTV (FR-I [FTV])\, Uvod v igro p
 red kamero (UIPK)\nLetniki: DI 1 (DI 1)\, FTV-R1 (FTV-R)\nIzvajalci: Sebas
 tijan Cavazza\, Martin Srebotnjak\nProstori: Mali studio\, Študijski oder
  3\, Veliki studio
LOCATION:Aškerčeva 5\, Mali studio\, Aškerčeva 5\, Študijski oder 3\,
  Aškerčeva 5\, Veliki studio
ORGANIZER:Sebastijan Cavazza, Martin Srebotnjak
X-WR-TIMEZONE:Europe/Ljubljana
END:VEVENT
BEGIN:VEVENT
SUMMARY:Montaža prizora s poskusnega snemanja (mont. J. Rakovec)
DTSTART;TZID=Europe/Ljubljana:20250511T110000
DTEND;TZID=Europe/Ljubljana:20250511T160000
DTSTAMP:20260421T143042Z
UID:agrft-AFLABS-URNIK:rezervacija:2670
CATEGORIES:Reservation
COLOR:royalblue
DESCRIPTION:Predmeti: Filmska režija I - FTV (FR-I [FTV])\nLetniki: \nIzv
 ajalci: Martin Srebotnjak\nProstori: Montaža 6
LOCATION:Aškerčeva 5\, Montaža 6
ORGANIZER:Martin Srebotnjak
X-WR-TIMEZONE:Europe/Ljubljana
END:VEVENT
BEGIN:VEVENT
SUMMARY:Izvedba predmeta (M. Pevec)
DTSTART;TZID=Europe/Ljubljana:20250526T130000
DTEND;TZID=Europe/Ljubljana:20250526T173000
DTSTAMP:20260421T143042Z
UID:agrft-AFLABS-URNIK:rezervacija:2840
CATEGORIES:Reservation
COLOR:royalblue
DESCRIPTION:Predmeti: Igralec in režiser (IGRINREŽ)\nLetniki: \nIzvajalc
 i: Metod Pevec\, Martin Srebotnjak\nProstori: AV predavalnica 3
LOCATION:Aškerčeva 5\, AV predavalnica 3
ORGANIZER:Metod Pevec, Martin Srebotnjak
X-WR-TIMEZONE:Europe/Ljubljana
END:VEVENT
BEGIN:VEVENT
SUMMARY:Montaža Miniature (mont. Jakob Rakovec\, rež. Bor Bizovičar)
DTSTART;TZID=Europe/Ljubljana:20250531T100000
DTEND;TZID=Europe/Ljubljana:20250531T170000
DTSTAMP:20260421T143042Z
UID:agrft-AFLABS-URNIK:rezervacija:2925
CATEGORIES:Reservation
COLOR:royalblue
DESCRIPTION:Predmeti: Filmska režija I - FTV (FR-I [FTV])\nLetniki: \nIzv
 ajalci: Martin Srebotnjak\nProstori: Montaža 6
LOCATION:Aškerčeva 5\, Montaža 6
ORGANIZER:Martin Srebotnjak
X-WR-TIMEZONE:Europe/Ljubljana
END:VEVENT
BEGIN:VEVENT
SUMMARY:Vaje za Miniaturo
DTSTART;TZID=Europe/Ljubljana:20250522T084500
DTEND;TZID=Europe/Ljubljana:20250522T093000
DTSTAMP:20260421T143042Z
UID:agrft-AFLABS-URNIK:rezervacija:2802
ATTENDEE:DI 1 (DI 1)
ATTENDEE:FTV-R1 (FTV-R)
CATEGORIES:Reservation
COLOR:royalblue
DESCRIPTION:Predmeti: Uvod v igro pred kamero (UIPK)\nLetniki: DI 1 (DI 1)
 \, FTV-R1 (FTV-R)\nIzvajalci: Martin Srebotnjak\nProstori: FTV vadnica
LOCATION:Aškerčeva 5\, FTV vadnica
ORGANIZER:Martin Srebotnjak
X-WR-TIMEZONE:Europe/Ljubljana
END:VEVENT
BEGIN:VEVENT
SUMMARY:.
DTSTART;TZID=Europe/Ljubljana:20250519T130000
DTEND;TZID=Europe/Ljubljana:20250519T173000
DTSTAMP:20260421T143042Z
UID:agrft-AFLABS-URNIK:rezervacija:2755
CATEGORIES:Reservation
COLOR:royalblue
DESCRIPTION:Predmeti: Igralec in režiser (IGRINREŽ)\nLetniki: \nIzvajalc
 i: Alenka Kraigher\, Martin Srebotnjak\nProstori: AV predavalnica 2
LOCATION:Aškerčeva 5\, AV predavalnica 2
ORGANIZER:Alenka Kraigher, Martin Srebotnjak
X-WR-TIMEZONE:Europe/Ljubljana
END:VEVENT
BEGIN:VEVENT
SUMMARY:Izvedba predmeta (A. Kraigher)
DTSTART;TZID=Europe/Ljubljana:20250602T130000
DTEND;TZID=Europe/Ljubljana:20250602T183000
DTSTAMP:20260421T143042Z
UID:agrft-AFLABS-URNIK:rezervacija:2939
CATEGORIES:Reservation
COLOR:royalblue
DESCRIPTION:Predmeti: Igralec in režiser (IGRINREŽ)\, Filmska režija V 
 (FR-V)\nLetniki: \nIzvajalci: Alenka Kraigher\, Martin Srebotnjak\nProstor
 i: AV predavalnica 3
LOCATION:Aškerčeva 5\, AV predavalnica 3
ORGANIZER:Alenka Kraigher, Martin Srebotnjak
X-WR-TIMEZONE:Europe/Ljubljana
END:VEVENT
BEGIN:VEVENT
SUMMARY:Montaža Miniature (mont. Jakob Rakovec\, rež. Bor Bizovičar)
DTSTART;TZID=Europe/Ljubljana:20250601T100000
DTEND;TZID=Europe/Ljubljana:20250601T170000
DTSTAMP:20260421T143042Z
UID:agrft-AFLABS-URNIK:rezervacija:2926
CATEGORIES:Reservation
COLOR:royalblue
DESCRIPTION:Predmeti: Filmska režija I - FTV (FR-I [FTV])\nLetniki: \nIzv
 ajalci: Martin Srebotnjak\nProstori: Montaža 6
LOCATION:Aškerčeva 5\, Montaža 6
ORGANIZER:Martin Srebotnjak
X-WR-TIMEZONE:Europe/Ljubljana
END:VEVENT
BEGIN:VEVENT
SUMMARY:Delavnica
DTSTART;TZID=Europe/Ljubljana:20250512T130000
DTEND;TZID=Europe/Ljubljana:20250512T173000
DTSTAMP:20260421T143042Z
UID:agrft-AFLABS-URNIK:rezervacija:2686
CATEGORIES:Reservation
COLOR:royalblue
DESCRIPTION:Predmeti: Igralec in režiser (IGRINREŽ)\nLetniki: \nIzvajalc
 i: Metod Pevec\, Martin Srebotnjak\nProstori: AV predavalnica 3
LOCATION:Aškerčeva 5\, AV predavalnica 3
ORGANIZER:Metod Pevec, Martin Srebotnjak
X-WR-TIMEZONE:Europe/Ljubljana
END:VEVENT
BEGIN:VEVENT
SUMMARY:Montaža prizora s poskusnega snemanja (mont. Zudič)
DTSTART;TZID=Europe/Ljubljana:20250510T130000
DTEND;TZID=Europe/Ljubljana:20250510T170000
DTSTAMP:20260421T143042Z
UID:agrft-AFLABS-URNIK:rezervacija:2665
ATTENDEE:DI 1 (DI 1)
ATTENDEE:FTV-R1 (FTV-R)
CATEGORIES:Reservation
COLOR:royalblue
DESCRIPTION:Predmeti: Filmska režija I - FTV (FR-I [FTV])\, Uvod v igro p
 red kamero (UIPK)\nLetniki: DI 1 (DI 1)\, FTV-R1 (FTV-R)\nIzvajalci: Marti
 n Srebotnjak\nProstori: Montaža 2
LOCATION:Aškerčeva 5\, Montaža 2
ORGANIZER:Martin Srebotnjak
X-WR-TIMEZONE:Europe/Ljubljana
END:VEVENT
BEGIN:VEVENT
SUMMARY:.
DTSTART;TZID=Europe/Ljubljana:20250505T123000
DTEND;TZID=Europe/Ljubljana:20250505T170000
DTSTAMP:20260421T143042Z
UID:agrft-AFLABS-URNIK:rezervacija:2572
CATEGORIES:Reservation
COLOR:royalblue
DESCRIPTION:Predmeti: Igralec in režiser (IGRINREŽ)\nLetniki: \nIzvajalc
 i: Martin Srebotnjak\nProstori: AV predavalnica 2
LOCATION:Aškerčeva 5\, AV predavalnica 2
ORGANIZER:Martin Srebotnjak
X-WR-TIMEZONE:Europe/Ljubljana
END:VEVENT
BEGIN:VEVENT
SUMMARY:Poskusno snemanje prizora (rež. Bor Bizovičar)
DTSTART;TZID=Europe/Ljubljana:20250512T070000
DTEND;TZID=Europe/Ljubljana:20250512T120000
DTSTAMP:20260421T143042Z
UID:agrft-AFLABS-URNIK:rezervacija:2671
ATTENDEE:DI 1 (DI 1)
ATTENDEE:FTV-R1 (FTV-R)
CATEGORIES:Reservation
COLOR:royalblue
DESCRIPTION:Predmeti: Filmska režija I - FTV (FR-I [FTV])\, Uvod v igro p
 red kamero (UIPK)\nLetniki: DI 1 (DI 1)\, FTV-R1 (FTV-R)\nIzvajalci: Marti
 n Srebotnjak\nProstori: Mali studio
LOCATION:Aškerčeva 5\, Mali studio
ORGANIZER:Martin Srebotnjak
X-WR-TIMEZONE:Europe/Ljubljana
END:VEVENT
BEGIN:VEVENT
SUMMARY:Montaža Miniature (mont. Gaja Zudič)
DTSTART;TZID=Europe/Ljubljana:20250601T140000
DTEND;TZID=Europe/Ljubljana:20250601T170000
DTSTAMP:20260421T143042Z
UID:agrft-AFLABS-URNIK:rezervacija:2932
CATEGORIES:Reservation
COLOR:royalblue
DESCRIPTION:Predmeti: Filmska režija I - FTV (FR-I [FTV])\, Montaža I - 
 FTV (MONT-I [FTV])\nLetniki: \nIzvajalci: Martin Srebotnjak\nProstori: Mon
 taža 2
LOCATION:Aškerčeva 5\, Montaža 2
ORGANIZER:Martin Srebotnjak
X-WR-TIMEZONE:Europe/Ljubljana
END:VEVENT
BEGIN:VEVENT
SUMMARY:Izvedba predmeta (A. Kraigher)
DTSTART;TZID=Europe/Ljubljana:20250528T100000
DTEND;TZID=Europe/Ljubljana:20250528T170000
DTSTAMP:20260421T143042Z
UID:agrft-AFLABS-URNIK:rezervacija:2882
CATEGORIES:Reservation
COLOR:royalblue
DESCRIPTION:Predmeti: Igralec in režiser (IGRINREŽ)\nLetniki: \nIzvajalc
 i: Alenka Kraigher\, Martin Srebotnjak\nProstori: FTV vadnica
LOCATION:Aškerčeva 5\, FTV vadnica
ORGANIZER:Alenka Kraigher, Martin Srebotnjak
X-WR-TIMEZONE:Europe/Ljubljana
END:VEVENT
BEGIN:VEVENT
SUMMARY:Pisni del izpita
DTSTART;TZID=Europe/Ljubljana:20250613T100000
DTEND;TZID=Europe/Ljubljana:20250613T120000
DTSTAMP:20260421T143042Z
UID:agrft-AFLABS-URNIK:rezervacija:3042
CATEGORIES:Reservation
COLOR:royalblue
DESCRIPTION:Predmeti: Filmska režija I - FTV (FR-I [FTV])\, Filmska reži
 ja I - DSU (P-izbirni) (FR-I [DSU] (P-IZB))\, Filmska režija I - DSU (Z) 
 (FR-I [DSU] (Z))\nLetniki: \nIzvajalci: Martin Srebotnjak\nProstori: AV pr
 edavalnica 1
LOCATION:Aškerčeva 5\, AV predavalnica 1
ORGANIZER:Martin Srebotnjak
X-WR-TIMEZONE:Europe/Ljubljana
END:VEVENT
END:VCALENDAR
