BEGIN:VCALENDAR
VERSION:2.0
PRODID:-//AFLabs urnik izvoz - agrft//aflabs.si//SI
DTSTAMP:20260421T065203Z
NAME:Urnik-AGRFT
REFRESH-INTERVAL:PT1H
SOURCE:https://urnik.agrft.uni-lj.si/teacher/37?day=2025-01-06&export=1
URL:https://urnik.agrft.uni-lj.si/teacher/37?day=2025-01-06&export=1
X-PUBLISHED-TTL:PT1H
X-WR-CALNAME:Urnik-AGRFT
X-WR-TIMEZONE:Europe/Ljubljana
BEGIN:VTIMEZONE
TZID:Europe/Ljubljana
BEGIN:DAYLIGHT
DTSTART:20260329T020000
RDATE:20260329T020000
RDATE:20270328T020000
TZNAME:CEST
TZOFFSETFROM:+0100
TZOFFSETTO:+0200
END:DAYLIGHT
BEGIN:STANDARD
DTSTART:20261025T030000
RDATE:20261025T030000
RDATE:20271031T030000
TZNAME:CET
TZOFFSETFROM:+0200
TZOFFSETTO:+0100
END:STANDARD
END:VTIMEZONE
BEGIN:VEVENT
SUMMARY:Avdicija (mag. projekt Pamž\, rež. Jaka Florjančič)
DTSTART;TZID=Europe/Ljubljana:20250114T170000
DTEND;TZID=Europe/Ljubljana:20250114T204500
DTSTAMP:20260421T065203Z
UID:agrft-AFLABS-URNIK:rezervacija:1704
CATEGORIES:Reservation
COLOR:royalblue
DESCRIPTION:Predmeti: Filmska režija VI (FR-VI)\nLetniki: \nIzvajalci: Ma
 tevž Luzar\, Martin Srebotnjak\nProstori: T712
LOCATION:Trubarjeva 3\, T712
ORGANIZER:Matevž Luzar, Martin Srebotnjak
X-WR-TIMEZONE:Europe/Ljubljana
END:VEVENT
BEGIN:VEVENT
SUMMARY:Montaža vaje Srečanje ("Avdicija"\, mont. Jakob Rakovec)
DTSTART;TZID=Europe/Ljubljana:20250111T100000
DTEND;TZID=Europe/Ljubljana:20250111T140000
DTSTAMP:20260421T065203Z
UID:agrft-AFLABS-URNIK:rezervacija:1683
CATEGORIES:Reservation
COLOR:royalblue
DESCRIPTION:Predmeti: Filmska režija I - FTV (FR-I [FTV])\, Montaža I - 
 FTV (MONT-I [FTV])\nLetniki: \nIzvajalci: Martin Srebotnjak\nProstori: Mon
 taža 3
LOCATION:Montaža 3
ORGANIZER:Martin Srebotnjak
X-WR-TIMEZONE:Europe/Ljubljana
END:VEVENT
BEGIN:VEVENT
SUMMARY:Avdicija (mag. projekt Pamž)
DTSTART;TZID=Europe/Ljubljana:20250115T170000
DTEND;TZID=Europe/Ljubljana:20250115T204500
DTSTAMP:20260421T065203Z
UID:agrft-AFLABS-URNIK:rezervacija:1709
CATEGORIES:Reservation
COLOR:royalblue
DESCRIPTION:Predmeti: Filmska režija VI (FR-VI)\nLetniki: \nIzvajalci: Ma
 tevž Luzar\, Martin Srebotnjak\nProstori: T712
LOCATION:Trubarjeva 3\, T712
ORGANIZER:Matevž Luzar, Martin Srebotnjak
X-WR-TIMEZONE:Europe/Ljubljana
END:VEVENT
BEGIN:VEVENT
SUMMARY:Avdicija (mag. projekt Pamž)
DTSTART;TZID=Europe/Ljubljana:20250116T170000
DTEND;TZID=Europe/Ljubljana:20250116T204500
DTSTAMP:20260421T065203Z
UID:agrft-AFLABS-URNIK:rezervacija:1715
CATEGORIES:Reservation
COLOR:royalblue
DESCRIPTION:Predmeti: Filmska režija VI (FR-VI)\nLetniki: \nIzvajalci: Ma
 tevž Luzar\, Martin Srebotnjak\nProstori: T712
LOCATION:Trubarjeva 3\, T712
ORGANIZER:Matevž Luzar, Martin Srebotnjak
X-WR-TIMEZONE:Europe/Ljubljana
END:VEVENT
BEGIN:VEVENT
SUMMARY:Konzultacije za vajo Srečanje
DTSTART;TZID=Europe/Ljubljana:20250107T113000
DTEND;TZID=Europe/Ljubljana:20250107T141500
DTSTAMP:20260421T065203Z
UID:agrft-AFLABS-URNIK:rezervacija:1635
CATEGORIES:Reservation
COLOR:royalblue
DESCRIPTION:Predmeti: Filmska režija I - FTV (FR-I [FTV])\nLetniki: \nIzv
 ajalci: Martin Srebotnjak\nProstori: FTV kabinet
LOCATION:Aškerčeva 5\, FTV kabinet
ORGANIZER:Martin Srebotnjak
X-WR-TIMEZONE:Europe/Ljubljana
END:VEVENT
BEGIN:VEVENT
SUMMARY:Kolokvij / pisni del izpita
DTSTART;TZID=Europe/Ljubljana:20250124T094500
DTEND;TZID=Europe/Ljubljana:20250124T120000
DTSTAMP:20260421T065203Z
UID:agrft-AFLABS-URNIK:rezervacija:1767
CATEGORIES:Reservation
COLOR:royalblue
DESCRIPTION:Predmeti: Filmska režija I - FTV (FR-I [FTV])\, Filmska reži
 ja I - DSU (Z) (FR-I [DSU] (Z))\nLetniki: \nIzvajalci: Martin Srebotnjak\n
 Prostori: AV predavalnica 1
LOCATION:Aškerčeva 5\, AV predavalnica 1
ORGANIZER:Martin Srebotnjak
X-WR-TIMEZONE:Europe/Ljubljana
END:VEVENT
BEGIN:VEVENT
SUMMARY:Pisni del izpita
DTSTART;TZID=Europe/Ljubljana:20250131T094500
DTEND;TZID=Europe/Ljubljana:20250131T130000
DTSTAMP:20260421T065203Z
UID:agrft-AFLABS-URNIK:rezervacija:1798
ATTENDEE:FTVU-P1 (FTVU-P)
ATTENDEE:FTVU-SC1 (FTVU-SC)
ATTENDEE:FTVŠ1 (FTVŠ)
CATEGORIES:Reservation
COLOR:royalblue
DESCRIPTION:Predmeti: Filmski jezik (FJ)\nLetniki: FTVŠ1 (FTVŠ)\, FTVU-P
 1 (FTVU-P)\, FTVU-SC1 (FTVU-SC)\nIzvajalci: Martin Srebotnjak\nProstori: A
 V predavalnica 3
LOCATION:Aškerčeva 5\, AV predavalnica 3
ORGANIZER:Martin Srebotnjak
X-WR-TIMEZONE:Europe/Ljubljana
END:VEVENT
BEGIN:VEVENT
SUMMARY:Blok ure
DTSTART;TZID=Europe/Ljubljana:20250110T170000
DTEND;TZID=Europe/Ljubljana:20250110T204500
DTSTAMP:20260421T065203Z
UID:agrft-AFLABS-URNIK:rezervacija:1682
ATTENDEE:FTV-R2 (FTV-R)
CATEGORIES:Reservation
COLOR:royalblue
DESCRIPTION:Predmeti: Igra pred kamero - FTV (IPK [FTV])\, Igra pred kamer
 o I - DI\, FTV (IPK-I [DI\, FTV])\nLetniki: FTV-R2 (FTV-R)\nIzvajalci: Seb
 astijan Cavazza\, Martin Srebotnjak\nProstori: Študijski oder 2
LOCATION:Aškerčeva 5\, Študijski oder 2
ORGANIZER:Sebastijan Cavazza, Martin Srebotnjak
X-WR-TIMEZONE:Europe/Ljubljana
END:VEVENT
BEGIN:VEVENT
SUMMARY:Pregled kolokvijev ter ogled montažnih različic vaje Srečanje
DTSTART;TZID=Europe/Ljubljana:20250203T110000
DTEND;TZID=Europe/Ljubljana:20250203T123000
DTSTAMP:20260421T065203Z
UID:agrft-AFLABS-URNIK:rezervacija:1804
CATEGORIES:Reservation
COLOR:royalblue
DESCRIPTION:Predmeti: Filmska režija I - FTV (FR-I [FTV])\nLetniki: \nIzv
 ajalci: Martin Srebotnjak\nProstori: AV predavalnica 1
LOCATION:Aškerčeva 5\, AV predavalnica 1
ORGANIZER:Martin Srebotnjak
X-WR-TIMEZONE:Europe/Ljubljana
END:VEVENT
BEGIN:VEVENT
SUMMARY:Montaža vaje Srečanje ("Avdicija"\, mont. Jakob Rakovec)
DTSTART;TZID=Europe/Ljubljana:20250119T100000
DTEND;TZID=Europe/Ljubljana:20250119T130000
DTSTAMP:20260421T065203Z
UID:agrft-AFLABS-URNIK:rezervacija:1729
CATEGORIES:Reservation
COLOR:royalblue
DESCRIPTION:Predmeti: Filmska režija I - FTV (FR-I [FTV])\, Kamera I - FT
 V (K-I [FTV])\, Montaža I - FTV (MONT-I [FTV])\nLetniki: \nIzvajalci: Mar
 tin Srebotnjak\nProstori: Montaža 7
LOCATION:Aškerčeva 5\, Montaža 7
ORGANIZER:Martin Srebotnjak
X-WR-TIMEZONE:Europe/Ljubljana
END:VEVENT
BEGIN:VEVENT
SUMMARY:Projekcija filmskih vaj pri predmetu
DTSTART;TZID=Europe/Ljubljana:20250203T130000
DTEND;TZID=Europe/Ljubljana:20250203T160000
DTSTAMP:20260421T065203Z
UID:agrft-AFLABS-URNIK:rezervacija:1805
ATTENDEE:FTV-M2 (FTV-M)
ATTENDEE:FTV-R2 (FTV-R)
ATTENDEE:FTV-S2 (FTV-S)
CATEGORIES:Reservation
COLOR:royalblue
DESCRIPTION:Predmeti: Uvod v dokumentarni film - FTV (UDF [FTV])\nLetniki:
  FTV-M2 (FTV-M)\, FTV-R2 (FTV-R)\, FTV-S2 (FTV-S)\nIzvajalci: Metod Pevec\
 , Martin Srebotnjak\nProstori: Kinodvorana
LOCATION:Aškerčeva 5\, Kinodvorana
ORGANIZER:Metod Pevec, Martin Srebotnjak
X-WR-TIMEZONE:Europe/Ljubljana
END:VEVENT
BEGIN:VEVENT
SUMMARY:Izpitna projekcija (Čakam na vlak\, rež. Armin Čulić)
DTSTART;TZID=Europe/Ljubljana:20250121T130000
DTEND;TZID=Europe/Ljubljana:20250121T150000
DTSTAMP:20260421T065203Z
UID:agrft-AFLABS-URNIK:rezervacija:1747
CATEGORIES:Reservation
COLOR:royalblue
DESCRIPTION:Predmeti: Filmska režija IV (FR-IV)\nLetniki: \nIzvajalci: Ja
 nez Burger\, Martin Srebotnjak\nProstori: Kinodvorana
LOCATION:Aškerčeva 5\, Kinodvorana
ORGANIZER:Janez Burger, Martin Srebotnjak
X-WR-TIMEZONE:Europe/Ljubljana
END:VEVENT
BEGIN:VEVENT
SUMMARY:Predstavitev predmeta in filmske delavnice
DTSTART;TZID=Europe/Ljubljana:20250129T130000
DTEND;TZID=Europe/Ljubljana:20250129T143000
DTSTAMP:20260421T065203Z
UID:agrft-AFLABS-URNIK:rezervacija:1785
CATEGORIES:Reservation
COLOR:royalblue
DESCRIPTION:Predmeti: Filmski praktikum I - FTV (FPR-I [FTV])\nLetniki: \n
 Izvajalci: Martin Srebotnjak\nProstori: AV predavalnica 3
LOCATION:Aškerčeva 5\, AV predavalnica 3
ORGANIZER:Martin Srebotnjak
X-WR-TIMEZONE:Europe/Ljubljana
END:VEVENT
BEGIN:VEVENT
SUMMARY:Avdicija (mag. projekt Pamž)
DTSTART;TZID=Europe/Ljubljana:20250117T170000
DTEND;TZID=Europe/Ljubljana:20250117T204500
DTSTAMP:20260421T065203Z
UID:agrft-AFLABS-URNIK:rezervacija:1724
CATEGORIES:Reservation
COLOR:royalblue
DESCRIPTION:Predmeti: Filmska režija VI (FR-VI)\nLetniki: \nIzvajalci: Ma
 tevž Luzar\, Martin Srebotnjak\nProstori: T712
LOCATION:Trubarjeva 3\, T712
ORGANIZER:Matevž Luzar, Martin Srebotnjak
X-WR-TIMEZONE:Europe/Ljubljana
END:VEVENT
BEGIN:VEVENT
SUMMARY:Montaža vaje Srečanje ("Pomaranče"\, mont. Gaja Zudič)
DTSTART;TZID=Europe/Ljubljana:20250111T140000
DTEND;TZID=Europe/Ljubljana:20250111T180000
DTSTAMP:20260421T065203Z
UID:agrft-AFLABS-URNIK:rezervacija:1691
CATEGORIES:Reservation
COLOR:royalblue
DESCRIPTION:Predmeti: Filmska režija I - FTV (FR-I [FTV])\, Montaža I - 
 FTV (MONT-I [FTV])\nLetniki: \nIzvajalci: Martin Srebotnjak\nProstori: Mon
 taža 2
LOCATION:Aškerčeva 5\, Montaža 2
ORGANIZER:Martin Srebotnjak
X-WR-TIMEZONE:Europe/Ljubljana
END:VEVENT
BEGIN:VEVENT
SUMMARY:Vaja z igralci za Srečanje (Pomaranče\, rež. Julija Bauer) (gre
  za prostor dosedanjega Skladišča filmske tehnike v pritličju!)
DTSTART;TZID=Europe/Ljubljana:20250106T083000
DTEND;TZID=Europe/Ljubljana:20250106T113000
DTSTAMP:20260421T065203Z
UID:agrft-AFLABS-URNIK:rezervacija:1627
CATEGORIES:Reservation
COLOR:royalblue
DESCRIPTION:Predmeti: Filmska režija I - FTV (FR-I [FTV])\, Kamera I - FT
 V (K-I [FTV])\, Montaža I - FTV (MONT-I [FTV])\nLetniki: \nIzvajalci: Mar
 tin Srebotnjak\nProstori: FTV vadnica
LOCATION:Aškerčeva 5\, FTV vadnica
ORGANIZER:Martin Srebotnjak
X-WR-TIMEZONE:Europe/Ljubljana
END:VEVENT
BEGIN:VEVENT
SUMMARY:Montaža vaje Srečanje ("Avdicija"\, mont. Jakob Rakovec)
DTSTART;TZID=Europe/Ljubljana:20250112T120000
DTEND;TZID=Europe/Ljubljana:20250112T180000
DTSTAMP:20260421T065203Z
UID:agrft-AFLABS-URNIK:rezervacija:1692
CATEGORIES:Reservation
COLOR:royalblue
DESCRIPTION:Predmeti: Filmska režija I - FTV (FR-I [FTV])\, Montaža I - 
 FTV (MONT-I [FTV])\nLetniki: \nIzvajalci: Martin Srebotnjak\nProstori: Mon
 taža 3
LOCATION:Montaža 3
ORGANIZER:Martin Srebotnjak
X-WR-TIMEZONE:Europe/Ljubljana
END:VEVENT
BEGIN:VEVENT
SUMMARY:Priprava samoevalvacijskega poročila
DTSTART;TZID=Europe/Ljubljana:20250110T083000
DTEND;TZID=Europe/Ljubljana:20250110T120000
DTSTAMP:20260421T065203Z
UID:agrft-AFLABS-URNIK:rezervacija:1659
CATEGORIES:Reservation
COLOR:royalblue
DESCRIPTION:Predmeti: \nLetniki: \nIzvajalci: Martin Srebotnjak\nProstori:
  FTV kabinet
LOCATION:Aškerčeva 5\, FTV kabinet
ORGANIZER:Martin Srebotnjak
X-WR-TIMEZONE:Europe/Ljubljana
END:VEVENT
END:VCALENDAR
