BEGIN:VCALENDAR
VERSION:2.0
PRODID:-//AFLabs urnik izvoz - agrft//aflabs.si//SI
DTSTAMP:20260421T000957Z
NAME:Urnik-AGRFT
REFRESH-INTERVAL:PT1H
SOURCE:https://urnik.agrft.uni-lj.si/teacher/26?day=2026-04-06&export=1
URL:https://urnik.agrft.uni-lj.si/teacher/26?day=2026-04-06&export=1
X-PUBLISHED-TTL:PT1H
X-WR-CALNAME:Urnik-AGRFT
X-WR-TIMEZONE:Europe/Ljubljana
BEGIN:VTIMEZONE
TZID:Europe/Ljubljana
BEGIN:DAYLIGHT
DTSTART:20260329T020000
RDATE:20260329T020000
RDATE:20270328T020000
TZNAME:CEST
TZOFFSETFROM:+0100
TZOFFSETTO:+0200
END:DAYLIGHT
BEGIN:STANDARD
DTSTART:20261025T030000
RDATE:20261025T030000
RDATE:20271031T030000
TZNAME:CET
TZOFFSETFROM:+0200
TZOFFSETTO:+0100
END:STANDARD
END:VTIMEZONE
BEGIN:VEVENT
SUMMARY:Uprizoritvene in avdiovizualne umetnosti
DTSTART;TZID=Europe/Ljubljana:20260422T160000
DTEND;TZID=Europe/Ljubljana:20260422T190000
DTSTAMP:20260421T000957Z
UID:agrft-AFLABS-URNIK:rezervacija:5866
CATEGORIES:Reservation
COLOR:royalblue
DESCRIPTION:Predmeti: \nLetniki: \nIzvajalci: Tomaž Gubenšek\, Gregor Mo
 der\nProstori: T613
LOCATION:Trubarjeva 3\, T613
ORGANIZER:Tomaž Gubenšek, Gregor Moder
X-WR-TIMEZONE:Europe/Ljubljana
END:VEVENT
BEGIN:VEVENT
SUMMARY:Uprizoritvene in avdiovizualne umetnosti
DTSTART;TZID=Europe/Ljubljana:20260416T160000
DTEND;TZID=Europe/Ljubljana:20260416T190000
DTSTAMP:20260421T000957Z
UID:agrft-AFLABS-URNIK:rezervacija:5865
CATEGORIES:Reservation
COLOR:royalblue
DESCRIPTION:Predmeti: \nLetniki: \nIzvajalci: Tomaž Gubenšek\, Gregor Mo
 der\nProstori: T613
LOCATION:Trubarjeva 3\, T613
ORGANIZER:Tomaž Gubenšek, Gregor Moder
X-WR-TIMEZONE:Europe/Ljubljana
END:VEVENT
END:VCALENDAR
