BEGIN:VCALENDAR
VERSION:2.0
PRODID:-//AFLabs urnik izvoz - agrft//aflabs.si//SI
DTSTAMP:20260424T062718Z
NAME:Urnik-AGRFT
REFRESH-INTERVAL:PT1H
SOURCE:https://urnik.agrft.uni-lj.si/teacher/23?day=2025-12-08&export=1
URL:https://urnik.agrft.uni-lj.si/teacher/23?day=2025-12-08&export=1
X-PUBLISHED-TTL:PT1H
X-WR-CALNAME:Urnik-AGRFT
X-WR-TIMEZONE:Europe/Ljubljana
BEGIN:VTIMEZONE
TZID:Europe/Ljubljana
BEGIN:DAYLIGHT
DTSTART:20260329T020000
RDATE:20260329T020000
RDATE:20270328T020000
TZNAME:CEST
TZOFFSETFROM:+0100
TZOFFSETTO:+0200
END:DAYLIGHT
BEGIN:STANDARD
DTSTART:20261025T030000
RDATE:20261025T030000
RDATE:20271031T030000
TZNAME:CET
TZOFFSETFROM:+0200
TZOFFSETTO:+0100
END:STANDARD
END:VTIMEZONE
BEGIN:VEVENT
SUMMARY:projekcija Liffe (do 23:00)
DTSTART;TZID=Europe/Ljubljana:20251115T153000
DTEND;TZID=Europe/Ljubljana:20251115T210000
DTSTAMP:20260424T062718Z
UID:agrft-AFLABS-URNIK:rezervacija:4016
CATEGORIES:Reservation
COLOR:royalblue
DESCRIPTION:Predmeti: \nLetniki: \nIzvajalci: Jožica Šmid\nProstori: Kin
 odvorana
LOCATION:Aškerčeva 5\, Kinodvorana
ORGANIZER:Jožica Šmid
X-WR-TIMEZONE:Europe/Ljubljana
END:VEVENT
BEGIN:VEVENT
SUMMARY:Sestanek Komisije za kakovost
DTSTART;TZID=Europe/Ljubljana:20251202T140000
DTEND;TZID=Europe/Ljubljana:20251202T150000
DTSTAMP:20260424T062718Z
UID:agrft-AFLABS-URNIK:rezervacija:4260
CATEGORIES:Reservation
COLOR:royalblue
DESCRIPTION:Predmeti: \nLetniki: \nIzvajalci: Jožica Šmid\, Tomaž Topor
 išič\, Martin Vrtačnik\nProstori: T507
LOCATION:Trubarjeva 3\, T507
ORGANIZER:Jožica Šmid, Tomaž Toporišič, Martin Vrtačnik
X-WR-TIMEZONE:Europe/Ljubljana
END:VEVENT
BEGIN:VEVENT
SUMMARY:projekcija Liffe (do 23:00)
DTSTART;TZID=Europe/Ljubljana:20251117T153000
DTEND;TZID=Europe/Ljubljana:20251117T210000
DTSTAMP:20260424T062718Z
UID:agrft-AFLABS-URNIK:rezervacija:4022
CATEGORIES:Reservation
COLOR:royalblue
DESCRIPTION:Predmeti: \nLetniki: \nIzvajalci: Jožica Šmid\nProstori: Kin
 odvorana
LOCATION:Aškerčeva 5\, Kinodvorana
ORGANIZER:Jožica Šmid
X-WR-TIMEZONE:Europe/Ljubljana
END:VEVENT
BEGIN:VEVENT
SUMMARY:govorilne ure\, kunzultacije
DTSTART;TZID=Europe/Ljubljana:20251225T101500
DTEND;TZID=Europe/Ljubljana:20251225T113000
DTSTAMP:20260424T062718Z
UID:agrft-AFLABS-URNIK:rezervacija:3629
CATEGORIES:Reservation
COLOR:royalblue
DESCRIPTION:Predmeti: \nLetniki: \nIzvajalci: Jožica Šmid\nProstori: FTV
  kabinet
LOCATION:Aškerčeva 5\, FTV kabinet
ORGANIZER:Jožica Šmid
X-WR-TIMEZONE:Europe/Ljubljana
END:VEVENT
BEGIN:VEVENT
SUMMARY:projekcija Liffe (do 23:00)
DTSTART;TZID=Europe/Ljubljana:20251123T153000
DTEND;TZID=Europe/Ljubljana:20251123T210000
DTSTAMP:20260424T062718Z
UID:agrft-AFLABS-URNIK:rezervacija:4031
CATEGORIES:Reservation
COLOR:royalblue
DESCRIPTION:Predmeti: \nLetniki: \nIzvajalci: Jožica Šmid\nProstori: Kin
 odvorana
LOCATION:Aškerčeva 5\, Kinodvorana
ORGANIZER:Jožica Šmid
X-WR-TIMEZONE:Europe/Ljubljana
END:VEVENT
BEGIN:VEVENT
SUMMARY:projekcija Liffe (od 15:30 do 23:00)
DTSTART;TZID=Europe/Ljubljana:20251121T170000
DTEND;TZID=Europe/Ljubljana:20251121T210000
DTSTAMP:20260424T062718Z
UID:agrft-AFLABS-URNIK:rezervacija:4033
CATEGORIES:Reservation
COLOR:royalblue
DESCRIPTION:Predmeti: \nLetniki: \nIzvajalci: Jožica Šmid\nProstori: Kin
 odvorana
LOCATION:Aškerčeva 5\, Kinodvorana
ORGANIZER:Jožica Šmid
X-WR-TIMEZONE:Europe/Ljubljana
END:VEVENT
BEGIN:VEVENT
SUMMARY:Projekcija Liffe (do 23.15)
DTSTART;TZID=Europe/Ljubljana:20251113T153000
DTEND;TZID=Europe/Ljubljana:20251113T210000
DTSTAMP:20260424T062718Z
UID:agrft-AFLABS-URNIK:rezervacija:4005
CATEGORIES:Reservation
COLOR:royalblue
DESCRIPTION:Predmeti: \nLetniki: \nIzvajalci: Jožica Šmid\nProstori: Kin
 odvorana
LOCATION:Aškerčeva 5\, Kinodvorana
ORGANIZER:Jožica Šmid
X-WR-TIMEZONE:Europe/Ljubljana
END:VEVENT
BEGIN:VEVENT
SUMMARY:govorilne ure\, kunzultacije
DTSTART;TZID=Europe/Ljubljana:20251120T101500
DTEND;TZID=Europe/Ljubljana:20251120T113000
DTSTAMP:20260424T062718Z
UID:agrft-AFLABS-URNIK:rezervacija:3624
CATEGORIES:Reservation
COLOR:royalblue
DESCRIPTION:Predmeti: \nLetniki: \nIzvajalci: Jožica Šmid\nProstori: FTV
  kabinet
LOCATION:Aškerčeva 5\, FTV kabinet
ORGANIZER:Jožica Šmid
X-WR-TIMEZONE:Europe/Ljubljana
END:VEVENT
BEGIN:VEVENT
SUMMARY:projekcija Liffe (do 23:10)
DTSTART;TZID=Europe/Ljubljana:20251112T151500
DTEND;TZID=Europe/Ljubljana:20251112T210000
DTSTAMP:20260424T062718Z
UID:agrft-AFLABS-URNIK:rezervacija:4004
CATEGORIES:Reservation
COLOR:royalblue
DESCRIPTION:Predmeti: \nLetniki: \nIzvajalci: Jožica Šmid\nProstori: Kin
 odvorana
LOCATION:Aškerčeva 5\, Kinodvorana
ORGANIZER:Jožica Šmid
X-WR-TIMEZONE:Europe/Ljubljana
END:VEVENT
BEGIN:VEVENT
SUMMARY:projekcije Liffe ( do 23:00)
DTSTART;TZID=Europe/Ljubljana:20251122T160000
DTEND;TZID=Europe/Ljubljana:20251122T210000
DTSTAMP:20260424T062718Z
UID:agrft-AFLABS-URNIK:rezervacija:4030
CATEGORIES:Reservation
COLOR:royalblue
DESCRIPTION:Predmeti: \nLetniki: \nIzvajalci: Jožica Šmid\nProstori: Kin
 odvorana
LOCATION:Aškerčeva 5\, Kinodvorana
ORGANIZER:Jožica Šmid
X-WR-TIMEZONE:Europe/Ljubljana
END:VEVENT
BEGIN:VEVENT
SUMMARY:projekcija Liffe (do 23:00)
DTSTART;TZID=Europe/Ljubljana:20251119T153000
DTEND;TZID=Europe/Ljubljana:20251119T210000
DTSTAMP:20260424T062718Z
UID:agrft-AFLABS-URNIK:rezervacija:4027
CATEGORIES:Reservation
COLOR:royalblue
DESCRIPTION:Predmeti: \nLetniki: \nIzvajalci: Jožica Šmid\nProstori: Kin
 odvorana
LOCATION:Aškerčeva 5\, Kinodvorana
ORGANIZER:Jožica Šmid
X-WR-TIMEZONE:Europe/Ljubljana
END:VEVENT
BEGIN:VEVENT
SUMMARY:Projekcija Liffe (do 22.45)
DTSTART;TZID=Europe/Ljubljana:20251116T153000
DTEND;TZID=Europe/Ljubljana:20251116T210000
DTSTAMP:20260424T062718Z
UID:agrft-AFLABS-URNIK:rezervacija:4021
CATEGORIES:Reservation
COLOR:royalblue
DESCRIPTION:Predmeti: \nLetniki: \nIzvajalci: Jožica Šmid\nProstori: Kin
 odvorana
LOCATION:Aškerčeva 5\, Kinodvorana
ORGANIZER:Jožica Šmid
X-WR-TIMEZONE:Europe/Ljubljana
END:VEVENT
BEGIN:VEVENT
SUMMARY:gostujoči predavatelj Nina Buček
DTSTART;TZID=Europe/Ljubljana:20251223T110000
DTEND;TZID=Europe/Ljubljana:20251223T113000
DTSTAMP:20260424T062718Z
UID:agrft-AFLABS-URNIK:rezervacija:4568
CATEGORIES:Reservation
COLOR:royalblue
DESCRIPTION:Predmeti: \nLetniki: \nIzvajalci: Jožica Šmid\nProstori: AV 
 predavalnica 3
LOCATION:Aškerčeva 5\, AV predavalnica 3
ORGANIZER:Jožica Šmid
X-WR-TIMEZONE:Europe/Ljubljana
END:VEVENT
BEGIN:VEVENT
SUMMARY:govorilne ure\, kunzultacije
DTSTART;TZID=Europe/Ljubljana:20251218T101500
DTEND;TZID=Europe/Ljubljana:20251218T113000
DTSTAMP:20260424T062718Z
UID:agrft-AFLABS-URNIK:rezervacija:3628
CATEGORIES:Reservation
COLOR:royalblue
DESCRIPTION:Predmeti: \nLetniki: \nIzvajalci: Jožica Šmid\nProstori: FTV
  kabinet
LOCATION:Aškerčeva 5\, FTV kabinet
ORGANIZER:Jožica Šmid
X-WR-TIMEZONE:Europe/Ljubljana
END:VEVENT
BEGIN:VEVENT
SUMMARY:projekcija Liffe (do 23:30)
DTSTART;TZID=Europe/Ljubljana:20251118T153000
DTEND;TZID=Europe/Ljubljana:20251118T180000
DTSTAMP:20260424T062718Z
UID:agrft-AFLABS-URNIK:rezervacija:4026
CATEGORIES:Reservation
COLOR:royalblue
DESCRIPTION:Predmeti: \nLetniki: \nIzvajalci: Jožica Šmid\nProstori: Kin
 odvorana
LOCATION:Aškerčeva 5\, Kinodvorana
ORGANIZER:Jožica Šmid
X-WR-TIMEZONE:Europe/Ljubljana
END:VEVENT
BEGIN:VEVENT
SUMMARY:projekcija Liffe (od 15:15 do 23.30)
DTSTART;TZID=Europe/Ljubljana:20251114T170000
DTEND;TZID=Europe/Ljubljana:20251114T210000
DTSTAMP:20260424T062718Z
UID:agrft-AFLABS-URNIK:rezervacija:4014
CATEGORIES:Reservation
COLOR:royalblue
DESCRIPTION:Predmeti: \nLetniki: \nIzvajalci: Jožica Šmid\nProstori: Kin
 odvorana
LOCATION:Aškerčeva 5\, Kinodvorana
ORGANIZER:Jožica Šmid
X-WR-TIMEZONE:Europe/Ljubljana
END:VEVENT
BEGIN:VEVENT
SUMMARY:govorilne ure\, kunzultacije
DTSTART;TZID=Europe/Ljubljana:20251211T101500
DTEND;TZID=Europe/Ljubljana:20251211T113000
DTSTAMP:20260424T062718Z
UID:agrft-AFLABS-URNIK:rezervacija:3627
CATEGORIES:Reservation
COLOR:royalblue
DESCRIPTION:Predmeti: \nLetniki: \nIzvajalci: Jožica Šmid\nProstori: FTV
  kabinet
LOCATION:Aškerčeva 5\, FTV kabinet
ORGANIZER:Jožica Šmid
X-WR-TIMEZONE:Europe/Ljubljana
END:VEVENT
BEGIN:VEVENT
SUMMARY:govorilne ure\, kunzultacije
DTSTART;TZID=Europe/Ljubljana:20251113T101500
DTEND;TZID=Europe/Ljubljana:20251113T113000
DTSTAMP:20260424T062718Z
UID:agrft-AFLABS-URNIK:rezervacija:3623
CATEGORIES:Reservation
COLOR:royalblue
DESCRIPTION:Predmeti: \nLetniki: \nIzvajalci: Jožica Šmid\nProstori: FTV
  kabinet
LOCATION:Aškerčeva 5\, FTV kabinet
ORGANIZER:Jožica Šmid
X-WR-TIMEZONE:Europe/Ljubljana
END:VEVENT
BEGIN:VEVENT
SUMMARY:Nadomeščanje Robnik
DTSTART;TZID=Europe/Ljubljana:20251126T164500
DTEND;TZID=Europe/Ljubljana:20251126T173000
DTSTAMP:20260424T062718Z
UID:agrft-AFLABS-URNIK:rezervacija:4251
CATEGORIES:Reservation
COLOR:royalblue
DESCRIPTION:Predmeti: \nLetniki: \nIzvajalci: Jožica Šmid\nProstori: FTV
  kabinet
LOCATION:Aškerčeva 5\, FTV kabinet
ORGANIZER:Jožica Šmid
X-WR-TIMEZONE:Europe/Ljubljana
END:VEVENT
BEGIN:VEVENT
SUMMARY:govorilne ure\, kunzultacije
DTSTART;TZID=Europe/Ljubljana:20260108T101500
DTEND;TZID=Europe/Ljubljana:20260108T113000
DTSTAMP:20260424T062718Z
UID:agrft-AFLABS-URNIK:rezervacija:3631
CATEGORIES:Reservation
COLOR:royalblue
DESCRIPTION:Predmeti: \nLetniki: \nIzvajalci: Jožica Šmid\nProstori: FTV
  kabinet
LOCATION:Aškerčeva 5\, FTV kabinet
ORGANIZER:Jožica Šmid
X-WR-TIMEZONE:Europe/Ljubljana
END:VEVENT
BEGIN:VEVENT
SUMMARY:govorilne ure\, kunzultacije
DTSTART;TZID=Europe/Ljubljana:20251127T101500
DTEND;TZID=Europe/Ljubljana:20251127T113000
DTSTAMP:20260424T062718Z
UID:agrft-AFLABS-URNIK:rezervacija:3625
CATEGORIES:Reservation
COLOR:royalblue
DESCRIPTION:Predmeti: \nLetniki: \nIzvajalci: Jožica Šmid\nProstori: FTV
  kabinet
LOCATION:Aškerčeva 5\, FTV kabinet
ORGANIZER:Jožica Šmid
X-WR-TIMEZONE:Europe/Ljubljana
END:VEVENT
BEGIN:VEVENT
SUMMARY:projekcija Liffe (do 23:00)
DTSTART;TZID=Europe/Ljubljana:20251120T153000
DTEND;TZID=Europe/Ljubljana:20251120T210000
DTSTAMP:20260424T062718Z
UID:agrft-AFLABS-URNIK:rezervacija:4028
CATEGORIES:Reservation
COLOR:royalblue
DESCRIPTION:Predmeti: \nLetniki: \nIzvajalci: Jožica Šmid\nProstori: Kin
 odvorana
LOCATION:Aškerčeva 5\, Kinodvorana
ORGANIZER:Jožica Šmid
X-WR-TIMEZONE:Europe/Ljubljana
END:VEVENT
BEGIN:VEVENT
SUMMARY:govorilne ure\, kunzultacije
DTSTART;TZID=Europe/Ljubljana:20251106T101500
DTEND;TZID=Europe/Ljubljana:20251106T113000
DTSTAMP:20260424T062718Z
UID:agrft-AFLABS-URNIK:rezervacija:3622
CATEGORIES:Reservation
COLOR:royalblue
DESCRIPTION:Predmeti: \nLetniki: \nIzvajalci: Jožica Šmid\nProstori: FTV
  kabinet
LOCATION:Aškerčeva 5\, FTV kabinet
ORGANIZER:Jožica Šmid
X-WR-TIMEZONE:Europe/Ljubljana
END:VEVENT
BEGIN:VEVENT
SUMMARY:govorilne ure\, kunzultacije
DTSTART;TZID=Europe/Ljubljana:20251204T101500
DTEND;TZID=Europe/Ljubljana:20251204T113000
DTSTAMP:20260424T062718Z
UID:agrft-AFLABS-URNIK:rezervacija:3626
CATEGORIES:Reservation
COLOR:royalblue
DESCRIPTION:Predmeti: \nLetniki: \nIzvajalci: Jožica Šmid\nProstori: FTV
  kabinet
LOCATION:Aškerčeva 5\, FTV kabinet
ORGANIZER:Jožica Šmid
X-WR-TIMEZONE:Europe/Ljubljana
END:VEVENT
BEGIN:VEVENT
SUMMARY:govorilne ure\, kunzultacije
DTSTART;TZID=Europe/Ljubljana:20260101T101500
DTEND;TZID=Europe/Ljubljana:20260101T113000
DTSTAMP:20260424T062718Z
UID:agrft-AFLABS-URNIK:rezervacija:3630
CATEGORIES:Reservation
COLOR:royalblue
DESCRIPTION:Predmeti: \nLetniki: \nIzvajalci: Jožica Šmid\nProstori: FTV
  kabinet
LOCATION:Aškerčeva 5\, FTV kabinet
ORGANIZER:Jožica Šmid
X-WR-TIMEZONE:Europe/Ljubljana
END:VEVENT
END:VCALENDAR
