BEGIN:VCALENDAR
VERSION:2.0
PRODID:-//AFLabs urnik izvoz - agrft//aflabs.si//SI
DTSTAMP:20260422T003014Z
NAME:Urnik-AGRFT
REFRESH-INTERVAL:PT1H
SOURCE:https://urnik.agrft.uni-lj.si/teacher/21?day=2025-12-08&export=1
URL:https://urnik.agrft.uni-lj.si/teacher/21?day=2025-12-08&export=1
X-PUBLISHED-TTL:PT1H
X-WR-CALNAME:Urnik-AGRFT
X-WR-TIMEZONE:Europe/Ljubljana
BEGIN:VTIMEZONE
TZID:Europe/Ljubljana
BEGIN:DAYLIGHT
DTSTART:20260329T020000
RDATE:20260329T020000
RDATE:20270328T020000
TZNAME:CEST
TZOFFSETFROM:+0100
TZOFFSETTO:+0200
END:DAYLIGHT
BEGIN:STANDARD
DTSTART:20261025T030000
RDATE:20261025T030000
RDATE:20271031T030000
TZNAME:CET
TZOFFSETFROM:+0200
TZOFFSETTO:+0100
END:STANDARD
END:VTIMEZONE
BEGIN:VEVENT
SUMMARY:konsultacije
DTSTART;TZID=Europe/Ljubljana:20260107T103000
DTEND;TZID=Europe/Ljubljana:20260107T110000
DTSTAMP:20260422T003014Z
UID:agrft-AFLABS-URNIK:rezervacija:4641
CATEGORIES:Reservation
COLOR:royalblue
DESCRIPTION:Predmeti: \nLetniki: \nIzvajalci: Barbara Zemljič\nProstori: 
 FTV kabinet
LOCATION:Aškerčeva 5\, FTV kabinet
ORGANIZER:Barbara Zemljič
X-WR-TIMEZONE:Europe/Ljubljana
END:VEVENT
BEGIN:VEVENT
SUMMARY:Grossmann natečaj
DTSTART;TZID=Europe/Ljubljana:20251219T110000
DTEND;TZID=Europe/Ljubljana:20251219T140000
DTSTAMP:20260422T003014Z
UID:agrft-AFLABS-URNIK:rezervacija:4544
CATEGORIES:Reservation
COLOR:royalblue
DESCRIPTION:Predmeti: \nLetniki: \nIzvajalci: Jure Černec\, Marko Naberš
 nik\, Barbara Zemljič\nProstori: T311
LOCATION:Trubarjeva 3\, T311
ORGANIZER:Jure Černec, Marko Naberšnik, Barbara Zemljič
X-WR-TIMEZONE:Europe/Ljubljana
END:VEVENT
BEGIN:VEVENT
SUMMARY:Uro izvaja doc. Barbara Zemljič
DTSTART;TZID=Europe/Ljubljana:20251126T100000
DTEND;TZID=Europe/Ljubljana:20251126T110000
DTSTAMP:20260422T003014Z
UID:agrft-AFLABS-URNIK:rezervacija:4207
CATEGORIES:Reservation
COLOR:royalblue
DESCRIPTION:Predmeti: Televizijska režija IV (TVR-IV)\nLetniki: FTVU-TVR1
  (FTVU-TVR)\nIzvajalci: Barbara Zemljič\nProstori: FTV kabinet
LOCATION:Aškerčeva 5\, FTV kabinet
ORGANIZER:Barbara Zemljič
X-WR-TIMEZONE:Europe/Ljubljana
END:VEVENT
END:VCALENDAR
