BEGIN:VCALENDAR
VERSION:2.0
PRODID:-//AFLabs urnik izvoz - agrft//aflabs.si//SI
DTSTAMP:20260420T174743Z
NAME:Urnik-AGRFT
REFRESH-INTERVAL:PT1H
SOURCE:https://urnik.agrft.uni-lj.si/teacher/17?day=2025-04-21&export=1
URL:https://urnik.agrft.uni-lj.si/teacher/17?day=2025-04-21&export=1
X-PUBLISHED-TTL:PT1H
X-WR-CALNAME:Urnik-AGRFT
X-WR-TIMEZONE:Europe/Ljubljana
BEGIN:VTIMEZONE
TZID:Europe/Ljubljana
BEGIN:DAYLIGHT
DTSTART:20260329T020000
RDATE:20260329T020000
RDATE:20270328T020000
TZNAME:CEST
TZOFFSETFROM:+0100
TZOFFSETTO:+0200
END:DAYLIGHT
BEGIN:STANDARD
DTSTART:20261025T030000
RDATE:20261025T030000
RDATE:20271031T030000
TZNAME:CET
TZOFFSETFROM:+0200
TZOFFSETTO:+0100
END:STANDARD
END:VTIMEZONE
BEGIN:VEVENT
SUMMARY:Snemanje študijskih TV oddaj (Osnove TV izvedbe\, TV režija I)
DTSTART;TZID=Europe/Ljubljana:20250418T080000
DTEND;TZID=Europe/Ljubljana:20250418T160000
DTSTAMP:20260420T174743Z
UID:agrft-AFLABS-URNIK:rezervacija:2450
CATEGORIES:Reservation
COLOR:royalblue
DESCRIPTION:Predmeti: \nLetniki: \nIzvajalci: Marko Naberšnik\nProstori: 
 Garderoba B\, Mali studio\, Redakcijska soba\, Režija
LOCATION:Aškerčeva 5\, Garderoba B\, Aškerčeva 5\, Mali studio\, Aške
 rčeva 5\, Redakcijska soba\, Aškerčeva 5\, Režija
ORGANIZER:Marko Naberšnik
X-WR-TIMEZONE:Europe/Ljubljana
END:VEVENT
BEGIN:VEVENT
SUMMARY:TV izvedba II - predstavitev seminarskih nalog
DTSTART;TZID=Europe/Ljubljana:20250319T170000
DTEND;TZID=Europe/Ljubljana:20250319T183000
DTSTAMP:20260420T174743Z
UID:agrft-AFLABS-URNIK:rezervacija:2134
CATEGORIES:Reservation
COLOR:royalblue
DESCRIPTION:Predmeti: \nLetniki: \nIzvajalci: Marko Naberšnik\nProstori: 
 AV predavalnica 2
LOCATION:Aškerčeva 5\, AV predavalnica 2
ORGANIZER:Marko Naberšnik
X-WR-TIMEZONE:Europe/Ljubljana
END:VEVENT
BEGIN:VEVENT
SUMMARY:Snemanje TV oddaje ROAST (r: Matic Dominko\, FTVU - TV režija V)
DTSTART;TZID=Europe/Ljubljana:20250523T080000
DTEND;TZID=Europe/Ljubljana:20250523T204500
DTSTAMP:20260420T174743Z
UID:agrft-AFLABS-URNIK:rezervacija:2818
CATEGORIES:Reservation
COLOR:royalblue
DESCRIPTION:Predmeti: \nLetniki: \nIzvajalci: Marko Naberšnik\nProstori: 
 Garderoba B\, Maska in frizer\, Režija A\, Režija B\, Veliki studio
LOCATION:Aškerčeva 5\, Garderoba B\, Aškerčeva 5\, Maska in frizer\, A
 škerčeva 5\, Režija A\, Aškerčeva 5\, Režija B\, Aškerčeva 5\, Vel
 iki studio
ORGANIZER:Marko Naberšnik
X-WR-TIMEZONE:Europe/Ljubljana
END:VEVENT
BEGIN:VEVENT
SUMMARY:Snemanje TV oddaje ROAST (izvedba\, nastopajoči - predmet TV rež
 ija 5)
DTSTART;TZID=Europe/Ljubljana:20250523T150000
DTEND;TZID=Europe/Ljubljana:20250523T204500
DTSTAMP:20260420T174743Z
UID:agrft-AFLABS-URNIK:rezervacija:2825
CATEGORIES:Reservation
COLOR:royalblue
DESCRIPTION:Predmeti: \nLetniki: \nIzvajalci: Marko Naberšnik\nProstori: 
 FTV vadnica
LOCATION:Aškerčeva 5\, FTV vadnica
ORGANIZER:Marko Naberšnik
X-WR-TIMEZONE:Europe/Ljubljana
END:VEVENT
BEGIN:VEVENT
SUMMARY:TV praktikum II - snemanje zaključne TV oddaje (TV PILOT oddaja 3
 \, Krivec\, Bastič\, Dvornik\, Naberšnik)
DTSTART;TZID=Europe/Ljubljana:20250523T080000
DTEND;TZID=Europe/Ljubljana:20250523T170000
DTSTAMP:20260420T174743Z
UID:agrft-AFLABS-URNIK:rezervacija:2817
CATEGORIES:Reservation
COLOR:royalblue
DESCRIPTION:Predmeti: \nLetniki: \nIzvajalci: Marko Naberšnik\nProstori: 
 Garderoba A\, Mali studio\, Redakcijska soba\, Režija
LOCATION:Aškerčeva 5\, Garderoba A\, Aškerčeva 5\, Mali studio\, Aške
 rčeva 5\, Redakcijska soba\, Aškerčeva 5\, Režija
ORGANIZER:Marko Naberšnik
X-WR-TIMEZONE:Europe/Ljubljana
END:VEVENT
BEGIN:VEVENT
SUMMARY:TV izvedba II - ogled kratkega AV dela
DTSTART;TZID=Europe/Ljubljana:20250319T154500
DTEND;TZID=Europe/Ljubljana:20250319T164500
DTSTAMP:20260420T174743Z
UID:agrft-AFLABS-URNIK:rezervacija:2133
CATEGORIES:Reservation
COLOR:royalblue
DESCRIPTION:Predmeti: \nLetniki: \nIzvajalci: Marko Naberšnik\nProstori: 
 Kinodvorana
LOCATION:Aškerčeva 5\, Kinodvorana
ORGANIZER:Marko Naberšnik
X-WR-TIMEZONE:Europe/Ljubljana
END:VEVENT
BEGIN:VEVENT
SUMMARY:Osnove TV izvedbe - snemanje zaključnih TV oddaj (Bastič\, Krive
 c\, Naberšnik\, Dvornik)
DTSTART;TZID=Europe/Ljubljana:20250509T080000
DTEND;TZID=Europe/Ljubljana:20250509T170000
DTSTAMP:20260420T174743Z
UID:agrft-AFLABS-URNIK:rezervacija:2642
CATEGORIES:Reservation
COLOR:royalblue
DESCRIPTION:Predmeti: \nLetniki: \nIzvajalci: Marko Naberšnik\nProstori: 
 Mali studio\, Redakcijska soba\, Režija
LOCATION:Aškerčeva 5\, Mali studio\, Aškerčeva 5\, Redakcijska soba\, 
 Aškerčeva 5\, Režija
ORGANIZER:Marko Naberšnik
X-WR-TIMEZONE:Europe/Ljubljana
END:VEVENT
BEGIN:VEVENT
SUMMARY:AKTV - Študentsko oko\, TV oddaja / snemanje
DTSTART;TZID=Europe/Ljubljana:20250328T110000
DTEND;TZID=Europe/Ljubljana:20250328T160000
DTSTAMP:20260420T174743Z
UID:agrft-AFLABS-URNIK:rezervacija:2217
CATEGORIES:Reservation
COLOR:royalblue
DESCRIPTION:Predmeti: \nLetniki: \nIzvajalci: Marko Naberšnik\nProstori: 
 Garderoba B\, Mali studio\, Redakcijska soba\, Režija
LOCATION:Aškerčeva 5\, Garderoba B\, Aškerčeva 5\, Mali studio\, Aške
 rčeva 5\, Redakcijska soba\, Aškerčeva 5\, Režija
ORGANIZER:Marko Naberšnik
X-WR-TIMEZONE:Europe/Ljubljana
END:VEVENT
BEGIN:VEVENT
SUMMARY:Snemanje študijskih TV oddaj (Osnove TV izvedbe\, TV režija I)
DTSTART;TZID=Europe/Ljubljana:20250411T080000
DTEND;TZID=Europe/Ljubljana:20250411T160000
DTSTAMP:20260420T174743Z
UID:agrft-AFLABS-URNIK:rezervacija:2365
CATEGORIES:Reservation
COLOR:royalblue
DESCRIPTION:Predmeti: \nLetniki: \nIzvajalci: Marko Naberšnik\nProstori: 
 Garderoba A\, Garderoba B\, Mali studio\, Redakcijska soba\, Režija
LOCATION:Aškerčeva 5\, Garderoba A\, Aškerčeva 5\, Garderoba B\, Aške
 rčeva 5\, Mali studio\, Aškerčeva 5\, Redakcijska soba\, Aškerčeva 5\
 , Režija
ORGANIZER:Marko Naberšnik
X-WR-TIMEZONE:Europe/Ljubljana
END:VEVENT
BEGIN:VEVENT
SUMMARY:TV praktikum II - snemanje zaključne TV oddaje (TV PILOT oddaja 2
 \, Krivec\, Bastič\, Dvornik\, Naberšnik)
DTSTART;TZID=Europe/Ljubljana:20250516T080000
DTEND;TZID=Europe/Ljubljana:20250516T170000
DTSTAMP:20260420T174743Z
UID:agrft-AFLABS-URNIK:rezervacija:2727
CATEGORIES:Reservation
COLOR:royalblue
DESCRIPTION:Predmeti: \nLetniki: \nIzvajalci: Marko Naberšnik\nProstori: 
 Garderoba A\, Mali studio\, Redakcijska soba\, Režija
LOCATION:Aškerčeva 5\, Garderoba A\, Aškerčeva 5\, Mali studio\, Aške
 rčeva 5\, Redakcijska soba\, Aškerčeva 5\, Režija
ORGANIZER:Marko Naberšnik
X-WR-TIMEZONE:Europe/Ljubljana
END:VEVENT
BEGIN:VEVENT
SUMMARY:AKTV - Študentsko oko\, TV oddaja / snemanje
DTSTART;TZID=Europe/Ljubljana:20250425T110000
DTEND;TZID=Europe/Ljubljana:20250425T160000
DTSTAMP:20260420T174743Z
UID:agrft-AFLABS-URNIK:rezervacija:2510
CATEGORIES:Reservation
COLOR:royalblue
DESCRIPTION:Predmeti: \nLetniki: \nIzvajalci: Marko Naberšnik\nProstori: 
 Garderoba B\, Mali studio\, Redakcijska soba\, Režija
LOCATION:Aškerčeva 5\, Garderoba B\, Aškerčeva 5\, Mali studio\, Aške
 rčeva 5\, Redakcijska soba\, Aškerčeva 5\, Režija
ORGANIZER:Marko Naberšnik
X-WR-TIMEZONE:Europe/Ljubljana
END:VEVENT
BEGIN:VEVENT
SUMMARY:TV praktikum II - snemanje študijske TV oddaje (Tinkara Stonič\,
  FTV2)
DTSTART;TZID=Europe/Ljubljana:20250404T080000
DTEND;TZID=Europe/Ljubljana:20250404T160000
DTSTAMP:20260420T174743Z
UID:agrft-AFLABS-URNIK:rezervacija:2278
CATEGORIES:Reservation
COLOR:royalblue
DESCRIPTION:Predmeti: \nLetniki: \nIzvajalci: Marko Naberšnik\nProstori: 
 Garderoba A\, Garderoba B\, Mali studio\, Redakcijska soba\, Režija
LOCATION:Aškerčeva 5\, Garderoba A\, Aškerčeva 5\, Garderoba B\, Aške
 rčeva 5\, Mali studio\, Aškerčeva 5\, Redakcijska soba\, Aškerčeva 5\
 , Režija
ORGANIZER:Marko Naberšnik
X-WR-TIMEZONE:Europe/Ljubljana
END:VEVENT
END:VCALENDAR
