BEGIN:VCALENDAR
VERSION:2.0
PRODID:-//AFLabs urnik izvoz - agrft//aflabs.si//SI
DTSTAMP:20260424T055418Z
NAME:Urnik-AGRFT
REFRESH-INTERVAL:PT1H
SOURCE:https://urnik.agrft.uni-lj.si/teacher/172?day=2026-06-08&export=1
URL:https://urnik.agrft.uni-lj.si/teacher/172?day=2026-06-08&export=1
X-PUBLISHED-TTL:PT1H
X-WR-CALNAME:Urnik-AGRFT
X-WR-TIMEZONE:Europe/Ljubljana
BEGIN:VTIMEZONE
TZID:Europe/Ljubljana
BEGIN:DAYLIGHT
DTSTART:20260329T020000
RDATE:20260329T020000
RDATE:20270328T020000
TZNAME:CEST
TZOFFSETFROM:+0100
TZOFFSETTO:+0200
END:DAYLIGHT
BEGIN:STANDARD
DTSTART:20261025T030000
RDATE:20261025T030000
RDATE:20271031T030000
TZNAME:CET
TZOFFSETFROM:+0200
TZOFFSETTO:+0100
END:STANDARD
END:VTIMEZONE
BEGIN:VEVENT
SUMMARY:Dramska igra (DI)\, predavanje\, seminar in vaje (P S V)
DTSTART;TZID=Europe/Ljubljana:20260504T150000
DTEND;TZID=Europe/Ljubljana:20260504T171500
DTSTAMP:20260424T055418Z
UID:agrft-AFLABS-URNIK:premaknjeno-srecanje:130719
ATTENDEE:DI 2 (DI 2)
CATEGORIES:Entry,Standard
COLOR:darkgreen
DESCRIPTION:Predmet: Dramska igra (DI)\, predavanje\, seminar in vaje (P S
  V)\nLetniki: \nIzvajalci: Filip Mramor\, Mija Špiler\, Katarina Stegnar\
 nProstor: Študijski oder 1
LOCATION:Aškerčeva 5\, Študijski oder 1
ORGANIZER:Filip Mramor, Mija Špiler, Katarina Stegnar
RELATED-TO:agrft-AFLABS-URNIK:srecanje:4726
X-WR-TIMEZONE:Europe/Ljubljana
END:VEVENT
BEGIN:VEVENT
SUMMARY:Dramska igra (DI)\, predavanje\, seminar in vaje (P S V)
DTSTART;TZID=Europe/Ljubljana:20260511T150000
DTEND;TZID=Europe/Ljubljana:20260511T171500
DTSTAMP:20260424T055418Z
UID:agrft-AFLABS-URNIK:premaknjeno-srecanje:130720
ATTENDEE:DI 2 (DI 2)
CATEGORIES:Entry,Standard
COLOR:darkgreen
DESCRIPTION:Predmet: Dramska igra (DI)\, predavanje\, seminar in vaje (P S
  V)\nLetniki: \nIzvajalci: Filip Mramor\, Mija Špiler\, Katarina Stegnar\
 nProstor: Študijski oder 1
LOCATION:Aškerčeva 5\, Študijski oder 1
ORGANIZER:Filip Mramor, Mija Špiler, Katarina Stegnar
RELATED-TO:agrft-AFLABS-URNIK:srecanje:4726
X-WR-TIMEZONE:Europe/Ljubljana
END:VEVENT
BEGIN:VEVENT
SUMMARY:Dramska igra (DI)\, predavanje\, seminar in vaje (P S V)
DTSTART;TZID=Europe/Ljubljana:20260518T150000
DTEND;TZID=Europe/Ljubljana:20260518T171500
DTSTAMP:20260424T055418Z
UID:agrft-AFLABS-URNIK:premaknjeno-srecanje:130721
ATTENDEE:DI 2 (DI 2)
CATEGORIES:Entry,Standard
COLOR:darkgreen
DESCRIPTION:Predmet: Dramska igra (DI)\, predavanje\, seminar in vaje (P S
  V)\nLetniki: \nIzvajalci: Filip Mramor\, Mija Špiler\, Katarina Stegnar\
 nProstor: Študijski oder 1
LOCATION:Aškerčeva 5\, Študijski oder 1
ORGANIZER:Filip Mramor, Mija Špiler, Katarina Stegnar
RELATED-TO:agrft-AFLABS-URNIK:srecanje:4726
X-WR-TIMEZONE:Europe/Ljubljana
END:VEVENT
BEGIN:VEVENT
SUMMARY:Dramska igra (DI)\, predavanje\, seminar in vaje (P S V)
DTSTART;TZID=Europe/Ljubljana:20260525T150000
DTEND;TZID=Europe/Ljubljana:20260525T171500
DTSTAMP:20260424T055418Z
UID:agrft-AFLABS-URNIK:premaknjeno-srecanje:130722
ATTENDEE:DI 2 (DI 2)
CATEGORIES:Entry,Standard
COLOR:darkgreen
DESCRIPTION:Predmet: Dramska igra (DI)\, predavanje\, seminar in vaje (P S
  V)\nLetniki: \nIzvajalci: Filip Mramor\, Mija Špiler\, Katarina Stegnar\
 nProstor: Študijski oder 1
LOCATION:Aškerčeva 5\, Študijski oder 1
ORGANIZER:Filip Mramor, Mija Špiler, Katarina Stegnar
RELATED-TO:agrft-AFLABS-URNIK:srecanje:4726
X-WR-TIMEZONE:Europe/Ljubljana
END:VEVENT
BEGIN:VEVENT
SUMMARY:Dramska igra (DI)\, predavanje\, seminar in vaje (P S V)
DTSTART;TZID=Europe/Ljubljana:20260601T150000
DTEND;TZID=Europe/Ljubljana:20260601T171500
DTSTAMP:20260424T055418Z
UID:agrft-AFLABS-URNIK:premaknjeno-srecanje:130723
ATTENDEE:DI 2 (DI 2)
CATEGORIES:Entry,Standard
COLOR:darkgreen
DESCRIPTION:Predmet: Dramska igra (DI)\, predavanje\, seminar in vaje (P S
  V)\nLetniki: \nIzvajalci: Filip Mramor\, Mija Špiler\, Katarina Stegnar\
 nProstor: Študijski oder 1
LOCATION:Aškerčeva 5\, Študijski oder 1
ORGANIZER:Filip Mramor, Mija Špiler, Katarina Stegnar
RELATED-TO:agrft-AFLABS-URNIK:srecanje:4726
X-WR-TIMEZONE:Europe/Ljubljana
END:VEVENT
BEGIN:VEVENT
SUMMARY:Dramska igra (DI)\, vaje (V)
DTSTART;TZID=Europe/Ljubljana:20260504T150000
DTEND;TZID=Europe/Ljubljana:20260504T163000
DTSTAMP:20260424T055418Z
UID:agrft-AFLABS-URNIK:premaknjeno-srecanje:130750
ATTENDEE:DI 2 (DI 2)
CATEGORIES:Entry,Standard
COLOR:darkgreen
DESCRIPTION:Predmet: Dramska igra (DI)\, vaje (V)\nLetniki: \nIzvajalci: K
 atarina Stegnar\nProstor: Študijski oder 1
LOCATION:Aškerčeva 5\, Študijski oder 1
ORGANIZER:Katarina Stegnar
RELATED-TO:agrft-AFLABS-URNIK:srecanje:4725
X-WR-TIMEZONE:Europe/Ljubljana
END:VEVENT
BEGIN:VEVENT
SUMMARY:Dramska igra (DI)\, vaje (V)
DTSTART;TZID=Europe/Ljubljana:20260511T150000
DTEND;TZID=Europe/Ljubljana:20260511T163000
DTSTAMP:20260424T055418Z
UID:agrft-AFLABS-URNIK:premaknjeno-srecanje:130751
ATTENDEE:DI 2 (DI 2)
CATEGORIES:Entry,Standard
COLOR:darkgreen
DESCRIPTION:Predmet: Dramska igra (DI)\, vaje (V)\nLetniki: \nIzvajalci: K
 atarina Stegnar\nProstor: Študijski oder 1
LOCATION:Aškerčeva 5\, Študijski oder 1
ORGANIZER:Katarina Stegnar
RELATED-TO:agrft-AFLABS-URNIK:srecanje:4725
X-WR-TIMEZONE:Europe/Ljubljana
END:VEVENT
BEGIN:VEVENT
SUMMARY:Dramska igra (DI)\, vaje (V)
DTSTART;TZID=Europe/Ljubljana:20260518T150000
DTEND;TZID=Europe/Ljubljana:20260518T163000
DTSTAMP:20260424T055418Z
UID:agrft-AFLABS-URNIK:premaknjeno-srecanje:130752
ATTENDEE:DI 2 (DI 2)
CATEGORIES:Entry,Standard
COLOR:darkgreen
DESCRIPTION:Predmet: Dramska igra (DI)\, vaje (V)\nLetniki: \nIzvajalci: K
 atarina Stegnar\nProstor: Študijski oder 1
LOCATION:Aškerčeva 5\, Študijski oder 1
ORGANIZER:Katarina Stegnar
RELATED-TO:agrft-AFLABS-URNIK:srecanje:4725
X-WR-TIMEZONE:Europe/Ljubljana
END:VEVENT
BEGIN:VEVENT
SUMMARY:Dramska igra (DI)\, vaje (V)
DTSTART;TZID=Europe/Ljubljana:20260525T150000
DTEND;TZID=Europe/Ljubljana:20260525T163000
DTSTAMP:20260424T055418Z
UID:agrft-AFLABS-URNIK:premaknjeno-srecanje:130753
ATTENDEE:DI 2 (DI 2)
CATEGORIES:Entry,Standard
COLOR:darkgreen
DESCRIPTION:Predmet: Dramska igra (DI)\, vaje (V)\nLetniki: \nIzvajalci: K
 atarina Stegnar\nProstor: Študijski oder 1
LOCATION:Aškerčeva 5\, Študijski oder 1
ORGANIZER:Katarina Stegnar
RELATED-TO:agrft-AFLABS-URNIK:srecanje:4725
X-WR-TIMEZONE:Europe/Ljubljana
END:VEVENT
BEGIN:VEVENT
SUMMARY:Dramska igra (DI)\, vaje (V)
DTSTART;TZID=Europe/Ljubljana:20260601T150000
DTEND;TZID=Europe/Ljubljana:20260601T163000
DTSTAMP:20260424T055418Z
UID:agrft-AFLABS-URNIK:premaknjeno-srecanje:130754
ATTENDEE:DI 2 (DI 2)
CATEGORIES:Entry,Standard
COLOR:darkgreen
DESCRIPTION:Predmet: Dramska igra (DI)\, vaje (V)\nLetniki: \nIzvajalci: K
 atarina Stegnar\nProstor: Študijski oder 1
LOCATION:Aškerčeva 5\, Študijski oder 1
ORGANIZER:Katarina Stegnar
RELATED-TO:agrft-AFLABS-URNIK:srecanje:4725
X-WR-TIMEZONE:Europe/Ljubljana
END:VEVENT
BEGIN:VEVENT
SUMMARY:Dramska igra (DI)\, predavanje\, seminar in vaje (P S V)
DTSTART;TZID=Europe/Ljubljana:20260506T150000
DTEND;TZID=Europe/Ljubljana:20260506T163000
DTSTAMP:20260424T055418Z
UID:agrft-AFLABS-URNIK:premaknjeno-srecanje:147451
ATTENDEE:DI 2 (DI 2)
CATEGORIES:Entry,Standard
COLOR:darkgreen
DESCRIPTION:Predmet: Dramska igra (DI)\, predavanje\, seminar in vaje (P S
  V)\nLetniki: \nIzvajalci: Filip Mramor\, Katarina Stegnar\nProstor: Štud
 ijski oder 1
LOCATION:Aškerčeva 5\, Študijski oder 1
ORGANIZER:Filip Mramor, Katarina Stegnar
RELATED-TO:agrft-AFLABS-URNIK:srecanje:5807
X-WR-TIMEZONE:Europe/Ljubljana
END:VEVENT
BEGIN:VEVENT
SUMMARY:Dramska igra (DI)\, predavanje\, seminar in vaje (P S V)
DTSTART;TZID=Europe/Ljubljana:20260513T150000
DTEND;TZID=Europe/Ljubljana:20260513T163000
DTSTAMP:20260424T055418Z
UID:agrft-AFLABS-URNIK:premaknjeno-srecanje:147452
ATTENDEE:DI 2 (DI 2)
CATEGORIES:Entry,Standard
COLOR:darkgreen
DESCRIPTION:Predmet: Dramska igra (DI)\, predavanje\, seminar in vaje (P S
  V)\nLetniki: \nIzvajalci: Filip Mramor\, Katarina Stegnar\nProstor: Štud
 ijski oder 1
LOCATION:Aškerčeva 5\, Študijski oder 1
ORGANIZER:Filip Mramor, Katarina Stegnar
RELATED-TO:agrft-AFLABS-URNIK:srecanje:5807
X-WR-TIMEZONE:Europe/Ljubljana
END:VEVENT
BEGIN:VEVENT
SUMMARY:Dramska igra (DI)\, predavanje\, seminar in vaje (P S V)
DTSTART;TZID=Europe/Ljubljana:20260520T150000
DTEND;TZID=Europe/Ljubljana:20260520T163000
DTSTAMP:20260424T055418Z
UID:agrft-AFLABS-URNIK:premaknjeno-srecanje:147453
ATTENDEE:DI 2 (DI 2)
CATEGORIES:Entry,Standard
COLOR:darkgreen
DESCRIPTION:Predmet: Dramska igra (DI)\, predavanje\, seminar in vaje (P S
  V)\nLetniki: \nIzvajalci: Filip Mramor\, Katarina Stegnar\nProstor: Štud
 ijski oder 1
LOCATION:Aškerčeva 5\, Študijski oder 1
ORGANIZER:Filip Mramor, Katarina Stegnar
RELATED-TO:agrft-AFLABS-URNIK:srecanje:5807
X-WR-TIMEZONE:Europe/Ljubljana
END:VEVENT
BEGIN:VEVENT
SUMMARY:Dramska igra (DI)\, predavanje\, seminar in vaje (P S V)
DTSTART;TZID=Europe/Ljubljana:20260527T150000
DTEND;TZID=Europe/Ljubljana:20260527T163000
DTSTAMP:20260424T055418Z
UID:agrft-AFLABS-URNIK:premaknjeno-srecanje:147454
ATTENDEE:DI 2 (DI 2)
CATEGORIES:Entry,Standard
COLOR:darkgreen
DESCRIPTION:Predmet: Dramska igra (DI)\, predavanje\, seminar in vaje (P S
  V)\nLetniki: \nIzvajalci: Filip Mramor\, Katarina Stegnar\nProstor: Štud
 ijski oder 1
LOCATION:Aškerčeva 5\, Študijski oder 1
ORGANIZER:Filip Mramor, Katarina Stegnar
RELATED-TO:agrft-AFLABS-URNIK:srecanje:5807
X-WR-TIMEZONE:Europe/Ljubljana
END:VEVENT
BEGIN:VEVENT
SUMMARY:Dramska igra (DI)\, predavanje\, seminar in vaje (P S V)
DTSTART;TZID=Europe/Ljubljana:20260603T150000
DTEND;TZID=Europe/Ljubljana:20260603T163000
DTSTAMP:20260424T055418Z
UID:agrft-AFLABS-URNIK:premaknjeno-srecanje:147455
ATTENDEE:DI 2 (DI 2)
CATEGORIES:Entry,Standard
COLOR:darkgreen
DESCRIPTION:Predmet: Dramska igra (DI)\, predavanje\, seminar in vaje (P S
  V)\nLetniki: \nIzvajalci: Filip Mramor\, Katarina Stegnar\nProstor: Štud
 ijski oder 1
LOCATION:Aškerčeva 5\, Študijski oder 1
ORGANIZER:Filip Mramor, Katarina Stegnar
RELATED-TO:agrft-AFLABS-URNIK:srecanje:5807
X-WR-TIMEZONE:Europe/Ljubljana
END:VEVENT
BEGIN:VEVENT
SUMMARY:Dramska igra (DI)\, seminar\, vaje in druge oblike (S V DO)
DTSTART;TZID=Europe/Ljubljana:20260508T143000
DTEND;TZID=Europe/Ljubljana:20260508T160000
DTSTAMP:20260424T055418Z
UID:agrft-AFLABS-URNIK:premaknjeno-srecanje:130735
ATTENDEE:DI 2 (DI 2)
CATEGORIES:Entry,Standard
COLOR:darkgreen
DESCRIPTION:Predmet: Dramska igra (DI)\, seminar\, vaje in druge oblike (S
  V DO)\nLetniki: \nIzvajalci: Katarina Stegnar\nProstor: Študijski oder 1
LOCATION:Aškerčeva 5\, Študijski oder 1
ORGANIZER:Katarina Stegnar
RELATED-TO:agrft-AFLABS-URNIK:srecanje:4844
X-WR-TIMEZONE:Europe/Ljubljana
END:VEVENT
BEGIN:VEVENT
SUMMARY:Dramska igra (DI)\, seminar\, vaje in druge oblike (S V DO)
DTSTART;TZID=Europe/Ljubljana:20260515T143000
DTEND;TZID=Europe/Ljubljana:20260515T160000
DTSTAMP:20260424T055418Z
UID:agrft-AFLABS-URNIK:premaknjeno-srecanje:130736
ATTENDEE:DI 2 (DI 2)
CATEGORIES:Entry,Standard
COLOR:darkgreen
DESCRIPTION:Predmet: Dramska igra (DI)\, seminar\, vaje in druge oblike (S
  V DO)\nLetniki: \nIzvajalci: Katarina Stegnar\nProstor: Študijski oder 1
LOCATION:Aškerčeva 5\, Študijski oder 1
ORGANIZER:Katarina Stegnar
RELATED-TO:agrft-AFLABS-URNIK:srecanje:4844
X-WR-TIMEZONE:Europe/Ljubljana
END:VEVENT
BEGIN:VEVENT
SUMMARY:Dramska igra (DI)\, seminar\, vaje in druge oblike (S V DO)
DTSTART;TZID=Europe/Ljubljana:20260522T143000
DTEND;TZID=Europe/Ljubljana:20260522T160000
DTSTAMP:20260424T055418Z
UID:agrft-AFLABS-URNIK:premaknjeno-srecanje:130737
ATTENDEE:DI 2 (DI 2)
CATEGORIES:Entry,Standard
COLOR:darkgreen
DESCRIPTION:Predmet: Dramska igra (DI)\, seminar\, vaje in druge oblike (S
  V DO)\nLetniki: \nIzvajalci: Katarina Stegnar\nProstor: Študijski oder 1
LOCATION:Aškerčeva 5\, Študijski oder 1
ORGANIZER:Katarina Stegnar
RELATED-TO:agrft-AFLABS-URNIK:srecanje:4844
X-WR-TIMEZONE:Europe/Ljubljana
END:VEVENT
BEGIN:VEVENT
SUMMARY:Dramska igra (DI)\, seminar\, vaje in druge oblike (S V DO)
DTSTART;TZID=Europe/Ljubljana:20260529T143000
DTEND;TZID=Europe/Ljubljana:20260529T160000
DTSTAMP:20260424T055418Z
UID:agrft-AFLABS-URNIK:premaknjeno-srecanje:130738
ATTENDEE:DI 2 (DI 2)
CATEGORIES:Entry,Standard
COLOR:darkgreen
DESCRIPTION:Predmet: Dramska igra (DI)\, seminar\, vaje in druge oblike (S
  V DO)\nLetniki: \nIzvajalci: Katarina Stegnar\nProstor: Študijski oder 1
LOCATION:Aškerčeva 5\, Študijski oder 1
ORGANIZER:Katarina Stegnar
RELATED-TO:agrft-AFLABS-URNIK:srecanje:4844
X-WR-TIMEZONE:Europe/Ljubljana
END:VEVENT
BEGIN:VEVENT
SUMMARY:Magistrsko delo - Dramska igra (MD-DI)\, seminar in druge oblike (
 S DO)
DTSTART;TZID=Europe/Ljubljana:20260508T160000
DTEND;TZID=Europe/Ljubljana:20260508T164500
DTSTAMP:20260424T055418Z
UID:agrft-AFLABS-URNIK:premaknjeno-srecanje:132591
ATTENDEE:DI 2 (DI 2)
CATEGORIES:Entry,Standard
COLOR:darkgreen
DESCRIPTION:Predmet: Magistrsko delo - Dramska igra (MD-DI)\, seminar in d
 ruge oblike (S DO)\nLetniki: \nIzvajalci: Branko Jordan\, Katarina Stegnar
 \nProstor: Scenografija
LOCATION:Aškerčeva 5\, Scenografija
ORGANIZER:Branko Jordan, Katarina Stegnar
RELATED-TO:agrft-AFLABS-URNIK:srecanje:5070
X-WR-TIMEZONE:Europe/Ljubljana
END:VEVENT
BEGIN:VEVENT
SUMMARY:Magistrsko delo - Dramska igra (MD-DI)\, seminar in druge oblike (
 S DO)
DTSTART;TZID=Europe/Ljubljana:20260515T160000
DTEND;TZID=Europe/Ljubljana:20260515T164500
DTSTAMP:20260424T055418Z
UID:agrft-AFLABS-URNIK:premaknjeno-srecanje:132592
ATTENDEE:DI 2 (DI 2)
CATEGORIES:Entry,Standard
COLOR:darkgreen
DESCRIPTION:Predmet: Magistrsko delo - Dramska igra (MD-DI)\, seminar in d
 ruge oblike (S DO)\nLetniki: \nIzvajalci: Branko Jordan\, Katarina Stegnar
 \nProstor: Scenografija
LOCATION:Aškerčeva 5\, Scenografija
ORGANIZER:Branko Jordan, Katarina Stegnar
RELATED-TO:agrft-AFLABS-URNIK:srecanje:5070
X-WR-TIMEZONE:Europe/Ljubljana
END:VEVENT
BEGIN:VEVENT
SUMMARY:Magistrsko delo - Dramska igra (MD-DI)\, seminar in druge oblike (
 S DO)
DTSTART;TZID=Europe/Ljubljana:20260522T160000
DTEND;TZID=Europe/Ljubljana:20260522T164500
DTSTAMP:20260424T055418Z
UID:agrft-AFLABS-URNIK:premaknjeno-srecanje:132593
ATTENDEE:DI 2 (DI 2)
CATEGORIES:Entry,Standard
COLOR:darkgreen
DESCRIPTION:Predmet: Magistrsko delo - Dramska igra (MD-DI)\, seminar in d
 ruge oblike (S DO)\nLetniki: \nIzvajalci: Branko Jordan\, Katarina Stegnar
 \nProstor: Scenografija
LOCATION:Aškerčeva 5\, Scenografija
ORGANIZER:Branko Jordan, Katarina Stegnar
RELATED-TO:agrft-AFLABS-URNIK:srecanje:5070
X-WR-TIMEZONE:Europe/Ljubljana
END:VEVENT
BEGIN:VEVENT
SUMMARY:Magistrsko delo - Dramska igra (MD-DI)\, seminar in druge oblike (
 S DO)
DTSTART;TZID=Europe/Ljubljana:20260529T160000
DTEND;TZID=Europe/Ljubljana:20260529T164500
DTSTAMP:20260424T055418Z
UID:agrft-AFLABS-URNIK:premaknjeno-srecanje:132594
ATTENDEE:DI 2 (DI 2)
CATEGORIES:Entry,Standard
COLOR:darkgreen
DESCRIPTION:Predmet: Magistrsko delo - Dramska igra (MD-DI)\, seminar in d
 ruge oblike (S DO)\nLetniki: \nIzvajalci: Branko Jordan\, Katarina Stegnar
 \nProstor: Scenografija
LOCATION:Aškerčeva 5\, Scenografija
ORGANIZER:Branko Jordan, Katarina Stegnar
RELATED-TO:agrft-AFLABS-URNIK:srecanje:5070
X-WR-TIMEZONE:Europe/Ljubljana
END:VEVENT
BEGIN:VEVENT
SUMMARY:DI2
DTSTART;TZID=Europe/Ljubljana:20260512T153000
DTEND;TZID=Europe/Ljubljana:20260512T170000
DTSTAMP:20260424T055418Z
UID:agrft-AFLABS-URNIK:rezervacija:6175
CATEGORIES:Reservation
COLOR:royalblue
DESCRIPTION:Predmeti: \nLetniki: \nIzvajalci: Katarina Stegnar\nProstori: 
 Študijski oder 1
LOCATION:Aškerčeva 5\, Študijski oder 1
ORGANIZER:Katarina Stegnar
X-WR-TIMEZONE:Europe/Ljubljana
END:VEVENT
END:VCALENDAR
