BEGIN:VCALENDAR
VERSION:2.0
PRODID:-//AFLabs urnik izvoz - agrft//aflabs.si//SI
DTSTAMP:20260424T134354Z
NAME:Urnik-AGRFT
REFRESH-INTERVAL:PT1H
SOURCE:https://urnik.agrft.uni-lj.si/teacher/169?day=2026-01-05&export=1
URL:https://urnik.agrft.uni-lj.si/teacher/169?day=2026-01-05&export=1
X-PUBLISHED-TTL:PT1H
X-WR-CALNAME:Urnik-AGRFT
X-WR-TIMEZONE:Europe/Ljubljana
BEGIN:VTIMEZONE
TZID:Europe/Ljubljana
BEGIN:DAYLIGHT
DTSTART:20260329T020000
RDATE:20260329T020000
RDATE:20270328T020000
TZNAME:CEST
TZOFFSETFROM:+0100
TZOFFSETTO:+0200
END:DAYLIGHT
BEGIN:STANDARD
DTSTART:20261025T030000
RDATE:20261025T030000
RDATE:20271031T030000
TZNAME:CET
TZOFFSETFROM:+0200
TZOFFSETTO:+0100
END:STANDARD
END:VTIMEZONE
BEGIN:VEVENT
SUMMARY:Telo in dih vaja
DTSTART;TZID=Europe/Ljubljana:20260107T181500
DTEND;TZID=Europe/Ljubljana:20260107T200000
DTSTAMP:20260424T134354Z
UID:agrft-AFLABS-URNIK:rezervacija:4472
ATTENDEE:GS 1 (GS)
ATTENDEE:OGB 1 (OGB)
CATEGORIES:Reservation
COLOR:royalblue
DESCRIPTION:Predmeti: Telo in dih kot temelj govorne komunikacije - OG (TI
 DKTGK [OG])\nLetniki: GS 1 (GS)\, OGB 1 (OGB)\nIzvajalci: Alida Bevk\, Lea
  Mihevc\nProstori: Plesna dvorana
LOCATION:Aškerčeva 5\, Plesna dvorana
ORGANIZER:Alida Bevk, Lea Mihevc
X-WR-TIMEZONE:Europe/Ljubljana
END:VEVENT
END:VCALENDAR
