BEGIN:VCALENDAR
VERSION:2.0
PRODID:-//AFLabs urnik izvoz - agrft//aflabs.si//SI
DTSTAMP:20260423T113933Z
NAME:Urnik-AGRFT
REFRESH-INTERVAL:PT1H
SOURCE:https://urnik.agrft.uni-lj.si/teacher/13?day=2026-07-06&export=1
URL:https://urnik.agrft.uni-lj.si/teacher/13?day=2026-07-06&export=1
X-PUBLISHED-TTL:PT1H
X-WR-CALNAME:Urnik-AGRFT
X-WR-TIMEZONE:Europe/Ljubljana
BEGIN:VTIMEZONE
TZID:Europe/Ljubljana
BEGIN:DAYLIGHT
DTSTART:20260329T020000
RDATE:20260329T020000
RDATE:20270328T020000
TZNAME:CEST
TZOFFSETFROM:+0100
TZOFFSETTO:+0200
END:DAYLIGHT
BEGIN:STANDARD
DTSTART:20261025T030000
RDATE:20261025T030000
RDATE:20271031T030000
TZNAME:CET
TZOFFSETFROM:+0200
TZOFFSETTO:+0100
END:STANDARD
END:VTIMEZONE
BEGIN:VEVENT
SUMMARY:Slovenska dramatika in gledališče II - DSU\, GLR (SDGL-II [DSU\,
 GLR])\, predavanje (P)
DTSTART;TZID=Europe/Ljubljana:20260601T114500
DTEND;TZID=Europe/Ljubljana:20260601T131500
DTSTAMP:20260423T113933Z
UID:agrft-AFLABS-URNIK:premaknjeno-srecanje:147779
ATTENDEE:1 DSU, 2 (DSU 1)
CATEGORIES:Entry,Standard
COLOR:darkgreen
DESCRIPTION:Predmet: Slovenska dramatika in gledališče II - DSU\, GLR (S
 DGL-II [DSU\,GLR])\, predavanje (P)\nLetniki: \nIzvajalci: Aldo Milohnić\
 , Tomaž Toporišič\nProstor: T609
LOCATION:Trubarjeva 3\, T609
ORGANIZER:Aldo Milohnić, Tomaž Toporišič
RELATED-TO:agrft-AFLABS-URNIK:srecanje:4996
X-WR-TIMEZONE:Europe/Ljubljana
END:VEVENT
BEGIN:VEVENT
SUMMARY:Slovenska dramatika in gledališče III - DSU (SDGL-III [DSU])\, p
 redavanje (P)
DTSTART;TZID=Europe/Ljubljana:20260601T114500
DTEND;TZID=Europe/Ljubljana:20260601T131500
DTSTAMP:20260423T113933Z
UID:agrft-AFLABS-URNIK:premaknjeno-srecanje:147810
ATTENDEE:1 DSU, 3 (DSU 1)
CATEGORIES:Entry,Standard
COLOR:darkgreen
DESCRIPTION:Predmet: Slovenska dramatika in gledališče III - DSU (SDGL-I
 II [DSU])\, predavanje (P)\nLetniki: \nIzvajalci: Aldo Milohnić\, Tomaž 
 Toporišič\nProstor: T609
LOCATION:Trubarjeva 3\, T609
ORGANIZER:Aldo Milohnić, Tomaž Toporišič
RELATED-TO:agrft-AFLABS-URNIK:srecanje:4998
X-WR-TIMEZONE:Europe/Ljubljana
END:VEVENT
BEGIN:VEVENT
SUMMARY:Slovenska dramatika in gledališče II - DSU\, GLR (SDGL-II [DSU\,
 GLR])\, obvezne konzultacije (OK)
DTSTART;TZID=Europe/Ljubljana:20260601T131500
DTEND;TZID=Europe/Ljubljana:20260601T140000
DTSTAMP:20260423T113933Z
UID:agrft-AFLABS-URNIK:premaknjeno-srecanje:147874
ATTENDEE:1 DSU, 2 (DSU 1)
ATTENDEE:GLR 2 (GLR 1)
CATEGORIES:Entry,Standard
COLOR:darkgreen
DESCRIPTION:Predmet: Slovenska dramatika in gledališče II - DSU\, GLR (S
 DGL-II [DSU\,GLR])\, obvezne konzultacije (OK)\nLetniki: \nIzvajalci: Aldo
  Milohnić\, Tomaž Toporišič\nProstor: T609
LOCATION:Trubarjeva 3\, T609
ORGANIZER:Aldo Milohnić, Tomaž Toporišič
RELATED-TO:agrft-AFLABS-URNIK:srecanje:5821
X-WR-TIMEZONE:Europe/Ljubljana
END:VEVENT
BEGIN:VEVENT
SUMMARY:Slovenska dramatika in gledališče III - DSU (SDGL-III [DSU])\, o
 bvezne konzultacije (OK)
DTSTART;TZID=Europe/Ljubljana:20260601T131500
DTEND;TZID=Europe/Ljubljana:20260601T140000
DTSTAMP:20260423T113933Z
UID:agrft-AFLABS-URNIK:premaknjeno-srecanje:147890
ATTENDEE:1 DSU, 3 (DSU 1)
CATEGORIES:Entry,Standard
COLOR:darkgreen
DESCRIPTION:Predmet: Slovenska dramatika in gledališče III - DSU (SDGL-I
 II [DSU])\, obvezne konzultacije (OK)\nLetniki: \nIzvajalci: Aldo Milohni
 ć\, Tomaž Toporišič\nProstor: T609
LOCATION:T609
ORGANIZER:Aldo Milohnić, Tomaž Toporišič
RELATED-TO:agrft-AFLABS-URNIK:srecanje:5822
X-WR-TIMEZONE:Europe/Ljubljana
END:VEVENT
BEGIN:VEVENT
SUMMARY:Dramaturški projekt (DrPr)\, druge oblike študija (DO)
DTSTART;TZID=Europe/Ljubljana:20260603T080000
DTEND;TZID=Europe/Ljubljana:20260603T093000
DTSTAMP:20260423T113933Z
UID:agrft-AFLABS-URNIK:premaknjeno-srecanje:130707
ATTENDEE:2 DSU, 2 (DSU 2)
CATEGORIES:Entry,Standard
COLOR:darkgreen
DESCRIPTION:Predmet: Dramaturški projekt (DrPr)\, druge oblike študija (
 DO)\nLetniki: 2 DSU\, 2 (DSU 2)\nIzvajalci: Zala Dobovšek\, Blaž Lukan\,
  Aldo Milohnić\, Žanina Mirčevska\, Barbara Orel\, Tomaž Toporišič\n
 Prostor: T615
LOCATION:Trubarjeva 3\, T615
ORGANIZER:Zala Dobovšek, Blaž Lukan, Aldo Milohnić, Žanina Mirčevska,
  Barbara Orel, Tomaž Toporišič
RELATED-TO:agrft-AFLABS-URNIK:srecanje:5105
X-WR-TIMEZONE:Europe/Ljubljana
END:VEVENT
END:VCALENDAR
