BEGIN:VCALENDAR
VERSION:2.0
PRODID:-//AFLabs urnik izvoz - agrft//aflabs.si//SI
DTSTAMP:20260421T213706Z
NAME:Urnik-AGRFT
REFRESH-INTERVAL:PT1H
SOURCE:https://urnik.agrft.uni-lj.si/teacher/122?day=2024-12-02&export=1
URL:https://urnik.agrft.uni-lj.si/teacher/122?day=2024-12-02&export=1
X-PUBLISHED-TTL:PT1H
X-WR-CALNAME:Urnik-AGRFT
X-WR-TIMEZONE:Europe/Ljubljana
BEGIN:VTIMEZONE
TZID:Europe/Ljubljana
BEGIN:DAYLIGHT
DTSTART:20260329T020000
RDATE:20260329T020000
RDATE:20270328T020000
TZNAME:CEST
TZOFFSETFROM:+0100
TZOFFSETTO:+0200
END:DAYLIGHT
BEGIN:STANDARD
DTSTART:20261025T030000
RDATE:20261025T030000
RDATE:20271031T030000
TZNAME:CET
TZOFFSETFROM:+0200
TZOFFSETTO:+0100
END:STANDARD
END:VTIMEZONE
BEGIN:VEVENT
SUMMARY:vaja 2. letniki
DTSTART;TZID=Europe/Ljubljana:20250103T100000
DTEND;TZID=Europe/Ljubljana:20250103T200000
DTSTAMP:20260421T213706Z
UID:agrft-AFLABS-URNIK:rezervacija:1620
CATEGORIES:Reservation
COLOR:royalblue
DESCRIPTION:Predmeti: \nLetniki: \nIzvajalci: Mija Špiler\nProstori: Štu
 dijski oder 2\, Študijski oder 5
LOCATION:Aškerčeva 5\, Študijski oder 2\, Aškerčeva 5\, Študijski od
 er 5
ORGANIZER:Mija Špiler
X-WR-TIMEZONE:Europe/Ljubljana
END:VEVENT
BEGIN:VEVENT
SUMMARY:vaja 2. letniki
DTSTART;TZID=Europe/Ljubljana:20250104T100000
DTEND;TZID=Europe/Ljubljana:20250104T200000
DTSTAMP:20260421T213706Z
UID:agrft-AFLABS-URNIK:rezervacija:1621
CATEGORIES:Reservation
COLOR:royalblue
DESCRIPTION:Predmeti: \nLetniki: \nIzvajalci: Mija Špiler\nProstori: Štu
 dijski oder 2\, Študijski oder 5
LOCATION:Aškerčeva 5\, Študijski oder 2\, Aškerčeva 5\, Študijski od
 er 5
ORGANIZER:Mija Špiler
X-WR-TIMEZONE:Europe/Ljubljana
END:VEVENT
BEGIN:VEVENT
SUMMARY:vaja 2. letniki
DTSTART;TZID=Europe/Ljubljana:20250105T100000
DTEND;TZID=Europe/Ljubljana:20250105T200000
DTSTAMP:20260421T213706Z
UID:agrft-AFLABS-URNIK:rezervacija:1622
CATEGORIES:Reservation
COLOR:royalblue
DESCRIPTION:Predmeti: \nLetniki: \nIzvajalci: Mija Špiler\nProstori: Štu
 dijski oder 2\, Študijski oder 5
LOCATION:Aškerčeva 5\, Študijski oder 2\, Aškerčeva 5\, Študijski od
 er 5
ORGANIZER:Mija Špiler
X-WR-TIMEZONE:Europe/Ljubljana
END:VEVENT
BEGIN:VEVENT
SUMMARY:vaja Julija Urban
DTSTART;TZID=Europe/Ljubljana:20250103T150000
DTEND;TZID=Europe/Ljubljana:20250103T204500
DTSTAMP:20260421T213706Z
UID:agrft-AFLABS-URNIK:rezervacija:1623
CATEGORIES:Reservation
COLOR:royalblue
DESCRIPTION:Predmeti: \nLetniki: \nIzvajalci: Mija Špiler\nProstori: Štu
 dijski oder 4
LOCATION:Aškerčeva 5\, Študijski oder 4
ORGANIZER:Mija Špiler
X-WR-TIMEZONE:Europe/Ljubljana
END:VEVENT
BEGIN:VEVENT
SUMMARY:vaja Julija Urban
DTSTART;TZID=Europe/Ljubljana:20250104T100000
DTEND;TZID=Europe/Ljubljana:20250104T200000
DTSTAMP:20260421T213706Z
UID:agrft-AFLABS-URNIK:rezervacija:1624
CATEGORIES:Reservation
COLOR:royalblue
DESCRIPTION:Predmeti: \nLetniki: \nIzvajalci: Mija Špiler\nProstori: Štu
 dijski oder 4
LOCATION:Aškerčeva 5\, Študijski oder 4
ORGANIZER:Mija Špiler
X-WR-TIMEZONE:Europe/Ljubljana
END:VEVENT
BEGIN:VEVENT
SUMMARY:vaja Julija Urban
DTSTART;TZID=Europe/Ljubljana:20250105T100000
DTEND;TZID=Europe/Ljubljana:20250105T200000
DTSTAMP:20260421T213706Z
UID:agrft-AFLABS-URNIK:rezervacija:1625
CATEGORIES:Reservation
COLOR:royalblue
DESCRIPTION:Predmeti: \nLetniki: \nIzvajalci: Mija Špiler\nProstori: Štu
 dijski oder 4
LOCATION:Aškerčeva 5\, Študijski oder 4
ORGANIZER:Mija Špiler
X-WR-TIMEZONE:Europe/Ljubljana
END:VEVENT
BEGIN:VEVENT
SUMMARY:vaja Luka Ravnik
DTSTART;TZID=Europe/Ljubljana:20250105T160000
DTEND;TZID=Europe/Ljubljana:20250105T200000
DTSTAMP:20260421T213706Z
UID:agrft-AFLABS-URNIK:rezervacija:1626
CATEGORIES:Reservation
COLOR:royalblue
DESCRIPTION:Predmeti: \nLetniki: \nIzvajalci: Mija Špiler\nProstori: Ples
 na dvorana
LOCATION:Aškerčeva 5\, Plesna dvorana
ORGANIZER:Mija Špiler
X-WR-TIMEZONE:Europe/Ljubljana
END:VEVENT
END:VCALENDAR
