BEGIN:VCALENDAR
VERSION:2.0
PRODID:-//AFLabs urnik izvoz - agrft//aflabs.si//SI
DTSTAMP:20260422T035610Z
NAME:Urnik-AGRFT
REFRESH-INTERVAL:PT1H
SOURCE:https://urnik.agrft.uni-lj.si/teacher/11?day=2025-02-24&export=1
URL:https://urnik.agrft.uni-lj.si/teacher/11?day=2025-02-24&export=1
X-PUBLISHED-TTL:PT1H
X-WR-CALNAME:Urnik-AGRFT
X-WR-TIMEZONE:Europe/Ljubljana
BEGIN:VTIMEZONE
TZID:Europe/Ljubljana
BEGIN:DAYLIGHT
DTSTART:20260329T020000
RDATE:20260329T020000
RDATE:20270328T020000
TZNAME:CEST
TZOFFSETFROM:+0100
TZOFFSETTO:+0200
END:DAYLIGHT
BEGIN:STANDARD
DTSTART:20261025T030000
RDATE:20261025T030000
RDATE:20271031T030000
TZNAME:CET
TZOFFSETFROM:+0200
TZOFFSETTO:+0100
END:STANDARD
END:VTIMEZONE
BEGIN:VEVENT
SUMMARY:sestanek raziskovalne skupine
DTSTART;TZID=Europe/Ljubljana:20250228T143000
DTEND;TZID=Europe/Ljubljana:20250228T170000
DTSTAMP:20260422T035610Z
UID:agrft-AFLABS-URNIK:rezervacija:1989
CATEGORIES:Reservation
COLOR:royalblue
DESCRIPTION:Predmeti: \nLetniki: \nIzvajalci: Tomaž Toporišič\nProstori
 : T613
LOCATION:Trubarjeva 3\, T613
ORGANIZER:Tomaž Toporišič
X-WR-TIMEZONE:Europe/Ljubljana
END:VEVENT
BEGIN:VEVENT
SUMMARY:zgodovina drame 1 in 2\, alternativna lokacija
DTSTART;TZID=Europe/Ljubljana:20250227T091500
DTEND;TZID=Europe/Ljubljana:20250227T103000
DTSTAMP:20260422T035610Z
UID:agrft-AFLABS-URNIK:rezervacija:1975
CATEGORIES:Reservation
COLOR:royalblue
DESCRIPTION:Predmeti: Dramaturgija in zgodovina drame II - DI (DRZD-II [DI
 ])\, Dramaturgija in zgodovina drame I - DI (DRZD-I [DI])\, Dramaturgija i
 n zgodovina drame I - GLR (DRZD-I [GLR])\, Dramaturgija in zgodovina drame
  II - GLR (DRZD-II [GLR])\, Zgodovina drame II - DSU (ZGDR-II [DSU])\, Zgo
 dovina drame I - DSU (ZGDR-I [DSU])\nLetniki: \nIzvajalci: Tomaž Toporiš
 ič\nProstori: T613
LOCATION:Trubarjeva 3\, T613
ORGANIZER:Tomaž Toporišič
X-WR-TIMEZONE:Europe/Ljubljana
END:VEVENT
BEGIN:VEVENT
SUMMARY:Predstavitev doktorske dispozicije mag. Ane Kocjančič
DTSTART;TZID=Europe/Ljubljana:20250321T151500
DTEND;TZID=Europe/Ljubljana:20250321T171500
DTSTAMP:20260422T035610Z
UID:agrft-AFLABS-URNIK:rezervacija:2155
CATEGORIES:Reservation
COLOR:royalblue
DESCRIPTION:Predmeti: \nLetniki: \nIzvajalci: Tomaž Toporišič\nProstori
 : T609
LOCATION:Trubarjeva 3\, T609
ORGANIZER:Tomaž Toporišič
X-WR-TIMEZONE:Europe/Ljubljana
END:VEVENT
END:VCALENDAR
