BEGIN:VCALENDAR
VERSION:2.0
PRODID:-//AFLabs urnik izvoz - agrft//aflabs.si//SI
DTSTAMP:20260425T224541Z
NAME:Urnik-AGRFT
REFRESH-INTERVAL:PT1H
SOURCE:https://urnik.agrft.uni-lj.si/subject/326/?export=1
URL:https://urnik.agrft.uni-lj.si/subject/326/?export=1
X-PUBLISHED-TTL:PT1H
X-WR-CALNAME:Urnik-AGRFT
X-WR-TIMEZONE:Europe/Ljubljana
BEGIN:VTIMEZONE
TZID:Europe/Ljubljana
BEGIN:DAYLIGHT
DTSTART:20260329T020000
RDATE:20260329T020000
RDATE:20270328T020000
TZNAME:CEST
TZOFFSETFROM:+0100
TZOFFSETTO:+0200
END:DAYLIGHT
BEGIN:STANDARD
DTSTART:20261025T030000
RDATE:20261025T030000
RDATE:20271031T030000
TZNAME:CET
TZOFFSETFROM:+0200
TZOFFSETTO:+0100
END:STANDARD
END:VTIMEZONE
BEGIN:VEVENT
SUMMARY:Filmski praktikum I - FTV (FPR-I [FTV])\, seminar in druge oblike 
 (S DO)
DTSTART;TZID=Europe/Ljubljana:20260220T070000
DTEND;TZID=Europe/Ljubljana:20260220T091500
DTSTAMP:20260425T224541Z
UID:agrft-AFLABS-URNIK:premaknjeno-srecanje:145934
ATTENDEE:FTV-M2 (FTV-M)
ATTENDEE:FTV-R2 (FTV-R)
ATTENDEE:FTV-S2 (FTV-S)
CATEGORIES:Entry,Standard
COLOR:darkgreen
DESCRIPTION:Predmet: Filmski praktikum I - FTV (FPR-I [FTV])\, seminar in 
 druge oblike (S DO)\nLetniki: \nIzvajalci: Urša Menart\, Martin Srebotnja
 k\nProstor: Ostale lokacije
LOCATION:Aškerčeva 5\, Ostale lokacije
ORGANIZER:Urša Menart, Martin Srebotnjak
RELATED-TO:agrft-AFLABS-URNIK:srecanje:5997
X-WR-TIMEZONE:Europe/Ljubljana
END:VEVENT
BEGIN:VEVENT
SUMMARY:Filmski praktikum I - FTV (FPR-I [FTV])\, seminar in druge oblike 
 (S DO)
DTSTART;TZID=Europe/Ljubljana:20260227T074500
DTEND;TZID=Europe/Ljubljana:20260227T100000
DTSTAMP:20260425T224541Z
UID:agrft-AFLABS-URNIK:premaknjeno-srecanje:145935
ATTENDEE:FTV-M2 (FTV-M)
ATTENDEE:FTV-R2 (FTV-R)
ATTENDEE:FTV-S2 (FTV-S)
CATEGORIES:Entry,Standard
COLOR:darkgreen
DESCRIPTION:Predmet: Filmski praktikum I - FTV (FPR-I [FTV])\, seminar in 
 druge oblike (S DO)\nLetniki: \nIzvajalci: Urša Menart\, Martin Srebotnja
 k\nProstor: Ostale lokacije
LOCATION:Aškerčeva 5\, Ostale lokacije
ORGANIZER:Urša Menart, Martin Srebotnjak
RELATED-TO:agrft-AFLABS-URNIK:srecanje:6853
X-WR-TIMEZONE:Europe/Ljubljana
END:VEVENT
BEGIN:VEVENT
SUMMARY:Filmski praktikum I - FTV (FPR-I [FTV])\, seminar in druge oblike 
 (S DO)
DTSTART;TZID=Europe/Ljubljana:20260306T074500
DTEND;TZID=Europe/Ljubljana:20260306T100000
DTSTAMP:20260425T224541Z
UID:agrft-AFLABS-URNIK:premaknjeno-srecanje:145936
ATTENDEE:FTV-M2 (FTV-M)
ATTENDEE:FTV-R2 (FTV-R)
ATTENDEE:FTV-S2 (FTV-S)
CATEGORIES:Entry,Standard
COLOR:darkgreen
DESCRIPTION:Predmet: Filmski praktikum I - FTV (FPR-I [FTV])\, seminar in 
 druge oblike (S DO)\nLetniki: \nIzvajalci: Urša Menart\, Martin Srebotnja
 k\nProstor: Ostale lokacije
LOCATION:Aškerčeva 5\, Ostale lokacije
ORGANIZER:Urša Menart, Martin Srebotnjak
RELATED-TO:agrft-AFLABS-URNIK:srecanje:6853
X-WR-TIMEZONE:Europe/Ljubljana
END:VEVENT
BEGIN:VEVENT
SUMMARY:Filmski praktikum I - FTV (FPR-I [FTV])\, seminar in druge oblike 
 (S DO)
DTSTART;TZID=Europe/Ljubljana:20260313T074500
DTEND;TZID=Europe/Ljubljana:20260313T100000
DTSTAMP:20260425T224541Z
UID:agrft-AFLABS-URNIK:premaknjeno-srecanje:145937
ATTENDEE:FTV-M2 (FTV-M)
ATTENDEE:FTV-R2 (FTV-R)
ATTENDEE:FTV-S2 (FTV-S)
CATEGORIES:Entry,Standard
COLOR:darkgreen
DESCRIPTION:Predmet: Filmski praktikum I - FTV (FPR-I [FTV])\, seminar in 
 druge oblike (S DO)\nLetniki: \nIzvajalci: Urša Menart\, Martin Srebotnja
 k\nProstor: Ostale lokacije
LOCATION:Aškerčeva 5\, Ostale lokacije
ORGANIZER:Urša Menart, Martin Srebotnjak
RELATED-TO:agrft-AFLABS-URNIK:srecanje:6853
X-WR-TIMEZONE:Europe/Ljubljana
END:VEVENT
BEGIN:VEVENT
SUMMARY:Filmski praktikum I - FTV (FPR-I [FTV])\, seminar in druge oblike 
 (S DO)
DTSTART;TZID=Europe/Ljubljana:20260320T074500
DTEND;TZID=Europe/Ljubljana:20260320T100000
DTSTAMP:20260425T224541Z
UID:agrft-AFLABS-URNIK:premaknjeno-srecanje:145938
ATTENDEE:FTV-M2 (FTV-M)
ATTENDEE:FTV-R2 (FTV-R)
ATTENDEE:FTV-S2 (FTV-S)
CATEGORIES:Entry,Standard
COLOR:darkgreen
DESCRIPTION:Predmet: Filmski praktikum I - FTV (FPR-I [FTV])\, seminar in 
 druge oblike (S DO)\nLetniki: \nIzvajalci: Urša Menart\, Martin Srebotnja
 k\nProstor: Ostale lokacije
LOCATION:Aškerčeva 5\, Ostale lokacije
ORGANIZER:Urša Menart, Martin Srebotnjak
RELATED-TO:agrft-AFLABS-URNIK:srecanje:6853
X-WR-TIMEZONE:Europe/Ljubljana
END:VEVENT
BEGIN:VEVENT
SUMMARY:Filmski praktikum I - FTV (FPR-I [FTV])\, seminar in druge oblike 
 (S DO)
DTSTART;TZID=Europe/Ljubljana:20260327T074500
DTEND;TZID=Europe/Ljubljana:20260327T100000
DTSTAMP:20260425T224541Z
UID:agrft-AFLABS-URNIK:premaknjeno-srecanje:145939
ATTENDEE:FTV-M2 (FTV-M)
ATTENDEE:FTV-R2 (FTV-R)
ATTENDEE:FTV-S2 (FTV-S)
CATEGORIES:Entry,Standard
COLOR:darkgreen
DESCRIPTION:Predmet: Filmski praktikum I - FTV (FPR-I [FTV])\, seminar in 
 druge oblike (S DO)\nLetniki: \nIzvajalci: Urša Menart\, Martin Srebotnja
 k\nProstor: Ostale lokacije
LOCATION:Aškerčeva 5\, Ostale lokacije
ORGANIZER:Urša Menart, Martin Srebotnjak
RELATED-TO:agrft-AFLABS-URNIK:srecanje:6853
X-WR-TIMEZONE:Europe/Ljubljana
END:VEVENT
BEGIN:VEVENT
SUMMARY:Filmski praktikum I - FTV (FPR-I [FTV])\, seminar in druge oblike 
 (S DO)
DTSTART;TZID=Europe/Ljubljana:20260403T074500
DTEND;TZID=Europe/Ljubljana:20260403T100000
DTSTAMP:20260425T224541Z
UID:agrft-AFLABS-URNIK:premaknjeno-srecanje:145940
ATTENDEE:FTV-M2 (FTV-M)
ATTENDEE:FTV-R2 (FTV-R)
ATTENDEE:FTV-S2 (FTV-S)
CATEGORIES:Entry,Standard
COLOR:darkgreen
DESCRIPTION:Predmet: Filmski praktikum I - FTV (FPR-I [FTV])\, seminar in 
 druge oblike (S DO)\nLetniki: \nIzvajalci: Urša Menart\, Martin Srebotnja
 k\nProstor: Ostale lokacije
LOCATION:Aškerčeva 5\, Ostale lokacije
ORGANIZER:Urša Menart, Martin Srebotnjak
RELATED-TO:agrft-AFLABS-URNIK:srecanje:6853
X-WR-TIMEZONE:Europe/Ljubljana
END:VEVENT
BEGIN:VEVENT
SUMMARY:Filmski praktikum I - FTV (FPR-I [FTV])\, seminar in druge oblike 
 (S DO)
DTSTART;TZID=Europe/Ljubljana:20260410T074500
DTEND;TZID=Europe/Ljubljana:20260410T100000
DTSTAMP:20260425T224541Z
UID:agrft-AFLABS-URNIK:premaknjeno-srecanje:145941
ATTENDEE:FTV-M2 (FTV-M)
ATTENDEE:FTV-R2 (FTV-R)
ATTENDEE:FTV-S2 (FTV-S)
CATEGORIES:Entry,Standard
COLOR:darkgreen
DESCRIPTION:Predmet: Filmski praktikum I - FTV (FPR-I [FTV])\, seminar in 
 druge oblike (S DO)\nLetniki: \nIzvajalci: Urša Menart\, Martin Srebotnja
 k\nProstor: Ostale lokacije
LOCATION:Aškerčeva 5\, Ostale lokacije
ORGANIZER:Urša Menart, Martin Srebotnjak
RELATED-TO:agrft-AFLABS-URNIK:srecanje:6853
X-WR-TIMEZONE:Europe/Ljubljana
END:VEVENT
BEGIN:VEVENT
SUMMARY:Filmski praktikum I - FTV (FPR-I [FTV])\, seminar in druge oblike 
 (S DO)
DTSTART;TZID=Europe/Ljubljana:20260417T074500
DTEND;TZID=Europe/Ljubljana:20260417T100000
DTSTAMP:20260425T224541Z
UID:agrft-AFLABS-URNIK:premaknjeno-srecanje:145942
ATTENDEE:FTV-M2 (FTV-M)
ATTENDEE:FTV-R2 (FTV-R)
ATTENDEE:FTV-S2 (FTV-S)
CATEGORIES:Entry,Standard
COLOR:darkgreen
DESCRIPTION:Predmet: Filmski praktikum I - FTV (FPR-I [FTV])\, seminar in 
 druge oblike (S DO)\nLetniki: \nIzvajalci: Urša Menart\, Martin Srebotnja
 k\nProstor: Ostale lokacije
LOCATION:Aškerčeva 5\, Ostale lokacije
ORGANIZER:Urša Menart, Martin Srebotnjak
RELATED-TO:agrft-AFLABS-URNIK:srecanje:6853
X-WR-TIMEZONE:Europe/Ljubljana
END:VEVENT
BEGIN:VEVENT
SUMMARY:Filmski praktikum I - FTV (FPR-I [FTV])\, seminar in druge oblike 
 (S DO)
DTSTART;TZID=Europe/Ljubljana:20260424T074500
DTEND;TZID=Europe/Ljubljana:20260424T100000
DTSTAMP:20260425T224541Z
UID:agrft-AFLABS-URNIK:premaknjeno-srecanje:145943
ATTENDEE:FTV-M2 (FTV-M)
ATTENDEE:FTV-R2 (FTV-R)
ATTENDEE:FTV-S2 (FTV-S)
CATEGORIES:Entry,Standard
COLOR:darkgreen
DESCRIPTION:Predmet: Filmski praktikum I - FTV (FPR-I [FTV])\, seminar in 
 druge oblike (S DO)\nLetniki: \nIzvajalci: Urša Menart\, Martin Srebotnja
 k\nProstor: Ostale lokacije
LOCATION:Aškerčeva 5\, Ostale lokacije
ORGANIZER:Urša Menart, Martin Srebotnjak
RELATED-TO:agrft-AFLABS-URNIK:srecanje:6853
X-WR-TIMEZONE:Europe/Ljubljana
END:VEVENT
BEGIN:VEVENT
SUMMARY:Filmski praktikum I - FTV (FPR-I [FTV])\, seminar in druge oblike 
 (S DO)
DTSTART;TZID=Europe/Ljubljana:20260501T074500
DTEND;TZID=Europe/Ljubljana:20260501T100000
DTSTAMP:20260425T224541Z
UID:agrft-AFLABS-URNIK:premaknjeno-srecanje:145944
ATTENDEE:FTV-M2 (FTV-M)
ATTENDEE:FTV-R2 (FTV-R)
ATTENDEE:FTV-S2 (FTV-S)
CATEGORIES:Entry,Standard
COLOR:darkgreen
DESCRIPTION:Predmet: Filmski praktikum I - FTV (FPR-I [FTV])\, seminar in 
 druge oblike (S DO)\nLetniki: \nIzvajalci: Urša Menart\, Martin Srebotnja
 k\nProstor: Ostale lokacije
LOCATION:Aškerčeva 5\, Ostale lokacije
ORGANIZER:Urša Menart, Martin Srebotnjak
RELATED-TO:agrft-AFLABS-URNIK:srecanje:6853
X-WR-TIMEZONE:Europe/Ljubljana
END:VEVENT
BEGIN:VEVENT
SUMMARY:Filmski praktikum I - FTV (FPR-I [FTV])\, seminar in druge oblike 
 (S DO)
DTSTART;TZID=Europe/Ljubljana:20260508T074500
DTEND;TZID=Europe/Ljubljana:20260508T100000
DTSTAMP:20260425T224541Z
UID:agrft-AFLABS-URNIK:premaknjeno-srecanje:145945
ATTENDEE:FTV-M2 (FTV-M)
ATTENDEE:FTV-R2 (FTV-R)
ATTENDEE:FTV-S2 (FTV-S)
CATEGORIES:Entry,Standard
COLOR:darkgreen
DESCRIPTION:Predmet: Filmski praktikum I - FTV (FPR-I [FTV])\, seminar in 
 druge oblike (S DO)\nLetniki: \nIzvajalci: Urša Menart\, Martin Srebotnja
 k\nProstor: Ostale lokacije
LOCATION:Aškerčeva 5\, Ostale lokacije
ORGANIZER:Urša Menart, Martin Srebotnjak
RELATED-TO:agrft-AFLABS-URNIK:srecanje:6853
X-WR-TIMEZONE:Europe/Ljubljana
END:VEVENT
BEGIN:VEVENT
SUMMARY:Filmski praktikum I - FTV (FPR-I [FTV])\, seminar in druge oblike 
 (S DO)
DTSTART;TZID=Europe/Ljubljana:20260515T074500
DTEND;TZID=Europe/Ljubljana:20260515T100000
DTSTAMP:20260425T224541Z
UID:agrft-AFLABS-URNIK:premaknjeno-srecanje:145946
ATTENDEE:FTV-M2 (FTV-M)
ATTENDEE:FTV-R2 (FTV-R)
ATTENDEE:FTV-S2 (FTV-S)
CATEGORIES:Entry,Standard
COLOR:darkgreen
DESCRIPTION:Predmet: Filmski praktikum I - FTV (FPR-I [FTV])\, seminar in 
 druge oblike (S DO)\nLetniki: \nIzvajalci: Urša Menart\, Martin Srebotnja
 k\nProstor: Ostale lokacije
LOCATION:Aškerčeva 5\, Ostale lokacije
ORGANIZER:Urša Menart, Martin Srebotnjak
RELATED-TO:agrft-AFLABS-URNIK:srecanje:6853
X-WR-TIMEZONE:Europe/Ljubljana
END:VEVENT
BEGIN:VEVENT
SUMMARY:Filmski praktikum I - FTV (FPR-I [FTV])\, seminar in druge oblike 
 (S DO)
DTSTART;TZID=Europe/Ljubljana:20260522T074500
DTEND;TZID=Europe/Ljubljana:20260522T100000
DTSTAMP:20260425T224541Z
UID:agrft-AFLABS-URNIK:premaknjeno-srecanje:145947
ATTENDEE:FTV-M2 (FTV-M)
ATTENDEE:FTV-R2 (FTV-R)
ATTENDEE:FTV-S2 (FTV-S)
CATEGORIES:Entry,Standard
COLOR:darkgreen
DESCRIPTION:Predmet: Filmski praktikum I - FTV (FPR-I [FTV])\, seminar in 
 druge oblike (S DO)\nLetniki: \nIzvajalci: Urša Menart\, Martin Srebotnja
 k\nProstor: Ostale lokacije
LOCATION:Aškerčeva 5\, Ostale lokacije
ORGANIZER:Urša Menart, Martin Srebotnjak
RELATED-TO:agrft-AFLABS-URNIK:srecanje:6853
X-WR-TIMEZONE:Europe/Ljubljana
END:VEVENT
BEGIN:VEVENT
SUMMARY:Filmski praktikum I - FTV (FPR-I [FTV])\, seminar in druge oblike 
 (S DO)
DTSTART;TZID=Europe/Ljubljana:20260529T074500
DTEND;TZID=Europe/Ljubljana:20260529T100000
DTSTAMP:20260425T224541Z
UID:agrft-AFLABS-URNIK:premaknjeno-srecanje:145948
ATTENDEE:FTV-M2 (FTV-M)
ATTENDEE:FTV-R2 (FTV-R)
ATTENDEE:FTV-S2 (FTV-S)
CATEGORIES:Entry,Standard
COLOR:darkgreen
DESCRIPTION:Predmet: Filmski praktikum I - FTV (FPR-I [FTV])\, seminar in 
 druge oblike (S DO)\nLetniki: \nIzvajalci: Urša Menart\, Martin Srebotnja
 k\nProstor: Ostale lokacije
LOCATION:Aškerčeva 5\, Ostale lokacije
ORGANIZER:Urša Menart, Martin Srebotnjak
RELATED-TO:agrft-AFLABS-URNIK:srecanje:6853
X-WR-TIMEZONE:Europe/Ljubljana
END:VEVENT
BEGIN:VEVENT
SUMMARY:DO (D)
DTSTART;TZID=Europe/Ljubljana:20260218T143000
DTEND;TZID=Europe/Ljubljana:20260218T160000
DTSTAMP:20260425T224541Z
UID:agrft-AFLABS-URNIK:rezervacija:5218
CATEGORIES:Reservation
COLOR:royalblue
DESCRIPTION:Predmeti: Filmski praktikum I - FTV (FPR-I [FTV])\nLetniki: \n
 Izvajalci: Urša Menart\nProstori: AV predavalnica 2
LOCATION:Aškerčeva 5\, AV predavalnica 2
ORGANIZER:Urša Menart
X-WR-TIMEZONE:Europe/Ljubljana
END:VEVENT
BEGIN:VEVENT
SUMMARY:Seminar
DTSTART;TZID=Europe/Ljubljana:20260306T080000
DTEND;TZID=Europe/Ljubljana:20260306T100000
DTSTAMP:20260425T224541Z
UID:agrft-AFLABS-URNIK:rezervacija:5343
CATEGORIES:Reservation
COLOR:royalblue
DESCRIPTION:Predmeti: Filmski praktikum I - FTV (FPR-I [FTV])\nLetniki: \n
 Izvajalci: Martin Srebotnjak\nProstori: AV predavalnica 1
LOCATION:Aškerčeva 5\, AV predavalnica 1
ORGANIZER:Martin Srebotnjak
X-WR-TIMEZONE:Europe/Ljubljana
END:VEVENT
BEGIN:VEVENT
SUMMARY:Filmski praktikum 1
DTSTART;TZID=Europe/Ljubljana:20260323T160000
DTEND;TZID=Europe/Ljubljana:20260323T181500
DTSTAMP:20260425T224541Z
UID:agrft-AFLABS-URNIK:rezervacija:5427
CATEGORIES:Reservation
COLOR:royalblue
DESCRIPTION:Predmeti: Filmski praktikum I - FTV (FPR-I [FTV])\nLetniki: \n
 Izvajalci: Urša Menart\, Martin Srebotnjak\nProstori: AV predavalnica 2
LOCATION:Aškerčeva 5\, AV predavalnica 2
ORGANIZER:Urša Menart, Martin Srebotnjak
X-WR-TIMEZONE:Europe/Ljubljana
END:VEVENT
BEGIN:VEVENT
SUMMARY:Priprave - Omnibus
DTSTART;TZID=Europe/Ljubljana:20260327T090000
DTEND;TZID=Europe/Ljubljana:20260327T100000
DTSTAMP:20260425T224541Z
UID:agrft-AFLABS-URNIK:rezervacija:5732
CATEGORIES:Reservation
COLOR:royalblue
DESCRIPTION:Predmeti: Filmski praktikum I - FTV (FPR-I [FTV])\nLetniki: \n
 Izvajalci: Urša Menart\, Martin Srebotnjak\nProstori: AV predavalnica 3
LOCATION:Aškerčeva 5\, AV predavalnica 3
ORGANIZER:Urša Menart, Martin Srebotnjak
X-WR-TIMEZONE:Europe/Ljubljana
END:VEVENT
BEGIN:VEVENT
SUMMARY:Omnibus
DTSTART;TZID=Europe/Ljubljana:20260331T120000
DTEND;TZID=Europe/Ljubljana:20260331T130000
DTSTAMP:20260425T224541Z
UID:agrft-AFLABS-URNIK:rezervacija:5790
CATEGORIES:Reservation
COLOR:royalblue
DESCRIPTION:Predmeti: Filmski praktikum I - FTV (FPR-I [FTV])\nLetniki: \n
 Izvajalci: Urša Menart\, Martin Srebotnjak\nProstori: AV predavalnica 3
LOCATION:Aškerčeva 5\, AV predavalnica 3
ORGANIZER:Urša Menart, Martin Srebotnjak
X-WR-TIMEZONE:Europe/Ljubljana
END:VEVENT
BEGIN:VEVENT
SUMMARY:J. Bauer - omnibus (vaje)
DTSTART;TZID=Europe/Ljubljana:20260407T200000
DTEND;TZID=Europe/Ljubljana:20260407T210000
DTSTAMP:20260425T224541Z
UID:agrft-AFLABS-URNIK:rezervacija:5858
CATEGORIES:Reservation
COLOR:royalblue
DESCRIPTION:Predmeti: Filmski praktikum I - FTV (FPR-I [FTV])\nLetniki: DI
  2 (DI 2)\nIzvajalci: Sebastijan Cavazza\, Urša Menart\, Martin Srebotnja
 k\nProstori: FTV vadnica
LOCATION:Aškerčeva 5\, FTV vadnica
ORGANIZER:Sebastijan Cavazza, Urša Menart, Martin Srebotnjak
X-WR-TIMEZONE:Europe/Ljubljana
END:VEVENT
BEGIN:VEVENT
SUMMARY:Omnibus
DTSTART;TZID=Europe/Ljubljana:20260410T090000
DTEND;TZID=Europe/Ljubljana:20260410T100000
DTSTAMP:20260425T224541Z
UID:agrft-AFLABS-URNIK:rezervacija:5970
CATEGORIES:Reservation
COLOR:royalblue
DESCRIPTION:Predmeti: Filmski praktikum I - FTV (FPR-I [FTV])\nLetniki: \n
 Izvajalci: Urša Menart\, Martin Srebotnjak\nProstori: AV predavalnica 3
LOCATION:Aškerčeva 5\, AV predavalnica 3
ORGANIZER:Urša Menart, Martin Srebotnjak
X-WR-TIMEZONE:Europe/Ljubljana
END:VEVENT
BEGIN:VEVENT
SUMMARY:Omnibus
DTSTART;TZID=Europe/Ljubljana:20260414T160000
DTEND;TZID=Europe/Ljubljana:20260414T180000
DTSTAMP:20260425T224541Z
UID:agrft-AFLABS-URNIK:rezervacija:6073
CATEGORIES:Reservation
COLOR:royalblue
DESCRIPTION:Predmeti: Filmski praktikum I - FTV (FPR-I [FTV])\nLetniki: \n
 Izvajalci: Urša Menart\, Martin Srebotnjak\nProstori: AV predavalnica 2
LOCATION:Aškerčeva 5\, AV predavalnica 2
ORGANIZER:Urša Menart, Martin Srebotnjak
X-WR-TIMEZONE:Europe/Ljubljana
END:VEVENT
BEGIN:VEVENT
SUMMARY:Omnibus
DTSTART;TZID=Europe/Ljubljana:20260416T113000
DTEND;TZID=Europe/Ljubljana:20260416T130000
DTSTAMP:20260425T224541Z
UID:agrft-AFLABS-URNIK:rezervacija:6105
CATEGORIES:Reservation
COLOR:royalblue
DESCRIPTION:Predmeti: Filmski praktikum I - FTV (FPR-I [FTV])\nLetniki: \n
 Izvajalci: Urša Menart\, Martin Srebotnjak\nProstori: AV predavalnica 3
LOCATION:Aškerčeva 5\, AV predavalnica 3
ORGANIZER:Urša Menart, Martin Srebotnjak
X-WR-TIMEZONE:Europe/Ljubljana
END:VEVENT
BEGIN:VEVENT
SUMMARY:Omnibus (vaja pred snemanjem\, rež. D. Pehani)
DTSTART;TZID=Europe/Ljubljana:20260416T183000
DTEND;TZID=Europe/Ljubljana:20260416T210000
DTSTAMP:20260425T224541Z
UID:agrft-AFLABS-URNIK:rezervacija:6106
CATEGORIES:Reservation
COLOR:royalblue
DESCRIPTION:Predmeti: Igra pred kamero I - DI\, FTV (IPK-I [DI\, FTV])\, F
 ilmski praktikum I - FTV (FPR-I [FTV])\nLetniki: \nIzvajalci: Sebastijan C
 avazza\, Urša Menart\, Martin Srebotnjak\nProstori: Študijski oder 3
LOCATION:Aškerčeva 5\, Študijski oder 3
ORGANIZER:Sebastijan Cavazza, Urša Menart, Martin Srebotnjak
X-WR-TIMEZONE:Europe/Ljubljana
END:VEVENT
BEGIN:VEVENT
SUMMARY:Omnibus (vaje)
DTSTART;TZID=Europe/Ljubljana:20260417T133000
DTEND;TZID=Europe/Ljubljana:20260417T153000
DTSTAMP:20260425T224541Z
UID:agrft-AFLABS-URNIK:rezervacija:6107
CATEGORIES:Reservation
COLOR:royalblue
DESCRIPTION:Predmeti: Igra pred kamero I - DI\, FTV (IPK-I [DI\, FTV])\, F
 ilmski praktikum I - FTV (FPR-I [FTV])\nLetniki: \nIzvajalci: Sebastijan C
 avazza\, Urša Menart\, Martin Srebotnjak\nProstori: Študijski oder 2
LOCATION:Aškerčeva 5\, Študijski oder 2
ORGANIZER:Sebastijan Cavazza, Urša Menart, Martin Srebotnjak
X-WR-TIMEZONE:Europe/Ljubljana
END:VEVENT
BEGIN:VEVENT
SUMMARY:Omnibus - Bizovičar (vaje)
DTSTART;TZID=Europe/Ljubljana:20260421T180000
DTEND;TZID=Europe/Ljubljana:20260421T210000
DTSTAMP:20260425T224541Z
UID:agrft-AFLABS-URNIK:rezervacija:6113
CATEGORIES:Reservation
COLOR:royalblue
DESCRIPTION:Predmeti: Filmski praktikum I - FTV (FPR-I [FTV])\, Igra pred 
 kamero I - DI\, FTV (IPK-I [DI\, FTV])\nLetniki: \nIzvajalci: Sebastijan C
 avazza\, Urša Menart\, Martin Srebotnjak\nProstori: FTV vadnica
LOCATION:Aškerčeva 5\, FTV vadnica
ORGANIZER:Sebastijan Cavazza, Urša Menart, Martin Srebotnjak
X-WR-TIMEZONE:Europe/Ljubljana
END:VEVENT
BEGIN:VEVENT
SUMMARY:Omnibus - Svetniki in grešniki (vaje)
DTSTART;TZID=Europe/Ljubljana:20260423T170000
DTEND;TZID=Europe/Ljubljana:20260423T204500
DTSTAMP:20260425T224541Z
UID:agrft-AFLABS-URNIK:rezervacija:6203
CATEGORIES:Reservation
COLOR:royalblue
DESCRIPTION:Predmeti: Igra pred kamero I - DI\, FTV (IPK-I [DI\, FTV])\, F
 ilmski praktikum I - FTV (FPR-I [FTV])\nLetniki: \nIzvajalci: Sebastijan C
 avazza\, Urša Menart\, Martin Srebotnjak\nProstori: Študijski oder 4
LOCATION:Aškerčeva 5\, Študijski oder 4
ORGANIZER:Sebastijan Cavazza, Urša Menart, Martin Srebotnjak
X-WR-TIMEZONE:Europe/Ljubljana
END:VEVENT
BEGIN:VEVENT
SUMMARY:Omnibus
DTSTART;TZID=Europe/Ljubljana:20260423T120000
DTEND;TZID=Europe/Ljubljana:20260423T143000
DTSTAMP:20260425T224541Z
UID:agrft-AFLABS-URNIK:rezervacija:6206
CATEGORIES:Reservation
COLOR:royalblue
DESCRIPTION:Predmeti: Filmski praktikum I - FTV (FPR-I [FTV])\nLetniki: \n
 Izvajalci: Urša Menart\nProstori: AV predavalnica 2
LOCATION:Aškerčeva 5\, AV predavalnica 2
ORGANIZER:Urša Menart
X-WR-TIMEZONE:Europe/Ljubljana
END:VEVENT
BEGIN:VEVENT
SUMMARY:Omnibus
DTSTART;TZID=Europe/Ljubljana:20260424T133000
DTEND;TZID=Europe/Ljubljana:20260424T161500
DTSTAMP:20260425T224541Z
UID:agrft-AFLABS-URNIK:rezervacija:6214
CATEGORIES:Reservation
COLOR:royalblue
DESCRIPTION:Predmeti: Filmski praktikum I - FTV (FPR-I [FTV])\nLetniki: \n
 Izvajalci: Urša Menart\, Martin Srebotnjak\nProstori: AV predavalnica 3
LOCATION:Aškerčeva 5\, AV predavalnica 3
ORGANIZER:Urša Menart, Martin Srebotnjak
X-WR-TIMEZONE:Europe/Ljubljana
END:VEVENT
END:VCALENDAR
