BEGIN:VCALENDAR
VERSION:2.0
PRODID:-//AFLabs urnik izvoz - agrft//aflabs.si//SI
DTSTAMP:20260425T021403Z
NAME:Urnik-AGRFT
REFRESH-INTERVAL:PT1H
SOURCE:https://urnik.agrft.uni-lj.si/classroom/67/?export=1
URL:https://urnik.agrft.uni-lj.si/classroom/67/?export=1
X-PUBLISHED-TTL:PT1H
X-WR-CALNAME:Urnik-AGRFT
X-WR-TIMEZONE:Europe/Ljubljana
BEGIN:VTIMEZONE
TZID:Europe/Ljubljana
BEGIN:DAYLIGHT
DTSTART:20260329T020000
RDATE:20260329T020000
RDATE:20270328T020000
TZNAME:CEST
TZOFFSETFROM:+0100
TZOFFSETTO:+0200
END:DAYLIGHT
BEGIN:STANDARD
DTSTART:20261025T030000
RDATE:20261025T030000
RDATE:20271031T030000
TZNAME:CET
TZOFFSETFROM:+0200
TZOFFSETTO:+0100
END:STANDARD
END:VTIMEZONE
BEGIN:VEVENT
SUMMARY:Filmska delavnica 2026
DTSTART;TZID=Europe/Ljubljana:20260217T080000
DTEND;TZID=Europe/Ljubljana:20260217T190000
DTSTAMP:20260425T021403Z
UID:agrft-AFLABS-URNIK:rezervacija:5126
CATEGORIES:Reservation
COLOR:royalblue
DESCRIPTION:Predmeti: \nLetniki: \nIzvajalci: Martin Srebotnjak\nProstori:
  Garderoba A\, Garderoba B\, Maska in frizer
LOCATION:Aškerčeva 5\, Garderoba A\, Aškerčeva 5\, Garderoba B\, Aške
 rčeva 5\, Maska in frizer
ORGANIZER:Martin Srebotnjak
X-WR-TIMEZONE:Europe/Ljubljana
END:VEVENT
BEGIN:VEVENT
SUMMARY:Filmska delavnica 2026
DTSTART;TZID=Europe/Ljubljana:20260218T080000
DTEND;TZID=Europe/Ljubljana:20260218T190000
DTSTAMP:20260425T021403Z
UID:agrft-AFLABS-URNIK:rezervacija:5127
CATEGORIES:Reservation
COLOR:royalblue
DESCRIPTION:Predmeti: \nLetniki: \nIzvajalci: Martin Srebotnjak\nProstori:
  Garderoba A\, Garderoba B\, Maska in frizer
LOCATION:Aškerčeva 5\, Garderoba A\, Aškerčeva 5\, Garderoba B\, Aške
 rčeva 5\, Maska in frizer
ORGANIZER:Martin Srebotnjak
X-WR-TIMEZONE:Europe/Ljubljana
END:VEVENT
BEGIN:VEVENT
SUMMARY:Filmska delavnica 2026
DTSTART;TZID=Europe/Ljubljana:20260219T080000
DTEND;TZID=Europe/Ljubljana:20260219T190000
DTSTAMP:20260425T021403Z
UID:agrft-AFLABS-URNIK:rezervacija:5128
CATEGORIES:Reservation
COLOR:royalblue
DESCRIPTION:Predmeti: \nLetniki: \nIzvajalci: Martin Srebotnjak\nProstori:
  Garderoba A\, Garderoba B\, Maska in frizer
LOCATION:Aškerčeva 5\, Garderoba A\, Aškerčeva 5\, Garderoba B\, Aške
 rčeva 5\, Maska in frizer
ORGANIZER:Martin Srebotnjak
X-WR-TIMEZONE:Europe/Ljubljana
END:VEVENT
BEGIN:VEVENT
SUMMARY:Filmska delavnica 2026
DTSTART;TZID=Europe/Ljubljana:20260220T080000
DTEND;TZID=Europe/Ljubljana:20260220T190000
DTSTAMP:20260425T021403Z
UID:agrft-AFLABS-URNIK:rezervacija:5129
CATEGORIES:Reservation
COLOR:royalblue
DESCRIPTION:Predmeti: \nLetniki: \nIzvajalci: Martin Srebotnjak\nProstori:
  Garderoba A\, Garderoba B\, Maska in frizer
LOCATION:Aškerčeva 5\, Garderoba A\, Aškerčeva 5\, Garderoba B\, Aške
 rčeva 5\, Maska in frizer
ORGANIZER:Martin Srebotnjak
X-WR-TIMEZONE:Europe/Ljubljana
END:VEVENT
BEGIN:VEVENT
SUMMARY:DRAGAN - VAJE
DTSTART;TZID=Europe/Ljubljana:20260223T180000
DTEND;TZID=Europe/Ljubljana:20260223T210000
DTSTAMP:20260425T021403Z
UID:agrft-AFLABS-URNIK:rezervacija:5219
CATEGORIES:Reservation
COLOR:royalblue
DESCRIPTION:Predmeti: Filmska režija IV (FR-IV)\nLetniki: \nIzvajalci: Mi
 ran Zupanič\nProstori: Garderoba A\, Garderoba B\, Maska in frizer
LOCATION:Aškerčeva 5\, Garderoba A\, Aškerčeva 5\, Garderoba B\, Aške
 rčeva 5\, Maska in frizer
ORGANIZER:Miran Zupanič
X-WR-TIMEZONE:Europe/Ljubljana
END:VEVENT
BEGIN:VEVENT
SUMMARY:Kostumska proba Guzice - Miha Dragan
DTSTART;TZID=Europe/Ljubljana:20260220T180000
DTEND;TZID=Europe/Ljubljana:20260220T200000
DTSTAMP:20260425T021403Z
UID:agrft-AFLABS-URNIK:rezervacija:5257
CATEGORIES:Reservation
COLOR:royalblue
DESCRIPTION:Predmeti: \nLetniki: \nIzvajalci: Kaja Horvat\nProstori: Garde
 roba A
LOCATION:Aškerčeva 5\, Garderoba A
ORGANIZER:Kaja Horvat
X-WR-TIMEZONE:Europe/Ljubljana
END:VEVENT
BEGIN:VEVENT
SUMMARY:Guzice. kostumska proba-Miha Dragan
DTSTART;TZID=Europe/Ljubljana:20260223T180000
DTEND;TZID=Europe/Ljubljana:20260223T200000
DTSTAMP:20260425T021403Z
UID:agrft-AFLABS-URNIK:rezervacija:5258
CATEGORIES:Reservation
COLOR:royalblue
DESCRIPTION:Predmeti: \nLetniki: \nIzvajalci: Kaja Horvat\nProstori: Garde
 roba A
LOCATION:Aškerčeva 5\, Garderoba A
ORGANIZER:Kaja Horvat
X-WR-TIMEZONE:Europe/Ljubljana
END:VEVENT
BEGIN:VEVENT
SUMMARY:Kostumska proba Guzice
DTSTART;TZID=Europe/Ljubljana:20260227T110000
DTEND;TZID=Europe/Ljubljana:20260227T140000
DTSTAMP:20260425T021403Z
UID:agrft-AFLABS-URNIK:rezervacija:5353
CATEGORIES:Reservation
COLOR:royalblue
DESCRIPTION:Predmeti: \nLetniki: \nIzvajalci: Kaja Horvat\nProstori: Garde
 roba A
LOCATION:Aškerčeva 5\, Garderoba A
ORGANIZER:Kaja Horvat
X-WR-TIMEZONE:Europe/Ljubljana
END:VEVENT
BEGIN:VEVENT
SUMMARY:Kostumi za projekt Zadnja postaja (kostumografka Iris Kovačič)
DTSTART;TZID=Europe/Ljubljana:20260407T070000
DTEND;TZID=Europe/Ljubljana:20260407T200000
DTSTAMP:20260425T021403Z
UID:agrft-AFLABS-URNIK:rezervacija:5888
CATEGORIES:Reservation
COLOR:royalblue
DESCRIPTION:Predmeti: \nLetniki: \nIzvajalci: Eva Kučera Šmon\nProstori:
  Garderoba A
LOCATION:Aškerčeva 5\, Garderoba A
ORGANIZER:Eva Kučera Šmon
X-WR-TIMEZONE:Europe/Ljubljana
END:VEVENT
BEGIN:VEVENT
SUMMARY:Kostumi za projekt Zadnja postaja (kostumografka Iris Kovačič)
DTSTART;TZID=Europe/Ljubljana:20260408T070000
DTEND;TZID=Europe/Ljubljana:20260408T200000
DTSTAMP:20260425T021403Z
UID:agrft-AFLABS-URNIK:rezervacija:5889
CATEGORIES:Reservation
COLOR:royalblue
DESCRIPTION:Predmeti: \nLetniki: \nIzvajalci: Eva Kučera Šmon\nProstori:
  Garderoba A
LOCATION:Aškerčeva 5\, Garderoba A
ORGANIZER:Eva Kučera Šmon
X-WR-TIMEZONE:Europe/Ljubljana
END:VEVENT
BEGIN:VEVENT
SUMMARY:Kostumi za projekt Zadnja postaja (kostumografka Iris Kovačič)
DTSTART;TZID=Europe/Ljubljana:20260409T070000
DTEND;TZID=Europe/Ljubljana:20260409T200000
DTSTAMP:20260425T021403Z
UID:agrft-AFLABS-URNIK:rezervacija:5890
CATEGORIES:Reservation
COLOR:royalblue
DESCRIPTION:Predmeti: \nLetniki: \nIzvajalci: Eva Kučera Šmon\nProstori:
  Garderoba A
LOCATION:Aškerčeva 5\, Garderoba A
ORGANIZER:Eva Kučera Šmon
X-WR-TIMEZONE:Europe/Ljubljana
END:VEVENT
BEGIN:VEVENT
SUMMARY:Kostumi za projekt Zadnja postaja (kostumografka Iris Kovačič)
DTSTART;TZID=Europe/Ljubljana:20260410T070000
DTEND;TZID=Europe/Ljubljana:20260410T200000
DTSTAMP:20260425T021403Z
UID:agrft-AFLABS-URNIK:rezervacija:5891
CATEGORIES:Reservation
COLOR:royalblue
DESCRIPTION:Predmeti: \nLetniki: \nIzvajalci: Eva Kučera Šmon\nProstori:
  Garderoba A
LOCATION:Aškerčeva 5\, Garderoba A
ORGANIZER:Eva Kučera Šmon
X-WR-TIMEZONE:Europe/Ljubljana
END:VEVENT
BEGIN:VEVENT
SUMMARY:Kostumi za projekt Zadnja postaja (kostumografka Iris Kovačič)
DTSTART;TZID=Europe/Ljubljana:20260413T070000
DTEND;TZID=Europe/Ljubljana:20260413T200000
DTSTAMP:20260425T021403Z
UID:agrft-AFLABS-URNIK:rezervacija:5892
CATEGORIES:Reservation
COLOR:royalblue
DESCRIPTION:Predmeti: \nLetniki: \nIzvajalci: Eva Kučera Šmon\nProstori:
  Garderoba A
LOCATION:Aškerčeva 5\, Garderoba A
ORGANIZER:Eva Kučera Šmon
X-WR-TIMEZONE:Europe/Ljubljana
END:VEVENT
BEGIN:VEVENT
SUMMARY:Kostumi za projekt Zadnja postaja (kostumografka Iris Kovačič)
DTSTART;TZID=Europe/Ljubljana:20260414T070000
DTEND;TZID=Europe/Ljubljana:20260414T200000
DTSTAMP:20260425T021403Z
UID:agrft-AFLABS-URNIK:rezervacija:5893
CATEGORIES:Reservation
COLOR:royalblue
DESCRIPTION:Predmeti: \nLetniki: \nIzvajalci: Eva Kučera Šmon\nProstori:
  Garderoba A
LOCATION:Aškerčeva 5\, Garderoba A
ORGANIZER:Eva Kučera Šmon
X-WR-TIMEZONE:Europe/Ljubljana
END:VEVENT
BEGIN:VEVENT
SUMMARY:Kostumi za projekt Zadnja postaja (kostumografka Iris Kovačič)
DTSTART;TZID=Europe/Ljubljana:20260415T070000
DTEND;TZID=Europe/Ljubljana:20260415T200000
DTSTAMP:20260425T021403Z
UID:agrft-AFLABS-URNIK:rezervacija:5894
CATEGORIES:Reservation
COLOR:royalblue
DESCRIPTION:Predmeti: \nLetniki: \nIzvajalci: Eva Kučera Šmon\nProstori:
  Garderoba A
LOCATION:Aškerčeva 5\, Garderoba A
ORGANIZER:Eva Kučera Šmon
X-WR-TIMEZONE:Europe/Ljubljana
END:VEVENT
BEGIN:VEVENT
SUMMARY:Kostumi za projekt Zadnja postaja (kostumografka Iris Kovačič)
DTSTART;TZID=Europe/Ljubljana:20260416T070000
DTEND;TZID=Europe/Ljubljana:20260416T200000
DTSTAMP:20260425T021403Z
UID:agrft-AFLABS-URNIK:rezervacija:5895
CATEGORIES:Reservation
COLOR:royalblue
DESCRIPTION:Predmeti: \nLetniki: \nIzvajalci: Eva Kučera Šmon\nProstori:
  Garderoba A
LOCATION:Aškerčeva 5\, Garderoba A
ORGANIZER:Eva Kučera Šmon
X-WR-TIMEZONE:Europe/Ljubljana
END:VEVENT
BEGIN:VEVENT
SUMMARY:Kostumi za projekt Zadnja postaja (kostumografka Iris Kovačič)
DTSTART;TZID=Europe/Ljubljana:20260417T070000
DTEND;TZID=Europe/Ljubljana:20260417T200000
DTSTAMP:20260425T021403Z
UID:agrft-AFLABS-URNIK:rezervacija:5896
CATEGORIES:Reservation
COLOR:royalblue
DESCRIPTION:Predmeti: \nLetniki: \nIzvajalci: Eva Kučera Šmon\nProstori:
  Garderoba A
LOCATION:Aškerčeva 5\, Garderoba A
ORGANIZER:Eva Kučera Šmon
X-WR-TIMEZONE:Europe/Ljubljana
END:VEVENT
BEGIN:VEVENT
SUMMARY:Snemanje igranih prizorov (Ibsen\, Strindberg)
DTSTART;TZID=Europe/Ljubljana:20260420T080000
DTEND;TZID=Europe/Ljubljana:20260420T180000
DTSTAMP:20260425T021403Z
UID:agrft-AFLABS-URNIK:rezervacija:5908
CATEGORIES:Reservation
COLOR:royalblue
DESCRIPTION:Predmeti: Izvedba televizijskih oddaj - FTV (ITVO [FTV])\nLetn
 iki: \nIzvajalci: Aljaž Bastič\, Marko Naberšnik\nProstori: Garderoba A
LOCATION:Aškerčeva 5\, Garderoba A
ORGANIZER:Aljaž Bastič, Marko Naberšnik
X-WR-TIMEZONE:Europe/Ljubljana
END:VEVENT
BEGIN:VEVENT
SUMMARY:Snemanje igranih prizorov (Ibsen\, Strindberg)
DTSTART;TZID=Europe/Ljubljana:20260421T080000
DTEND;TZID=Europe/Ljubljana:20260421T180000
DTSTAMP:20260425T021403Z
UID:agrft-AFLABS-URNIK:rezervacija:5909
CATEGORIES:Reservation
COLOR:royalblue
DESCRIPTION:Predmeti: Izvedba televizijskih oddaj - FTV (ITVO [FTV])\nLetn
 iki: \nIzvajalci: Aljaž Bastič\, Marko Naberšnik\nProstori: Garderoba A
LOCATION:Aškerčeva 5\, Garderoba A
ORGANIZER:Aljaž Bastič, Marko Naberšnik
X-WR-TIMEZONE:Europe/Ljubljana
END:VEVENT
BEGIN:VEVENT
SUMMARY:Snemanje igranih prizorov (Ibsen\, Strindberg)
DTSTART;TZID=Europe/Ljubljana:20260422T080000
DTEND;TZID=Europe/Ljubljana:20260422T180000
DTSTAMP:20260425T021403Z
UID:agrft-AFLABS-URNIK:rezervacija:5910
CATEGORIES:Reservation
COLOR:royalblue
DESCRIPTION:Predmeti: Izvedba televizijskih oddaj - FTV (ITVO [FTV])\nLetn
 iki: \nIzvajalci: Aljaž Bastič\, Marko Naberšnik\nProstori: Garderoba A
LOCATION:Aškerčeva 5\, Garderoba A
ORGANIZER:Aljaž Bastič, Marko Naberšnik
X-WR-TIMEZONE:Europe/Ljubljana
END:VEVENT
BEGIN:VEVENT
SUMMARY:Snemanje kader-sekvence (rež. Gaja Ribarič)
DTSTART;TZID=Europe/Ljubljana:20260413T080000
DTEND;TZID=Europe/Ljubljana:20260413T150000
DTSTAMP:20260425T021403Z
UID:agrft-AFLABS-URNIK:rezervacija:6011
ATTENDEE:DI 1 (DI 1)
ATTENDEE:FTV-R1 (FTV-R)
CATEGORIES:Reservation
COLOR:royalblue
DESCRIPTION:Predmeti: Filmska režija I - FTV (FR-I [FTV])\, Uvod v igro p
 red kamero (UIPK)\nLetniki: DI 1 (DI 1)\, FTV-R1 (FTV-R)\nIzvajalci: Sebas
 tijan Cavazza\, Martin Srebotnjak\nProstori: Garderoba A\, Garderoba B\, M
 ali studio
LOCATION:Aškerčeva 5\, Garderoba A\, Aškerčeva 5\, Garderoba B\, Aške
 rčeva 5\, Mali studio
ORGANIZER:Sebastijan Cavazza, Martin Srebotnjak
X-WR-TIMEZONE:Europe/Ljubljana
END:VEVENT
BEGIN:VEVENT
SUMMARY:Kostumska vaja FAZANKE (Kristi Komelj)
DTSTART;TZID=Europe/Ljubljana:20260420T090000
DTEND;TZID=Europe/Ljubljana:20260420T133000
DTSTAMP:20260425T021403Z
UID:agrft-AFLABS-URNIK:rezervacija:6091
CATEGORIES:Reservation
COLOR:royalblue
DESCRIPTION:Predmeti: \nLetniki: \nIzvajalci: Eva Kučera Šmon\nProstori:
  Garderoba A
LOCATION:Aškerčeva 5\, Garderoba A
ORGANIZER:Eva Kučera Šmon
X-WR-TIMEZONE:Europe/Ljubljana
END:VEVENT
END:VCALENDAR
